Workbook

Sheet Challenge 2022
A2: Nom | B2: Prénom | C2: Sexe | D2: Cat | E2: Club | F2: Triathlon de Haapiti 06/03/22 | J2: Duathlon de Kona 20/03/22 | N2: Triathlon de Puunui 03/04/22 | R2: Triathlon de Punaauia 15/05/22 | V2: Championnat Aquathlon 26/05/22. (coeff 2) | Z2: Coupe de Polynésie 26/06/22. (coeff 2) | AD2: Triathlon Gauguin 18/09/22 | AL2: Xterra Triathlon 22-23/10/22 | AP2: Aquathlon & Trikid's du CNP 29/10/22 | AT2: Triathlon des Vahinés 06/11/22 | AX2: Triathlon de Tiarei 20/11/22 | BB2: Championnat Triathlon 04/12/22. (coeff 2) | BN2: Total pts | BO2: Scra
F3: For | G3: Pla | I3: Pts | J3: For | K3: Pla | M3: Pts | N3: For | O3: Pla | Q3: Pts | R3: For | S3: Pla | U3: Pts | V3: For | W3: Pla | Y3: Pts | Z3: For | AA3: Pla | AC3: Pts | AD3: For | AE3: Pla | AG3: Pts | AH3: For | AI3: Pla | AK3: Pts | AL3: For | AM3: Pla | AO3: Pts | AP3: For | AQ3: Pla | AS3: Pts | AT3: For | AU3: Pla | AW3: Pts | AX3: For | AY3: Pla | BA3: Pts | BB3: For | BC3: Pla | BE3: Pts | BF3: Formats | BG3: Place | BH3: x | BI3: Points | BJ3: Formats | BK3: Place | BM3: Points
A4: BOURDELON | B4: Evans | C4: M | D4: MPO 2 | E4: KONA TRI TAHITI | F4: 0 | G4: 0 | H4: =(F4&G4) -> 00 | I4: =VLOOKUP(H4,'Tableau coefficient '!$A$3:$B$1004,2,FALSE) -> 0 | J4: J | K4: 10 | L4: =(J4&K4) -> J10 | M4: =VLOOKUP(L4,'Tableau coefficient '!$A$3:$B$1004,2,FALSE) -> 72.5 | N4: J | O4: 8 | P4: =(N4&O4) -> J8 | Q4: =VLOOKUP(P4,'Tableau coefficient '!$A$3:$B$1004,2,FALSE) -> 80 | R4: J | S4: 8 | T4: =(R4&S4) -> J8 | U4: =VLOOKUP(T4,'Tableau coefficient '!$A$3:$B$1004,2,FALSE) -> 80 | V4: 0 | W4: 0 | X4: =(V4&W4) -> 00 | Y4: =(VLOOKUP(X4,'Tableau coefficient '!$A$3:$B$1004,2,FALSE))*2 -> 0 | Z4: 0 | AA4: 0 | AB4: =(Z4&AA4) -> 00 | AC4: =(VLOOKUP(AB4,'Tableau coefficient '!$A$3:$B$1004,2,FALSE))*2 -> 0 | AD4: J | AE4: 13 | AF4: =(AD4&AE4) -> J13 | AG4: =VLOOKUP(AF4,'Tableau coefficient '!$A$3:$B$1004,2,FALSE) -> 65 | AH4: 0 | AI4: 0 | AJ4: =(AH4&AI4) -> 00 | AK4: =VLOOKUP(AJ4,'Tableau coefficient '!$A$3:$B$1004,2,FALSE) -> 0 | AL4: 0 | AM4: 0 | AN4: =(AL4&AM4) -> 00 | AO4: =VLOOKUP(AN4,'Tableau coefficient '!$A$3:$B$1004,2,FALSE) -> 0 | AP4: J | AQ4: 5 | AR4: =(AP4&AQ4) -> J5 | AS4: =VLOOKUP(AR4,'Tableau coefficient '!$A$3:$B$1004,2,FALSE) -> 95 | AT4: 0 | AU4: 0 | AV4: =(AT4&AU4) -> 00 | AW4: =VLOOKUP(AV4,'Tableau coefficient '!$A$3:$B$1004,2,FALSE) -> 0 | AX4: 0 | AY4: 0 | AZ4: =(AX4&AY4) -> 00 | BA4: =VLOOKUP(AZ4,'Tableau coefficient '!$A$3:$B$1004,2,FALSE) -> 0 | BB4: J | BC4: 9 | BD4: =(BB4&BC4) -> J9 | BE4: =(VLOOKUP(BD4,'Tableau coefficient '!$A$3:$B$1004,2,FALSE))*2 -> 150 | BF4: 0 | BG4: 0 | BH4: =(BF4&BG4) -> 00 | BI4: =VLOOKUP(BH4,'Tableau coefficient '!$A$3:$B$1004,2,FALSE) -> 0 | BJ4: 0 | BK4: 0 | BL4: =(BJ4&BK4) -> 00 | BM4: =VLOOKUP(BL4,'Tableau coefficient '!$A$3:$B$1004,2,FALSE) -> 0 | BN4: =SUM(M4,I4,Q4,U4,Y4,AC4,AG4,AO4,AS4,BA4,BE4,BI4,BM4) -> 542.5 | BO4: =RANK(BN4,$BN$4:$BN$446,0) -> 112
A5: ROCHE | B5: Manatea | C5: M | D5: MPO 2 | E5: AS TAMARII PUNARUU TRIATHLON | F5: 0 | G5: 0 | H5: =(F5&G5) -> 00 | I5: =VLOOKUP(H5,'Tableau coefficient '!$A$3:$B$1004,2,FALSE) -> 0 | J5: 0 | K5: 0 | L5: =(J5&K5) -> 00 | M5: =VLOOKUP(L5,'Tableau coefficient '!$A$3:$B$1004,2,FALSE) -> 0 | N5: 0 | O5: 0 | P5: =(N5&O5) -> 00 | Q5: =VLOOKUP(P5,'Tableau coefficient '!$A$3:$B$1004,2,FALSE) -> 0 | R5: 0 | S5: 0 | T5: =(R5&S5) -> 00 | U5: =VLOOKUP(T5,'Tableau coefficient '!$A$3:$B$1004,2,FALSE) -> 0 | V5: 0 | W5: 0 | X5: =(V5&W5) -> 00 | Y5: =(VLOOKUP(X5,'Tableau coefficient '!$A$3:$B$1004,2,FALSE))*2 -> 0 | Z5: 0 | AA5: 0 | AB5: =(Z5&AA5) -> 00 | AC5: =(VLOOKUP(AB5,'Tableau coefficient '!$A$3:$B$1004,2,FALSE))*2 -> 0 | AD5: J | AE5: 5 | AF5: =(AD5&AE5) -> J5 | AG5: =VLOOKUP(AF5,'Tableau coefficient '!$A$3:$B$1004,2,FALSE) -> 95 | AH5: 0 | AI5: 0 | AJ5: =(AH5&AI5) -> 00 | AK5: =VLOOKUP(AJ5,'Tableau coefficient '!$A$3:$B$1004,2,FALSE) -> 0 | AL5: 0 | AM5: 0 | AN5: =(AL5&AM5) -> 00 | AO5: =VLOOKUP(AN5,'Tableau coefficient '!$A$3:$B$1004,2,FALSE) -> 0 | AP5: J | AQ5: 7 | AR5: =(AP5&AQ5) -> J7 | AS5: =VLOOKUP(AR5,'Tableau coefficient '!$A$3:$B$1004,2,FALSE) -> 85 | AT5: 0 | AU5: 0 | AV5: =(AT5&AU5) -> 00 | AW5: =VLOOKUP(AV5,'Tableau coefficient '!$A$3:$B$1004,2,FALSE) -> 0 | AX5: 0 | AY5: 0 | AZ5: =(AX5&AY5) -> 00 | BA5: =VLOOKUP(AZ5,'Tableau coefficient '!$A$3:$B$1004,2,FALSE) -> 0 | BB5: J | BC5: 4 | BD5: =(BB5&BC5) -> J4 | BE5: =(VLOOKUP(BD5,'Tableau coefficient '!$A$3:$B$1004,2,FALSE))*2 -> 200 | BF5: 0 | BG5: 0 | BH5: =(BF5&BG5) -> 00 | BI5: =VLOOKUP(BH5,'Tableau coefficient '!$A$3:$B$1004,2,FALSE) -> 0 | BJ5: 0 | BK5: 0 | BL5: =(BJ5&BK5) -> 00 | BM5: =VLOOKUP(BL5,'Tableau coefficient '!$A$3:$B$1004,2,FALSE) -> 0 | BN5: =SUM(M5,I5,Q5,U5,Y5,AC5,AG5,AO5,AS5,BA5,BE5,BI5,BM5) -> 380 | BO5: =RANK(BN5,$BN$4:$BN$446,0) -> 162
A6: DIGONNET | B6: Naea | C6: M | D6: MPO 2 | E6: AS TAMARII PUNARUU TRIATHLON | F6: 0 | G6: 0 | H6: =(F6&G6) -> 00 | I6: =VLOOKUP(H6,'Tableau coefficient '!$A$3:$B$1004,2,FALSE) -> 0 | J6: 0 | K6: 0 | L6: =(J6&K6) -> 00 | M6: =VLOOKUP(L6,'Tableau coefficient '!$A$3:$B$1004,2,FALSE) -> 0 | N6: 0 | O6: 0 | P6: =(N6&O6) -> 00 | Q6: =VLOOKUP(P6,'Tableau coefficient '!$A$3:$B$1004,2,FALSE) -> 0 | R6: 0 | S6: 0 | T6: =(R6&S6) -> 00 | U6: =VLOOKUP(T6,'Tableau coefficient '!$A$3:$B$1004,2,FALSE) -> 0 | V6: 0 | W6: 0 | X6: =(V6&W6) -> 00 | Y6: =(VLOOKUP(X6,'Tableau coefficient '!$A$3:$B$1004,2,FALSE))*2 -> 0 | Z6: 0 | AA6: 0 | AB6: =(Z6&AA6) -> 00 | AC6: =(VLOOKUP(AB6,'Tableau coefficient '!$A$3:$B$1004,2,FALSE))*2 -> 0 | AD6: J | AE6: 11 | AF6: =(AD6&AE6) -> J11 | AG6: =VLOOKUP(AF6,'Tableau coefficient '!$A$3:$B$1004,2,FALSE) -> 70 | AH6: 0 | AI6: 0 | AJ6: =(AH6&AI6) -> 00 | AK6: =VLOOKUP(AJ6,'Tableau coefficient '!$A$3:$B$1004,2,FALSE) -> 0 | AL6: 0 | AM6: 0 | AN6: =(AL6&AM6) -> 00 | AO6: =VLOOKUP(AN6,'Tableau coefficient '!$A$3:$B$1004,2,FALSE) -> 0 | AP6: 0 | AQ6: 0 | AR6: =(AP6&AQ6) -> 00 | AS6: =VLOOKUP(AR6,'Tableau coefficient '!$A$3:$B$1004,2,FALSE) -> 0 | AT6: 0 | AU6: 0 | AV6: =(AT6&AU6) -> 00 | AW6: =VLOOKUP(AV6,'Tableau coefficient '!$A$3:$B$1004,2,FALSE) -> 0 | AX6: 0 | AY6: 0 | AZ6: =(AX6&AY6) -> 00 | BA6: =VLOOKUP(AZ6,'Tableau coefficient '!$A$3:$B$1004,2,FALSE) -> 0 | BB6: 0 | BC6: 0 | BD6: =(BB6&BC6) -> 00 | BE6: =(VLOOKUP(BD6,'Tableau coefficient '!$A$3:$B$1004,2,FALSE))*2 -> 0 | BF6: 0 | BG6: 0 | BH6: =(BF6&BG6) -> 00 | BI6: =VLOOKUP(BH6,'Tableau coefficient '!$A$3:$B$1004,2,FALSE) -> 0 | BJ6: 0 | BK6: 0 | BL6: =(BJ6&BK6) -> 00 | BM6: =VLOOKUP(BL6,'Tableau coefficient '!$A$3:$B$1004,2,FALSE) -> 0 | BN6: =SUM(M6,I6,Q6,U6,Y6,AC6,AG6,AO6,AS6,BA6,BE6,BI6,BM6) -> 70 | BO6: =RANK(BN6,$BN$4:$BN$446,0) -> 285
A7: PECUSSEAU | B7: Noa | C7: M | D7: MPO 2 | E7: CERCLE DES NAGEURS DE POLYNESIE | F7: 0 | G7: 0 | H7: =(F7&G7) -> 00 | I7: =VLOOKUP(H7,'Tableau coefficient '!$A$3:$B$1004,2,FALSE) -> 0 | J7: 0 | K7: 0 | L7: =(J7&K7) -> 00 | M7: =VLOOKUP(L7,'Tableau coefficient '!$A$3:$B$1004,2,FALSE) -> 0 | N7: 0 | O7: 0 | P7: =(N7&O7) -> 00 | Q7: =VLOOKUP(P7,'Tableau coefficient '!$A$3:$B$1004,2,FALSE) -> 0 | R7: 0 | S7: 0 | T7: =(R7&S7) -> 00 | U7: =VLOOKUP(T7,'Tableau coefficient '!$A$3:$B$1004,2,FALSE) -> 0 | V7: 0 | W7: 0 | X7: =(V7&W7) -> 00 | Y7: =(VLOOKUP(X7,'Tableau coefficient '!$A$3:$B$1004,2,FALSE))*2 -> 0 | Z7: 0 | AA7: 0 | AB7: =(Z7&AA7) -> 00 | AC7: =(VLOOKUP(AB7,'Tableau coefficient '!$A$3:$B$1004,2,FALSE))*2 -> 0 | AD7: 0 | AE7: 0 | AF7: =(AD7&AE7) -> 00 | AG7: =VLOOKUP(AF7,'Tableau coefficient '!$A$3:$B$1004,2,FALSE) -> 0 | AH7: 0 | AI7: 0 | AJ7: =(AH7&AI7) -> 00 | AK7: =VLOOKUP(AJ7,'Tableau coefficient '!$A$3:$B$1004,2,FALSE) -> 0 | AL7: 0 | AM7: 0 | AN7: =(AL7&AM7) -> 00 | AO7: =VLOOKUP(AN7,'Tableau coefficient '!$A$3:$B$1004,2,FALSE) -> 0 | AP7: J | AQ7: 10 | AR7: =(AP7&AQ7) -> J10 | AS7: =VLOOKUP(AR7,'Tableau coefficient '!$A$3:$B$1004,2,FALSE) -> 72.5 | AT7: 0 | AU7: 0 | AV7: =(AT7&AU7) -> 00 | AW7: =VLOOKUP(AV7,'Tableau coefficient '!$A$3:$B$1004,2,FALSE) -> 0 | AX7: J | AY7: 3 | AZ7: =(AX7&AY7) -> J3 | BA7: =VLOOKUP(AZ7,'Tableau coefficient '!$A$3:$B$1004,2,FALSE) -> 110 | BB7: J | BC7: 8 | BD7: =(BB7&BC7) -> J8 | BE7: =(VLOOKUP(BD7,'Tableau coefficient '!$A$3:$B$1004,2,FALSE))*2 -> 160 | BF7: 0 | BG7: 0 | BH7: =(BF7&BG7) -> 00 | BI7: =VLOOKUP(BH7,'Tableau coefficient '!$A$3:$B$1004,2,FALSE) -> 0 | BJ7: 0 | BK7: 0 | BL7: =(BJ7&BK7) -> 00 | BM7: =VLOOKUP(BL7,'Tableau coefficient '!$A$3:$B$1004,2,FALSE) -> 0 | BN7: =SUM(M7,I7,Q7,U7,Y7,AC7,AG7,AO7,AS7,BA7,BE7,BI7,BM7) -> 342.5 | BO7: =RANK(BN7,$BN$4:$BN$446,0) -> 169
A8: ROGUES | B8: Marcelo | C8: M | D8: MPO 2 | E8: FEI PI TRIATHLON | F8: 0 | G8: 0 | H8: =(F8&G8) -> 00 | I8: =VLOOKUP(H8,'Tableau coefficient '!$A$3:$B$1004,2,FALSE) -> 0 | J8: 0 | K8: 0 | L8: =(J8&K8) -> 00 | M8: =VLOOKUP(L8,'Tableau coefficient '!$A$3:$B$1004,2,FALSE) -> 0 | N8: 0 | O8: 0 | P8: =(N8&O8) -> 00 | Q8: =VLOOKUP(P8,'Tableau coefficient '!$A$3:$B$1004,2,FALSE) -> 0 | R8: 0 | S8: 0 | T8: =(R8&S8) -> 00 | U8: =VLOOKUP(T8,'Tableau coefficient '!$A$3:$B$1004,2,FALSE) -> 0 | V8: 0 | W8: 0 | X8: =(V8&W8) -> 00 | Y8: =(VLOOKUP(X8,'Tableau coefficient '!$A$3:$B$1004,2,FALSE))*2 -> 0 | Z8: 0 | AA8: 0 | AB8: =(Z8&AA8) -> 00 | AC8: =(VLOOKUP(AB8,'Tableau coefficient '!$A$3:$B$1004,2,FALSE))*2 -> 0 | AD8: 0 | AE8: 0 | AF8: =(AD8&AE8) -> 00 | AG8: =VLOOKUP(AF8,'Tableau coefficient '!$A$3:$B$1004,2,FALSE) -> 0 | AH8: 0 | AI8: 0 | AJ8: =(AH8&AI8) -> 00 | AK8: =VLOOKUP(AJ8,'Tableau coefficient '!$A$3:$B$1004,2,FALSE) -> 0 | AL8: 0 | AM8: 0 | AN8: =(AL8&AM8) -> 00 | AO8: =VLOOKUP(AN8,'Tableau coefficient '!$A$3:$B$1004,2,FALSE) -> 0 | AP8: J | AQ8: 15 | AR8: =(AP8&AQ8) -> J15 | AS8: =VLOOKUP(AR8,'Tableau coefficient '!$A$3:$B$1004,2,FALSE) -> 64 | AT8: 0 | AU8: 0 | AV8: =(AT8&AU8) -> 00 | AW8: =VLOOKUP(AV8,'Tableau coefficient '!$A$3:$B$1004,2,FALSE) -> 0 | AX8: J | AY8: 8 | AZ8: =(AX8&AY8) -> J8 | BA8: =VLOOKUP(AZ8,'Tableau coefficient '!$A$3:$B$1004,2,FALSE) -> 80 | BB8: J | BC8: 17 | BD8: =(BB8&BC8) -> J17 | BE8: =(VLOOKUP(BD8,'Tableau coefficient '!$A$3:$B$1004,2,FALSE))*2 -> 126 | BF8: 0 | BG8: 0 | BH8: =(BF8&BG8) -> 00 | BI8: =VLOOKUP(BH8,'Tableau coefficient '!$A$3:$B$1004,2,FALSE) -> 0 | BJ8: 0 | BK8: 0 | BL8: =(BJ8&BK8) -> 00 | BM8: =VLOOKUP(BL8,'Tableau coefficient '!$A$3:$B$1004,2,FALSE) -> 0 | BN8: =SUM(M8,I8,Q8,U8,Y8,AC8,AG8,AO8,AS8,BA8,BE8,BI8,BM8) -> 270 | BO8: =RANK(BN8,$BN$4:$BN$446,0) -> 193
A9: PICARD | B9: Lilian | C9: M | D9: MPO 1 | E9: AS TAMARII PUNARUU TRIATHLON | F9: 0 | G9: 0 | H9: =(F9&G9) -> 00 | I9: =VLOOKUP(H9,'Tableau coefficient '!$A$3:$B$1004,2,FALSE) -> 0 | J9: 0 | K9: 0 | L9: =(J9&K9) -> 00 | M9: =VLOOKUP(L9,'Tableau coefficient '!$A$3:$B$1004,2,FALSE) -> 0 | N9: 0 | O9: 0 | P9: =(N9&O9) -> 00 | Q9: =VLOOKUP(P9,'Tableau coefficient '!$A$3:$B$1004,2,FALSE) -> 0 | R9: 0 | S9: 0 | T9: =(R9&S9) -> 00 | U9: =VLOOKUP(T9,'Tableau coefficient '!$A$3:$B$1004,2,FALSE) -> 0 | V9: 0 | W9: 0 | X9: =(V9&W9) -> 00 | Y9: =(VLOOKUP(X9,'Tableau coefficient '!$A$3:$B$1004,2,FALSE))*2 -> 0 | Z9: 0 | AA9: 0 | AB9: =(Z9&AA9) -> 00 | AC9: =(VLOOKUP(AB9,'Tableau coefficient '!$A$3:$B$1004,2,FALSE))*2 -> 0 | AD9: 0 | AE9: 0 | AF9: =(AD9&AE9) -> 00 | AG9: =VLOOKUP(AF9,'Tableau coefficient '!$A$3:$B$1004,2,FALSE) -> 0 | AH9: 0 | AI9: 0 | AJ9: =(AH9&AI9) -> 00 | AK9: =VLOOKUP(AJ9,'Tableau coefficient '!$A$3:$B$1004,2,FALSE) -> 0 | AL9: 0 | AM9: 0 | AN9: =(AL9&AM9) -> 00 | AO9: =VLOOKUP(AN9,'Tableau coefficient '!$A$3:$B$1004,2,FALSE) -> 0 | AP9: 0 | AQ9: 0 | AR9: =(AP9&AQ9) -> 00 | AS9: =VLOOKUP(AR9,'Tableau coefficient '!$A$3:$B$1004,2,FALSE) -> 0 | AT9: 0 | AU9: 0 | AV9: =(AT9&AU9) -> 00 | AW9: =VLOOKUP(AV9,'Tableau coefficient '!$A$3:$B$1004,2,FALSE) -> 0 | AX9: 0 | AY9: 0 | AZ9: =(AX9&AY9) -> 00 | BA9: =VLOOKUP(AZ9,'Tableau coefficient '!$A$3:$B$1004,2,FALSE) -> 0 | BB9: J | BC9: 19 | BD9: =(BB9&BC9) -> J19 | BE9: =(VLOOKUP(BD9,'Tableau coefficient '!$A$3:$B$1004,2,FALSE))*2 -> 124 | BF9: 0 | BG9: 0 | BH9: =(BF9&BG9) -> 00 | BI9: =VLOOKUP(BH9,'Tableau coefficient '!$A$3:$B$1004,2,FALSE) -> 0 | BJ9: 0 | BK9: 0 | BL9: =(BJ9&BK9) -> 00 | BM9: =VLOOKUP(BL9,'Tableau coefficient '!$A$3:$B$1004,2,FALSE) -> 0 | BN9: =SUM(M9,I9,Q9,U9,Y9,AC9,AG9,AO9,AS9,BA9,BE9,BI9,BM9) -> 124 | BO9: =RANK(BN9,$BN$4:$BN$446,0) -> 266
A10: POULAIN | B10: Toakai | C10: M | D10: MPO 2 | E10: MARARA TRI | F10: 0 | G10: 0 | H10: =(F10&G10) -> 00 | I10: =VLOOKUP(H10,'Tableau coefficient '!$A$3:$B$1004,2,FALSE) -> 0 | J10: 0 | K10: 0 | L10: =(J10&K10) -> 00 | M10: =VLOOKUP(L10,'Tableau coefficient '!$A$3:$B$1004,2,FALSE) -> 0 | N10: 0 | O10: 0 | P10: =(N10&O10) -> 00 | Q10: =VLOOKUP(P10,'Tableau coefficient '!$A$3:$B$1004,2,FALSE) -> 0 | R10: 0 | S10: 0 | T10: =(R10&S10) -> 00 | U10: =VLOOKUP(T10,'Tableau coefficient '!$A$3:$B$1004,2,FALSE) -> 0 | V10: 0 | W10: 0 | X10: =(V10&W10) -> 00 | Y10: =(VLOOKUP(X10,'Tableau coefficient '!$A$3:$B$1004,2,FALSE))*2 -> 0 | Z10: 0 | AA10: 0 | AB10: =(Z10&AA10) -> 00 | AC10: =(VLOOKUP(AB10,'Tableau coefficient '!$A$3:$B$1004,2,FALSE))*2 -> 0 | AD10: 0 | AE10: 0 | AF10: =(AD10&AE10) -> 00 | AG10: =VLOOKUP(AF10,'Tableau coefficient '!$A$3:$B$1004,2,FALSE) -> 0 | AH10: 0 | AI10: 0 | AJ10: =(AH10&AI10) -> 00 | AK10: =VLOOKUP(AJ10,'Tableau coefficient '!$A$3:$B$1004,2,FALSE) -> 0 | AL10: 0 | AM10: 0 | AN10: =(AL10&AM10) -> 00 | AO10: =VLOOKUP(AN10,'Tableau coefficient '!$A$3:$B$1004,2,FALSE) -> 0 | AP10: 0 | AQ10: 0 | AR10: =(AP10&AQ10) -> 00 | AS10: =VLOOKUP(AR10,'Tableau coefficient '!$A$3:$B$1004,2,FALSE) -> 0 | AT10: 0 | AU10: 0 | AV10: =(AT10&AU10) -> 00 | AW10: =VLOOKUP(AV10,'Tableau coefficient '!$A$3:$B$1004,2,FALSE) -> 0 | AX10: J | AY10: 7 | AZ10: =(AX10&AY10) -> J7 | BA10: =VLOOKUP(AZ10,'Tableau coefficient '!$A$3:$B$1004,2,FALSE) -> 85 | BB10: 0 | BC10: 0 | BD10: =(BB10&BC10) -> 00 | BE10: =(VLOOKUP(BD10,'Tableau coefficient '!$A$3:$B$1004,2,FALSE))*2 -> 0 | BF10: 0 | BG10: 0 | BH10: =(BF10&BG10) -> 00 | BI10: =VLOOKUP(BH10,'Tableau coefficient '!$A$3:$B$1004,2,FALSE) -> 0 | BJ10: 0 | BK10: 0 | BL10: =(BJ10&BK10) -> 00 | BM10: =VLOOKUP(BL10,'Tableau coefficient '!$A$3:$B$1004,2,FALSE) -> 0 | BN10: =SUM(M10,I10,Q10,U10,Y10,AC10,AG10,AO10,AS10,BA10,BE10,BI10,BM10) -> 85 | BO10: =RANK(BN10,$BN$4:$BN$446,0) -> 276
A11: FOUCAULD | B11: Nicolas | C11: M | D11: MPO 1 | E11: FEI PI TRIATHLON | F11: 0 | G11: 0 | H11: =(F11&G11) -> 00 | I11: =VLOOKUP(H11,'Tableau coefficient '!$A$3:$B$1004,2,FALSE) -> 0 | J11: 0 | K11: 0 | L11: =(J11&K11) -> 00 | M11: =VLOOKUP(L11,'Tableau coefficient '!$A$3:$B$1004,2,FALSE) -> 0 | N11: 0 | O11: 0 | P11: =(N11&O11) -> 00 | Q11: =VLOOKUP(P11,'Tableau coefficient '!$A$3:$B$1004,2,FALSE) -> 0 | R11: 0 | S11: 0 | T11: =(R11&S11) -> 00 | U11: =VLOOKUP(T11,'Tableau coefficient '!$A$3:$B$1004,2,FALSE) -> 0 | V11: 0 | W11: 0 | X11: =(V11&W11) -> 00 | Y11: =(VLOOKUP(X11,'Tableau coefficient '!$A$3:$B$1004,2,FALSE))*2 -> 0 | Z11: 0 | AA11: 0 | AB11: =(Z11&AA11) -> 00 | AC11: =(VLOOKUP(AB11,'Tableau coefficient '!$A$3:$B$1004,2,FALSE))*2 -> 0 | AD11: 0 | AE11: 0 | AF11: =(AD11&AE11) -> 00 | AG11: =VLOOKUP(AF11,'Tableau coefficient '!$A$3:$B$1004,2,FALSE) -> 0 | AH11: 0 | AI11: 0 | AJ11: =(AH11&AI11) -> 00 | AK11: =VLOOKUP(AJ11,'Tableau coefficient '!$A$3:$B$1004,2,FALSE) -> 0 | AL11: 0 | AM11: 0 | AN11: =(AL11&AM11) -> 00 | AO11: =VLOOKUP(AN11,'Tableau coefficient '!$A$3:$B$1004,2,FALSE) -> 0 | AP11: 0 | AQ11: 0 | AR11: =(AP11&AQ11) -> 00 | AS11: =VLOOKUP(AR11,'Tableau coefficient '!$A$3:$B$1004,2,FALSE) -> 0 | AT11: 0 | AU11: 0 | AV11: =(AT11&AU11) -> 00 | AW11: =VLOOKUP(AV11,'Tableau coefficient '!$A$3:$B$1004,2,FALSE) -> 0 | AX11: 0 | AY11: 0 | AZ11: =(AX11&AY11) -> 00 | BA11: =VLOOKUP(AZ11,'Tableau coefficient '!$A$3:$B$1004,2,FALSE) -> 0 | BB11: J | BC11: 16 | BD11: =(BB11&BC11) -> J16 | BE11: =(VLOOKUP(BD11,'Tableau coefficient '!$A$3:$B$1004,2,FALSE))*2 -> 127 | BF11: 0 | BG11: 0 | BH11: =(BF11&BG11) -> 00 | BI11: =VLOOKUP(BH11,'Tableau coefficient '!$A$3:$B$1004,2,FALSE) -> 0 | BJ11: 0 | BK11: 0 | BL11: =(BJ11&BK11) -> 00 | BM11: =VLOOKUP(BL11,'Tableau coefficient '!$A$3:$B$1004,2,FALSE) -> 0 | BN11: =SUM(M11,I11,Q11,U11,Y11,AC11,AG11,AO11,AS11,BA11,BE11,BI11,BM11) -> 127 | BO11: =RANK(BN11,$BN$4:$BN$446,0) -> 264
A12: MIKOU | B12: Maia | C12: F | D12: MPO 2 | E12: KONA TRI TAHITI | F12: 0 | G12: 0 | H12: =(F12&G12) -> 00 | I12: =VLOOKUP(H12,'Tableau coefficient '!$A$3:$B$1004,2,FALSE) -> 0 | J12: 0 | K12: 0 | L12: =(J12&K12) -> 00 | M12: =VLOOKUP(L12,'Tableau coefficient '!$A$3:$B$1004,2,FALSE) -> 0 | N12: 0 | O12: 0 | P12: =(N12&O12) -> 00 | Q12: =VLOOKUP(P12,'Tableau coefficient '!$A$3:$B$1004,2,FALSE) -> 0 | R12: 0 | S12: 0 | T12: =(R12&S12) -> 00 | U12: =VLOOKUP(T12,'Tableau coefficient '!$A$3:$B$1004,2,FALSE) -> 0 | V12: 0 | W12: 0 | X12: =(V12&W12) -> 00 | Y12: =(VLOOKUP(X12,'Tableau coefficient '!$A$3:$B$1004,2,FALSE))*2 -> 0 | Z12: 0 | AA12: 0 | AB12: =(Z12&AA12) -> 00 | AC12: =(VLOOKUP(AB12,'Tableau coefficient '!$A$3:$B$1004,2,FALSE))*2 -> 0 | AD12: J | AE12: 15 | AF12: =(AD12&AE12) -> J15 | AG12: =VLOOKUP(AF12,'Tableau coefficient '!$A$3:$B$1004,2,FALSE) -> 64 | AH12: 0 | AI12: 0 | AJ12: =(AH12&AI12) -> 00 | AK12: =VLOOKUP(AJ12,'Tableau coefficient '!$A$3:$B$1004,2,FALSE) -> 0 | AL12: 0 | AM12: 0 | AN12: =(AL12&AM12) -> 00 | AO12: =VLOOKUP(AN12,'Tableau coefficient '!$A$3:$B$1004,2,FALSE) -> 0 | AP12: 0 | AQ12: 0 | AR12: =(AP12&AQ12) -> 00 | AS12: =VLOOKUP(AR12,'Tableau coefficient '!$A$3:$B$1004,2,FALSE) -> 0 | AT12: 0 | AU12: 0 | AV12: =(AT12&AU12) -> 00 | AW12: =VLOOKUP(AV12,'Tableau coefficient '!$A$3:$B$1004,2,FALSE) -> 0 | AX12: J | AY12: 10 | AZ12: =(AX12&AY12) -> J10 | BA12: =VLOOKUP(AZ12,'Tableau coefficient '!$A$3:$B$1004,2,FALSE) -> 72.5 | BB12: J | BC12: 18 | BD12: =(BB12&BC12) -> J18 | BE12: =(VLOOKUP(BD12,'Tableau coefficient '!$A$3:$B$1004,2,FALSE))*2 -> 125 | BF12: 0 | BG12: 0 | BH12: =(BF12&BG12) -> 00 | BI12: =VLOOKUP(BH12,'Tableau coefficient '!$A$3:$B$1004,2,FALSE) -> 0 | BJ12: 0 | BK12: 0 | BL12: =(BJ12&BK12) -> 00 | BM12: =VLOOKUP(BL12,'Tableau coefficient '!$A$3:$B$1004,2,FALSE) -> 0 | BN12: =SUM(M12,I12,Q12,U12,Y12,AC12,AG12,AO12,AS12,BA12,BE12,BI12,BM12) -> 261.5 | BO12: =RANK(BN12,$BN$4:$BN$446,0) -> 198
A13: TENIARAHI | B13: Ravahau | C13: F | D13: MPO 1 | E13: VSOP MOZTEAM | F13: 0 | G13: 0 | H13: =(F13&G13) -> 00 | I13: =VLOOKUP(H13,'Tableau coefficient '!$A$3:$B$1004,2,FALSE) -> 0 | J13: 0 | K13: 0 | L13: =(J13&K13) -> 00 | M13: =VLOOKUP(L13,'Tableau coefficient '!$A$3:$B$1004,2,FALSE) -> 0 | N13: 0 | O13: 0 | P13: =(N13&O13) -> 00 | Q13: =VLOOKUP(P13,'Tableau coefficient '!$A$3:$B$1004,2,FALSE) -> 0 | R13: 0 | S13: 0 | T13: =(R13&S13) -> 00 | U13: =VLOOKUP(T13,'Tableau coefficient '!$A$3:$B$1004,2,FALSE) -> 0 | V13: 0 | W13: 0 | X13: =(V13&W13) -> 00 | Y13: =(VLOOKUP(X13,'Tableau coefficient '!$A$3:$B$1004,2,FALSE))*2 -> 0 | Z13: 0 | AA13: 0 | AB13: =(Z13&AA13) -> 00 | AC13: =(VLOOKUP(AB13,'Tableau coefficient '!$A$3:$B$1004,2,FALSE))*2 -> 0 | AD13: J | AE13: 17 | AF13: =(AD13&AE13) -> J17 | AG13: =VLOOKUP(AF13,'Tableau coefficient '!$A$3:$B$1004,2,FALSE) -> 63 | AH13: 0 | AI13: 0 | AJ13: =(AH13&AI13) -> 00 | AK13: =VLOOKUP(AJ13,'Tableau coefficient '!$A$3:$B$1004,2,FALSE) -> 0 | AL13: 0 | AM13: 0 | AN13: =(AL13&AM13) -> 00 | AO13: =VLOOKUP(AN13,'Tableau coefficient '!$A$3:$B$1004,2,FALSE) -> 0 | AP13: 0 | AQ13: 0 | AR13: =(AP13&AQ13) -> 00 | AS13: =VLOOKUP(AR13,'Tableau coefficient '!$A$3:$B$1004,2,FALSE) -> 0 | AT13: 0 | AU13: 0 | AV13: =(AT13&AU13) -> 00 | AW13: =VLOOKUP(AV13,'Tableau coefficient '!$A$3:$B$1004,2,FALSE) -> 0 | AX13: J | AY13: 12 | AZ13: =(AX13&AY13) -> J12 | BA13: =VLOOKUP(AZ13,'Tableau coefficient '!$A$3:$B$1004,2,FALSE) -> 67.5 | BB13: 0 | BC13: 0 | BD13: =(BB13&BC13) -> 00 | BE13: =(VLOOKUP(BD13,'Tableau coefficient '!$A$3:$B$1004,2,FALSE))*2 -> 0 | BF13: 0 | BG13: 0 | BH13: =(BF13&BG13) -> 00 | BI13: =VLOOKUP(BH13,'Tableau coefficient '!$A$3:$B$1004,2,FALSE) -> 0 | BJ13: 0 | BK13: 0 | BL13: =(BJ13&BK13) -> 00 | BM13: =VLOOKUP(BL13,'Tableau coefficient '!$A$3:$B$1004,2,FALSE) -> 0 | BN13: =SUM(M13,I13,Q13,U13,Y13,AC13,AG13,AO13,AS13,BA13,BE13,BI13,BM13) -> 130.5 | BO13: =RANK(BN13,$BN$4:$BN$446,0) -> 261
A14: BOURDELON | B14: Alixia | C14: F | D14: MPO 1 | E14: KONA TRI TAHITI | F14: 0 | G14: 0 | H14: =(F14&G14) -> 00 | I14: =VLOOKUP(H14,'Tableau coefficient '!$A$3:$B$1004,2,FALSE) -> 0 | J14: 0 | K14: 0 | L14: =(J14&K14) -> 00 | M14: =VLOOKUP(L14,'Tableau coefficient '!$A$3:$B$1004,2,FALSE) -> 0 | N14: 0 | O14: 0 | P14: =(N14&O14) -> 00 | Q14: =VLOOKUP(P14,'Tableau coefficient '!$A$3:$B$1004,2,FALSE) -> 0 | R14: 0 | S14: 0 | T14: =(R14&S14) -> 00 | U14: =VLOOKUP(T14,'Tableau coefficient '!$A$3:$B$1004,2,FALSE) -> 0 | V14: 0 | W14: 0 | X14: =(V14&W14) -> 00 | Y14: =(VLOOKUP(X14,'Tableau coefficient '!$A$3:$B$1004,2,FALSE))*2 -> 0 | Z14: 0 | AA14: 0 | AB14: =(Z14&AA14) -> 00 | AC14: =(VLOOKUP(AB14,'Tableau coefficient '!$A$3:$B$1004,2,FALSE))*2 -> 0 | AD14: J | AE14: 19 | AF14: =(AD14&AE14) -> J19 | AG14: =VLOOKUP(AF14,'Tableau coefficient '!$A$3:$B$1004,2,FALSE) -> 62 | AH14: 0 | AI14: 0 | AJ14: =(AH14&AI14) -> 00 | AK14: =VLOOKUP(AJ14,'Tableau coefficient '!$A$3:$B$1004,2,FALSE) -> 0 | AL14: 0 | AM14: 0 | AN14: =(AL14&AM14) -> 00 | AO14: =VLOOKUP(AN14,'Tableau coefficient '!$A$3:$B$1004,2,FALSE) -> 0 | AP14: J | AQ14: 18 | AR14: =(AP14&AQ14) -> J18 | AS14: =VLOOKUP(AR14,'Tableau coefficient '!$A$3:$B$1004,2,FALSE) -> 62.5 | AT14: 0 | AU14: 0 | AV14: =(AT14&AU14) -> 00 | AW14: =VLOOKUP(AV14,'Tableau coefficient '!$A$3:$B$1004,2,FALSE) -> 0 | AX14: 0 | AY14: 0 | AZ14: =(AX14&AY14) -> 00 | BA14: =VLOOKUP(AZ14,'Tableau coefficient '!$A$3:$B$1004,2,FALSE) -> 0 | BB14: J | BC14: 22 | BD14: =(BB14&BC14) -> J22 | BE14: =(VLOOKUP(BD14,'Tableau coefficient '!$A$3:$B$1004,2,FALSE))*2 -> 121 | BF14: 0 | BG14: 0 | BH14: =(BF14&BG14) -> 00 | BI14: =VLOOKUP(BH14,'Tableau coefficient '!$A$3:$B$1004,2,FALSE) -> 0 | BJ14: 0 | BK14: 0 | BL14: =(BJ14&BK14) -> 00 | BM14: =VLOOKUP(BL14,'Tableau coefficient '!$A$3:$B$1004,2,FALSE) -> 0 | BN14: =SUM(M14,I14,Q14,U14,Y14,AC14,AG14,AO14,AS14,BA14,BE14,BI14,BM14) -> 245.5 | BO14: =RANK(BN14,$BN$4:$BN$446,0) -> 211
A15: LE GUISQUET | B15: Elea | C15: F | D15: MPO 2 | E15: MARARA TRI | F15: 0 | G15: 0 | H15: =(F15&G15) -> 00 | I15: =VLOOKUP(H15,'Tableau coefficient '!$A$3:$B$1004,2,FALSE) -> 0 | J15: 0 | K15: 0 | L15: =(J15&K15) -> 00 | M15: =VLOOKUP(L15,'Tableau coefficient '!$A$3:$B$1004,2,FALSE) -> 0 | N15: 0 | O15: 0 | P15: =(N15&O15) -> 00 | Q15: =VLOOKUP(P15,'Tableau coefficient '!$A$3:$B$1004,2,FALSE) -> 0 | R15: 0 | S15: 0 | T15: =(R15&S15) -> 00 | U15: =VLOOKUP(T15,'Tableau coefficient '!$A$3:$B$1004,2,FALSE) -> 0 | V15: 0 | W15: 0 | X15: =(V15&W15) -> 00 | Y15: =(VLOOKUP(X15,'Tableau coefficient '!$A$3:$B$1004,2,FALSE))*2 -> 0 | Z15: 0 | AA15: 0 | AB15: =(Z15&AA15) -> 00 | AC15: =(VLOOKUP(AB15,'Tableau coefficient '!$A$3:$B$1004,2,FALSE))*2 -> 0 | AD15: 0 | AE15: 0 | AF15: =(AD15&AE15) -> 00 | AG15: =VLOOKUP(AF15,'Tableau coefficient '!$A$3:$B$1004,2,FALSE) -> 0 | AH15: 0 | AI15: 0 | AJ15: =(AH15&AI15) -> 00 | AK15: =VLOOKUP(AJ15,'Tableau coefficient '!$A$3:$B$1004,2,FALSE) -> 0 | AL15: 0 | AM15: 0 | AN15: =(AL15&AM15) -> 00 | AO15: =VLOOKUP(AN15,'Tableau coefficient '!$A$3:$B$1004,2,FALSE) -> 0 | AP15: J | AQ15: 17 | AR15: =(AP15&AQ15) -> J17 | AS15: =VLOOKUP(AR15,'Tableau coefficient '!$A$3:$B$1004,2,FALSE) -> 63 | AT15: 0 | AU15: 0 | AV15: =(AT15&AU15) -> 00 | AW15: =VLOOKUP(AV15,'Tableau coefficient '!$A$3:$B$1004,2,FALSE) -> 0 | AX15: 0 | AY15: 0 | AZ15: =(AX15&AY15) -> 00 | BA15: =VLOOKUP(AZ15,'Tableau coefficient '!$A$3:$B$1004,2,FALSE) -> 0 | BB15: J | BC15: 20 | BD15: =(BB15&BC15) -> J20 | BE15: =(VLOOKUP(BD15,'Tableau coefficient '!$A$3:$B$1004,2,FALSE))*2 -> 123 | BF15: 0 | BG15: 0 | BH15: =(BF15&BG15) -> 00 | BI15: =VLOOKUP(BH15,'Tableau coefficient '!$A$3:$B$1004,2,FALSE) -> 0 | BJ15: 0 | BK15: 0 | BL15: =(BJ15&BK15) -> 00 | BM15: =VLOOKUP(BL15,'Tableau coefficient '!$A$3:$B$1004,2,FALSE) -> 0 | BN15: =SUM(M15,I15,Q15,U15,Y15,AC15,AG15,AO15,AS15,BA15,BE15,BI15,BM15) -> 186 | BO15: =RANK(BN15,$BN$4:$BN$446,0) -> 236
A16: GUYOT | B16: Shane | C16: M | D16: PO 2 | E16: CERCLE DES NAGEURS DE POLYNESIE | F16: 0 | G16: 0 | H16: =(F16&G16) -> 00 | I16: =VLOOKUP(H16,'Tableau coefficient '!$A$3:$B$1004,2,FALSE) -> 0 | J16: 0 | K16: 0 | L16: =(J16&K16) -> 00 | M16: =VLOOKUP(L16,'Tableau coefficient '!$A$3:$B$1004,2,FALSE) -> 0 | N16: 0 | O16: 0 | P16: =(N16&O16) -> 00 | Q16: =VLOOKUP(P16,'Tableau coefficient '!$A$3:$B$1004,2,FALSE) -> 0 | R16: 0 | S16: 0 | T16: =(R16&S16) -> 00 | U16: =VLOOKUP(T16,'Tableau coefficient '!$A$3:$B$1004,2,FALSE) -> 0 | V16: 0 | W16: 0 | X16: =(V16&W16) -> 00 | Y16: =(VLOOKUP(X16,'Tableau coefficient '!$A$3:$B$1004,2,FALSE))*2 -> 0 | Z16: 0 | AA16: 0 | AB16: =(Z16&AA16) -> 00 | AC16: =(VLOOKUP(AB16,'Tableau coefficient '!$A$3:$B$1004,2,FALSE))*2 -> 0 | AD16: 0 | AE16: 0 | AF16: =(AD16&AE16) -> 00 | AG16: =VLOOKUP(AF16,'Tableau coefficient '!$A$3:$B$1004,2,FALSE) -> 0 | AH16: 0 | AI16: 0 | AJ16: =(AH16&AI16) -> 00 | AK16: =VLOOKUP(AJ16,'Tableau coefficient '!$A$3:$B$1004,2,FALSE) -> 0 | AL16: 0 | AM16: 0 | AN16: =(AL16&AM16) -> 00 | AO16: =VLOOKUP(AN16,'Tableau coefficient '!$A$3:$B$1004,2,FALSE) -> 0 | AP16: 0 | AQ16: 0 | AR16: =(AP16&AQ16) -> 00 | AS16: =VLOOKUP(AR16,'Tableau coefficient '!$A$3:$B$1004,2,FALSE) -> 0 | AT16: 0 | AU16: 0 | AV16: =(AT16&AU16) -> 00 | AW16: =VLOOKUP(AV16,'Tableau coefficient '!$A$3:$B$1004,2,FALSE) -> 0 | AX16: J | AY16: 26 | AZ16: =(AX16&AY16) -> J26 | BA16: =VLOOKUP(AZ16,'Tableau coefficient '!$A$3:$B$1004,2,FALSE) -> 58.5 | BB16: J | BC16: 20 | BD16: =(BB16&BC16) -> J20 | BE16: =(VLOOKUP(BD16,'Tableau coefficient '!$A$3:$B$1004,2,FALSE))*2 -> 123 | BF16: 0 | BG16: 0 | BH16: =(BF16&BG16) -> 00 | BI16: =VLOOKUP(BH16,'Tableau coefficient '!$A$3:$B$1004,2,FALSE) -> 0 | BJ16: 0 | BK16: 0 | BL16: =(BJ16&BK16) -> 00 | BM16: =VLOOKUP(BL16,'Tableau coefficient '!$A$3:$B$1004,2,FALSE) -> 0 | BN16: =SUM(M16,I16,Q16,U16,Y16,AC16,AG16,AO16,AS16,BA16,BE16,BI16,BM16) -> 181.5 | BO16: =RANK(BN16,$BN$4:$BN$446,0) -> 239
A17: CHAN UHRIG | B17: Mahainui | C17: M | D17: PO 1 | E17: KONA TRI TAHITI | F17: 0 | G17: 0 | H17: =(F17&G17) -> 00 | I17: =VLOOKUP(H17,'Tableau coefficient '!$A$3:$B$1004,2,FALSE) -> 0 | J17: 0 | K17: 0 | L17: =(J17&K17) -> 00 | M17: =VLOOKUP(L17,'Tableau coefficient '!$A$3:$B$1004,2,FALSE) -> 0 | N17: 0 | O17: 0 | P17: =(N17&O17) -> 00 | Q17: =VLOOKUP(P17,'Tableau coefficient '!$A$3:$B$1004,2,FALSE) -> 0 | R17: 0 | S17: 0 | T17: =(R17&S17) -> 00 | U17: =VLOOKUP(T17,'Tableau coefficient '!$A$3:$B$1004,2,FALSE) -> 0 | V17: 0 | W17: 0 | X17: =(V17&W17) -> 00 | Y17: =(VLOOKUP(X17,'Tableau coefficient '!$A$3:$B$1004,2,FALSE))*2 -> 0 | Z17: 0 | AA17: 0 | AB17: =(Z17&AA17) -> 00 | AC17: =(VLOOKUP(AB17,'Tableau coefficient '!$A$3:$B$1004,2,FALSE))*2 -> 0 | AD17: 0 | AE17: 0 | AF17: =(AD17&AE17) -> 00 | AG17: =VLOOKUP(AF17,'Tableau coefficient '!$A$3:$B$1004,2,FALSE) -> 0 | AH17: 0 | AI17: 0 | AJ17: =(AH17&AI17) -> 00 | AK17: =VLOOKUP(AJ17,'Tableau coefficient '!$A$3:$B$1004,2,FALSE) -> 0 | AL17: 0 | AM17: 0 | AN17: =(AL17&AM17) -> 00 | AO17: =VLOOKUP(AN17,'Tableau coefficient '!$A$3:$B$1004,2,FALSE) -> 0 | AP17: J | AQ17: 16 | AR17: =(AP17&AQ17) -> J16 | AS17: =VLOOKUP(AR17,'Tableau coefficient '!$A$3:$B$1004,2,FALSE) -> 63.5 | AT17: 0 | AU17: 0 | AV17: =(AT17&AU17) -> 00 | AW17: =VLOOKUP(AV17,'Tableau coefficient '!$A$3:$B$1004,2,FALSE) -> 0 | AX17: 0 | AY17: 0 | AZ17: =(AX17&AY17) -> 00 | BA17: =VLOOKUP(AZ17,'Tableau coefficient '!$A$3:$B$1004,2,FALSE) -> 0 | BB17: 0 | BC17: 0 | BD17: =(BB17&BC17) -> 00 | BE17: =(VLOOKUP(BD17,'Tableau coefficient '!$A$3:$B$1004,2,FALSE))*2 -> 0 | BF17: 0 | BG17: 0 | BH17: =(BF17&BG17) -> 00 | BI17: =VLOOKUP(BH17,'Tableau coefficient '!$A$3:$B$1004,2,FALSE) -> 0 | BJ17: 0 | BK17: 0 | BL17: =(BJ17&BK17) -> 00 | BM17: =VLOOKUP(BL17,'Tableau coefficient '!$A$3:$B$1004,2,FALSE) -> 0 | BN17: =SUM(M17,I17,Q17,U17,Y17,AC17,AG17,AO17,AS17,BA17,BE17,BI17,BM17) -> 63.5 | BO17: =RANK(BN17,$BN$4:$BN$446,0) -> 288
A18: RICHMOND | B18: Nautai | C18: M | D18: PO 1 | E18: MARARA TRI | F18: 0 | G18: 0 | H18: =(F18&G18) -> 00 | I18: =VLOOKUP(H18,'Tableau coefficient '!$A$3:$B$1004,2,FALSE) -> 0 | J18: 0 | K18: 0 | L18: =(J18&K18) -> 00 | M18: =VLOOKUP(L18,'Tableau coefficient '!$A$3:$B$1004,2,FALSE) -> 0 | N18: 0 | O18: 0 | P18: =(N18&O18) -> 00 | Q18: =VLOOKUP(P18,'Tableau coefficient '!$A$3:$B$1004,2,FALSE) -> 0 | R18: 0 | S18: 0 | T18: =(R18&S18) -> 00 | U18: =VLOOKUP(T18,'Tableau coefficient '!$A$3:$B$1004,2,FALSE) -> 0 | V18: 0 | W18: 0 | X18: =(V18&W18) -> 00 | Y18: =(VLOOKUP(X18,'Tableau coefficient '!$A$3:$B$1004,2,FALSE))*2 -> 0 | Z18: 0 | AA18: 0 | AB18: =(Z18&AA18) -> 00 | AC18: =(VLOOKUP(AB18,'Tableau coefficient '!$A$3:$B$1004,2,FALSE))*2 -> 0 | AD18: 0 | AE18: 0 | AF18: =(AD18&AE18) -> 00 | AG18: =VLOOKUP(AF18,'Tableau coefficient '!$A$3:$B$1004,2,FALSE) -> 0 | AH18: 0 | AI18: 0 | AJ18: =(AH18&AI18) -> 00 | AK18: =VLOOKUP(AJ18,'Tableau coefficient '!$A$3:$B$1004,2,FALSE) -> 0 | AL18: 0 | AM18: 0 | AN18: =(AL18&AM18) -> 00 | AO18: =VLOOKUP(AN18,'Tableau coefficient '!$A$3:$B$1004,2,FALSE) -> 0 | AP18: J | AQ18: 9 | AR18: =(AP18&AQ18) -> J9 | AS18: =VLOOKUP(AR18,'Tableau coefficient '!$A$3:$B$1004,2,FALSE) -> 75 | AT18: 0 | AU18: 0 | AV18: =(AT18&AU18) -> 00 | AW18: =VLOOKUP(AV18,'Tableau coefficient '!$A$3:$B$1004,2,FALSE) -> 0 | AX18: 0 | AY18: 0 | AZ18: =(AX18&AY18) -> 00 | BA18: =VLOOKUP(AZ18,'Tableau coefficient '!$A$3:$B$1004,2,FALSE) -> 0 | BB18: J | BC18: 10 | BD18: =(BB18&BC18) -> J10 | BE18: =(VLOOKUP(BD18,'Tableau coefficient '!$A$3:$B$1004,2,FALSE))*2 -> 145 | BF18: 0 | BG18: 0 | BH18: =(BF18&BG18) -> 00 | BI18: =VLOOKUP(BH18,'Tableau coefficient '!$A$3:$B$1004,2,FALSE) -> 0 | BJ18: 0 | BK18: 0 | BL18: =(BJ18&BK18) -> 00 | BM18: =VLOOKUP(BL18,'Tableau coefficient '!$A$3:$B$1004,2,FALSE) -> 0 | BN18: =SUM(M18,I18,Q18,U18,Y18,AC18,AG18,AO18,AS18,BA18,BE18,BI18,BM18) -> 220 | BO18: =RANK(BN18,$BN$4:$BN$446,0) -> 215
A19: ANDRE | B19: Tematairau | C19: M | D19: PO 2 | E19: CERCLE DES NAGEURS DE POLYNESIE | F19: J | G19: 21 | H19: =(F19&G19) -> J21 | I19: =VLOOKUP(H19,'Tableau coefficient '!$A$3:$B$1004,2,FALSE) -> 61 | J19: J | K19: 14 | L19: =(J19&K19) -> J14 | M19: =VLOOKUP(L19,'Tableau coefficient '!$A$3:$B$1004,2,FALSE) -> 64.5 | N19: J | O19: 15 | P19: =(N19&O19) -> J15 | Q19: =VLOOKUP(P19,'Tableau coefficient '!$A$3:$B$1004,2,FALSE) -> 64 | R19: J | S19: 27 | T19: =(R19&S19) -> J27 | U19: =VLOOKUP(T19,'Tableau coefficient '!$A$3:$B$1004,2,FALSE) -> 58 | V19: J | W19: 30 | X19: =(V19&W19) -> J30 | Y19: =(VLOOKUP(X19,'Tableau coefficient '!$A$3:$B$1004,2,FALSE))*2 -> 113 | Z19: J | AA19: 17 | AB19: =(Z19&AA19) -> J17 | AC19: =(VLOOKUP(AB19,'Tableau coefficient '!$A$3:$B$1004,2,FALSE))*2 -> 126 | AD19: 0 | AE19: 0 | AF19: =(AD19&AE19) -> 00 | AG19: =VLOOKUP(AF19,'Tableau coefficient '!$A$3:$B$1004,2,FALSE) -> 0 | AH19: 0 | AI19: 0 | AJ19: =(AH19&AI19) -> 00 | AK19: =VLOOKUP(AJ19,'Tableau coefficient '!$A$3:$B$1004,2,FALSE) -> 0 | AL19: 0 | AM19: 0 | AN19: =(AL19&AM19) -> 00 | AO19: =VLOOKUP(AN19,'Tableau coefficient '!$A$3:$B$1004,2,FALSE) -> 0 | AP19: J | AQ19: 22 | AR19: =(AP19&AQ19) -> J22 | AS19: =VLOOKUP(AR19,'Tableau coefficient '!$A$3:$B$1004,2,FALSE) -> 60.5 | AT19: 0 | AU19: 0 | AV19: =(AT19&AU19) -> 00 | AW19: =VLOOKUP(AV19,'Tableau coefficient '!$A$3:$B$1004,2,FALSE) -> 0 | AX19: J | AY19: 31 | AZ19: =(AX19&AY19) -> J31 | BA19: =VLOOKUP(AZ19,'Tableau coefficient '!$A$3:$B$1004,2,FALSE) -> 56 | BB19: 0 | BC19: 0 | BD19: =(BB19&BC19) -> 00 | BE19: =(VLOOKUP(BD19,'Tableau coefficient '!$A$3:$B$1004,2,FALSE))*2 -> 0 | BF19: 0 | BG19: 0 | BH19: =(BF19&BG19) -> 00 | BI19: =VLOOKUP(BH19,'Tableau coefficient '!$A$3:$B$1004,2,FALSE) -> 0 | BJ19: 0 | BK19: 0 | BL19: =(BJ19&BK19) -> 00 | BM19: =VLOOKUP(BL19,'Tableau coefficient '!$A$3:$B$1004,2,FALSE) -> 0 | BN19: =SUM(M19,I19,Q19,U19,Y19,AC19,AG19,AO19,AS19,BA19,BE19,BI19,BM19) -> 603 | BO19: =RANK(BN19,$BN$4:$BN$446,0) -> 99
A20: BOURGNON DE LAYRE | B20: Ferdinand | C20: M | D20: PO 2 | E20: FEI PI TRIATHLON | F20: 0 | G20: 0 | H20: =(F20&G20) -> 00 | I20: =VLOOKUP(H20,'Tableau coefficient '!$A$3:$B$1004,2,FALSE) -> 0 | J20: 0 | K20: 0 | L20: =(J20&K20) -> 00 | M20: =VLOOKUP(L20,'Tableau coefficient '!$A$3:$B$1004,2,FALSE) -> 0 | N20: 0 | O20: 0 | P20: =(N20&O20) -> 00 | Q20: =VLOOKUP(P20,'Tableau coefficient '!$A$3:$B$1004,2,FALSE) -> 0 | R20: J | S20: 9 | T20: =(R20&S20) -> J9 | U20: =VLOOKUP(T20,'Tableau coefficient '!$A$3:$B$1004,2,FALSE) -> 75 | V20: 0 | W20: 0 | X20: =(V20&W20) -> 00 | Y20: =(VLOOKUP(X20,'Tableau coefficient '!$A$3:$B$1004,2,FALSE))*2 -> 0 | Z20: 0 | AA20: 0 | AB20: =(Z20&AA20) -> 00 | AC20: =(VLOOKUP(AB20,'Tableau coefficient '!$A$3:$B$1004,2,FALSE))*2 -> 0 | AD20: 0 | AE20: 0 | AF20: =(AD20&AE20) -> 00 | AG20: =VLOOKUP(AF20,'Tableau coefficient '!$A$3:$B$1004,2,FALSE) -> 0 | AH20: 0 | AI20: 0 | AJ20: =(AH20&AI20) -> 00 | AK20: =VLOOKUP(AJ20,'Tableau coefficient '!$A$3:$B$1004,2,FALSE) -> 0 | AL20: 0 | AM20: 0 | AN20: =(AL20&AM20) -> 00 | AO20: =VLOOKUP(AN20,'Tableau coefficient '!$A$3:$B$1004,2,FALSE) -> 0 | AP20: 0 | AQ20: 0 | AR20: =(AP20&AQ20) -> 00 | AS20: =VLOOKUP(AR20,'Tableau coefficient '!$A$3:$B$1004,2,FALSE) -> 0 | AT20: 0 | AU20: 0 | AV20: =(AT20&AU20) -> 00 | AW20: =VLOOKUP(AV20,'Tableau coefficient '!$A$3:$B$1004,2,FALSE) -> 0 | AX20: 0 | AY20: 0 | AZ20: =(AX20&AY20) -> 00 | BA20: =VLOOKUP(AZ20,'Tableau coefficient '!$A$3:$B$1004,2,FALSE) -> 0 | BB20: 0 | BC20: 0 | BD20: =(BB20&BC20) -> 00 | BE20: =(VLOOKUP(BD20,'Tableau coefficient '!$A$3:$B$1004,2,FALSE))*2 -> 0 | BF20: 0 | BG20: 0 | BH20: =(BF20&BG20) -> 00 | BI20: =VLOOKUP(BH20,'Tableau coefficient '!$A$3:$B$1004,2,FALSE) -> 0 | BJ20: 0 | BK20: 0 | BL20: =(BJ20&BK20) -> 00 | BM20: =VLOOKUP(BL20,'Tableau coefficient '!$A$3:$B$1004,2,FALSE) -> 0 | BN20: =SUM(M20,I20,Q20,U20,Y20,AC20,AG20,AO20,AS20,BA20,BE20,BI20,BM20) -> 75 | BO20: =RANK(BN20,$BN$4:$BN$446,0) -> 281
A21: BOUTY | B21: Emile | C21: M | D21: PO 2 | E21: FEI PI TRIATHLON | F21: 0 | G21: 0 | H21: =(F21&G21) -> 00 | I21: =VLOOKUP(H21,'Tableau coefficient '!$A$3:$B$1004,2,FALSE) -> 0 | J21: J | K21: 6 | L21: =(J21&K21) -> J6 | M21: =VLOOKUP(L21,'Tableau coefficient '!$A$3:$B$1004,2,FALSE) -> 90 | N21: 0 | O21: 0 | P21: =(N21&O21) -> 00 | Q21: =VLOOKUP(P21,'Tableau coefficient '!$A$3:$B$1004,2,FALSE) -> 0 | R21: J | S21: 10 | T21: =(R21&S21) -> J10 | U21: =VLOOKUP(T21,'Tableau coefficient '!$A$3:$B$1004,2,FALSE) -> 72.5 | V21: J | W21: 13 | X21: =(V21&W21) -> J13 | Y21: =(VLOOKUP(X21,'Tableau coefficient '!$A$3:$B$1004,2,FALSE))*2 -> 130 | Z21: 0 | AA21: 0 | AB21: =(Z21&AA21) -> 00 | AC21: =(VLOOKUP(AB21,'Tableau coefficient '!$A$3:$B$1004,2,FALSE))*2 -> 0 | AD21: 0 | AE21: 0 | AF21: =(AD21&AE21) -> 00 | AG21: =VLOOKUP(AF21,'Tableau coefficient '!$A$3:$B$1004,2,FALSE) -> 0 | AH21: 0 | AI21: 0 | AJ21: =(AH21&AI21) -> 00 | AK21: =VLOOKUP(AJ21,'Tableau coefficient '!$A$3:$B$1004,2,FALSE) -> 0 | AL21: 0 | AM21: 0 | AN21: =(AL21&AM21) -> 00 | AO21: =VLOOKUP(AN21,'Tableau coefficient '!$A$3:$B$1004,2,FALSE) -> 0 | AP21: 0 | AQ21: 0 | AR21: =(AP21&AQ21) -> 00 | AS21: =VLOOKUP(AR21,'Tableau coefficient '!$A$3:$B$1004,2,FALSE) -> 0 | AT21: 0 | AU21: 0 | AV21: =(AT21&AU21) -> 00 | AW21: =VLOOKUP(AV21,'Tableau coefficient '!$A$3:$B$1004,2,FALSE) -> 0 | AX21: 0 | AY21: 0 | AZ21: =(AX21&AY21) -> 00 | BA21: =VLOOKUP(AZ21,'Tableau coefficient '!$A$3:$B$1004,2,FALSE) -> 0 | BB21: 0 | BC21: 0 | BD21: =(BB21&BC21) -> 00 | BE21: =(VLOOKUP(BD21,'Tableau coefficient '!$A$3:$B$1004,2,FALSE))*2 -> 0 | BF21: 0 | BG21: 0 | BH21: =(BF21&BG21) -> 00 | BI21: =VLOOKUP(BH21,'Tableau coefficient '!$A$3:$B$1004,2,FALSE) -> 0 | BJ21: 0 | BK21: 0 | BL21: =(BJ21&BK21) -> 00 | BM21: =VLOOKUP(BL21,'Tableau coefficient '!$A$3:$B$1004,2,FALSE) -> 0 | BN21: =SUM(M21,I21,Q21,U21,Y21,AC21,AG21,AO21,AS21,BA21,BE21,BI21,BM21) -> 292.5 | BO21: =RANK(BN21,$BN$4:$BN$446,0) -> 184
A22: COVIC | B22: Kenan | C22: M | D22: PO 1 | E22: AS TAMARII PUNARUU TRIATHLON | F22: J | G22: 3 | H22: =(F22&G22) -> J3 | I22: =VLOOKUP(H22,'Tableau coefficient '!$A$3:$B$1004,2,FALSE) -> 110 | J22: J | K22: 3 | L22: =(J22&K22) -> J3 | M22: =VLOOKUP(L22,'Tableau coefficient '!$A$3:$B$1004,2,FALSE) -> 110 | N22: J | O22: 3 | P22: =(N22&O22) -> J3 | Q22: =VLOOKUP(P22,'Tableau coefficient '!$A$3:$B$1004,2,FALSE) -> 110 | R22: J | S22: 2 | T22: =(R22&S22) -> J2 | U22: =VLOOKUP(T22,'Tableau coefficient '!$A$3:$B$1004,2,FALSE) -> 125 | V22: 0 | W22: 0 | X22: =(V22&W22) -> 00 | Y22: =(VLOOKUP(X22,'Tableau coefficient '!$A$3:$B$1004,2,FALSE))*2 -> 0 | Z22: J | AA22: 2 | AB22: =(Z22&AA22) -> J2 | AC22: =(VLOOKUP(AB22,'Tableau coefficient '!$A$3:$B$1004,2,FALSE))*2 -> 250 | AD22: J | AE22: 2 | AF22: =(AD22&AE22) -> J2 | AG22: =VLOOKUP(AF22,'Tableau coefficient '!$A$3:$B$1004,2,FALSE) -> 125 | AH22: 0 | AI22: 0 | AJ22: =(AH22&AI22) -> 00 | AK22: =VLOOKUP(AJ22,'Tableau coefficient '!$A$3:$B$1004,2,FALSE) -> 0 | AL22: 0 | AM22: 0 | AN22: =(AL22&AM22) -> 00 | AO22: =VLOOKUP(AN22,'Tableau coefficient '!$A$3:$B$1004,2,FALSE) -> 0 | AP22: 0 | AQ22: 0 | AR22: =(AP22&AQ22) -> 00 | AS22: =VLOOKUP(AR22,'Tableau coefficient '!$A$3:$B$1004,2,FALSE) -> 0 | AT22: 0 | AU22: 0 | AV22: =(AT22&AU22) -> 00 | AW22: =VLOOKUP(AV22,'Tableau coefficient '!$A$3:$B$1004,2,FALSE) -> 0 | AX22: 0 | AY22: 0 | AZ22: =(AX22&AY22) -> 00 | BA22: =VLOOKUP(AZ22,'Tableau coefficient '!$A$3:$B$1004,2,FALSE) -> 0 | BB22: J | BC22: 6 | BD22: =(BB22&BC22) -> J6 | BE22: =(VLOOKUP(BD22,'Tableau coefficient '!$A$3:$B$1004,2,FALSE))*2 -> 180 | BF22: 0 | BG22: 0 | BH22: =(BF22&BG22) -> 00 | BI22: =VLOOKUP(BH22,'Tableau coefficient '!$A$3:$B$1004,2,FALSE) -> 0 | BJ22: 0 | BK22: 0 | BL22: =(BJ22&BK22) -> 00 | BM22: =VLOOKUP(BL22,'Tableau coefficient '!$A$3:$B$1004,2,FALSE) -> 0 | BN22: =SUM(M22,I22,Q22,U22,Y22,AC22,AG22,AO22,AS22,BA22,BE22,BI22,BM22) -> 1010 | BO22: =RANK(BN22,$BN$4:$BN$446,0) -> 35
A23: DA COL | B23: Clement Moana | C23: M | D23: PO 2 | E23: CERCLE DES NAGEURS DE POLYNESIE | F23: 0 | G23: 0 | H23: =(F23&G23) -> 00 | I23: =VLOOKUP(H23,'Tableau coefficient '!$A$3:$B$1004,2,FALSE) -> 0 | J23: 0 | K23: 0 | L23: =(J23&K23) -> 00 | M23: =VLOOKUP(L23,'Tableau coefficient '!$A$3:$B$1004,2,FALSE) -> 0 | N23: 0 | O23: 0 | P23: =(N23&O23) -> 00 | Q23: =VLOOKUP(P23,'Tableau coefficient '!$A$3:$B$1004,2,FALSE) -> 0 | R23: 0 | S23: 0 | T23: =(R23&S23) -> 00 | U23: =VLOOKUP(T23,'Tableau coefficient '!$A$3:$B$1004,2,FALSE) -> 0 | V23: 0 | W23: 0 | X23: =(V23&W23) -> 00 | Y23: =(VLOOKUP(X23,'Tableau coefficient '!$A$3:$B$1004,2,FALSE))*2 -> 0 | Z23: 0 | AA23: 0 | AB23: =(Z23&AA23) -> 00 | AC23: =(VLOOKUP(AB23,'Tableau coefficient '!$A$3:$B$1004,2,FALSE))*2 -> 0 | AD23: 0 | AE23: 0 | AF23: =(AD23&AE23) -> 00 | AG23: =VLOOKUP(AF23,'Tableau coefficient '!$A$3:$B$1004,2,FALSE) -> 0 | AH23: 0 | AI23: 0 | AJ23: =(AH23&AI23) -> 00 | AK23: =VLOOKUP(AJ23,'Tableau coefficient '!$A$3:$B$1004,2,FALSE) -> 0 | AL23: 0 | AM23: 0 | AN23: =(AL23&AM23) -> 00 | AO23: =VLOOKUP(AN23,'Tableau coefficient '!$A$3:$B$1004,2,FALSE) -> 0 | AP23: 0 | AQ23: 0 | AR23: =(AP23&AQ23) -> 00 | AS23: =VLOOKUP(AR23,'Tableau coefficient '!$A$3:$B$1004,2,FALSE) -> 0 | AT23: 0 | AU23: 0 | AV23: =(AT23&AU23) -> 00 | AW23: =VLOOKUP(AV23,'Tableau coefficient '!$A$3:$B$1004,2,FALSE) -> 0 | AX23: 0 | AY23: 0 | AZ23: =(AX23&AY23) -> 00 | BA23: =VLOOKUP(AZ23,'Tableau coefficient '!$A$3:$B$1004,2,FALSE) -> 0 | BB23: 0 | BC23: 0 | BD23: =(BB23&BC23) -> 00 | BE23: =(VLOOKUP(BD23,'Tableau coefficient '!$A$3:$B$1004,2,FALSE))*2 -> 0 | BF23: 0 | BG23: 0 | BH23: =(BF23&BG23) -> 00 | BI23: =VLOOKUP(BH23,'Tableau coefficient '!$A$3:$B$1004,2,FALSE) -> 0 | BJ23: 0 | BK23: 0 | BL23: =(BJ23&BK23) -> 00 | BM23: =VLOOKUP(BL23,'Tableau coefficient '!$A$3:$B$1004,2,FALSE) -> 0 | BN23: =SUM(M23,I23,Q23,U23,Y23,AC23,AG23,AO23,AS23,BA23,BE23,BI23,BM23) -> 0 | BO23: =RANK(BN23,$BN$4:$BN$446,0) -> 303
A24: DUBOUSQUET | B24: Manotea | C24: M | D24: PO 2 | E24: FEI PI TRIATHLON | F24: J | G24: 28 | H24: =(F24&G24) -> J28 | I24: =VLOOKUP(H24,'Tableau coefficient '!$A$3:$B$1004,2,FALSE) -> 57.5 | J24: J | K24: 25 | L24: =(J24&K24) -> J25 | M24: =VLOOKUP(L24,'Tableau coefficient '!$A$3:$B$1004,2,FALSE) -> 59 | N24: 0 | O24: 0 | P24: =(N24&O24) -> 00 | Q24: =VLOOKUP(P24,'Tableau coefficient '!$A$3:$B$1004,2,FALSE) -> 0 | R24: J | S24: 29 | T24: =(R24&S24) -> J29 | U24: =VLOOKUP(T24,'Tableau coefficient '!$A$3:$B$1004,2,FALSE) -> 57 | V24: 0 | W24: 0 | X24: =(V24&W24) -> 00 | Y24: =(VLOOKUP(X24,'Tableau coefficient '!$A$3:$B$1004,2,FALSE))*2 -> 0 | Z24: 0 | AA24: 0 | AB24: =(Z24&AA24) -> 00 | AC24: =(VLOOKUP(AB24,'Tableau coefficient '!$A$3:$B$1004,2,FALSE))*2 -> 0 | AD24: 0 | AE24: 0 | AF24: =(AD24&AE24) -> 00 | AG24: =VLOOKUP(AF24,'Tableau coefficient '!$A$3:$B$1004,2,FALSE) -> 0 | AH24: 0 | AI24: 0 | AJ24: =(AH24&AI24) -> 00 | AK24: =VLOOKUP(AJ24,'Tableau coefficient '!$A$3:$B$1004,2,FALSE) -> 0 | AL24: 0 | AM24: 0 | AN24: =(AL24&AM24) -> 00 | AO24: =VLOOKUP(AN24,'Tableau coefficient '!$A$3:$B$1004,2,FALSE) -> 0 | AP24: 0 | AQ24: 0 | AR24: =(AP24&AQ24) -> 00 | AS24: =VLOOKUP(AR24,'Tableau coefficient '!$A$3:$B$1004,2,FALSE) -> 0 | AT24: 0 | AU24: 0 | AV24: =(AT24&AU24) -> 00 | AW24: =VLOOKUP(AV24,'Tableau coefficient '!$A$3:$B$1004,2,FALSE) -> 0 | AX24: 0 | AY24: 0 | AZ24: =(AX24&AY24) -> 00 | BA24: =VLOOKUP(AZ24,'Tableau coefficient '!$A$3:$B$1004,2,FALSE) -> 0 | BB24: 0 | BC24: 0 | BD24: =(BB24&BC24) -> 00 | BE24: =(VLOOKUP(BD24,'Tableau coefficient '!$A$3:$B$1004,2,FALSE))*2 -> 0 | BF24: 0 | BG24: 0 | BH24: =(BF24&BG24) -> 00 | BI24: =VLOOKUP(BH24,'Tableau coefficient '!$A$3:$B$1004,2,FALSE) -> 0 | BJ24: 0 | BK24: 0 | BL24: =(BJ24&BK24) -> 00 | BM24: =VLOOKUP(BL24,'Tableau coefficient '!$A$3:$B$1004,2,FALSE) -> 0 | BN24: =SUM(M24,I24,Q24,U24,Y24,AC24,AG24,AO24,AS24,BA24,BE24,BI24,BM24) -> 173.5 | BO24: =RANK(BN24,$BN$4:$BN$446,0) -> 246
A25: GOBRAIT | B25: Bradley | C25: M | D25: PO 2 | E25: AS TAMARII PUNARUU TRIATHLON | F25: J | G25: 27 | H25: =(F25&G25) -> J27 | I25: =VLOOKUP(H25,'Tableau coefficient '!$A$3:$B$1004,2,FALSE) -> 58 | J25: J | K25: 20 | L25: =(J25&K25) -> J20 | M25: =VLOOKUP(L25,'Tableau coefficient '!$A$3:$B$1004,2,FALSE) -> 61.5 | N25: J | O25: 14 | P25: =(N25&O25) -> J14 | Q25: =VLOOKUP(P25,'Tableau coefficient '!$A$3:$B$1004,2,FALSE) -> 64.5 | R25: J | S25: 31 | T25: =(R25&S25) -> J31 | U25: =VLOOKUP(T25,'Tableau coefficient '!$A$3:$B$1004,2,FALSE) -> 56 | V25: J | W25: 28 | X25: =(V25&W25) -> J28 | Y25: =(VLOOKUP(X25,'Tableau coefficient '!$A$3:$B$1004,2,FALSE))*2 -> 115 | Z25: 0 | AA25: 0 | AB25: =(Z25&AA25) -> 00 | AC25: =(VLOOKUP(AB25,'Tableau coefficient '!$A$3:$B$1004,2,FALSE))*2 -> 0 | AD25: 0 | AE25: 0 | AF25: =(AD25&AE25) -> 00 | AH25: 0 | AI25: 0 | AJ25: =(AH25&AI25) -> 00 | AL25: 0 | AM25: 0 | AN25: =(AL25&AM25) -> 00 | AO25: =VLOOKUP(AN25,'Tableau coefficient '!$A$3:$B$1004,2,FALSE) -> 0 | AP25: J | AQ25: 19 | AR25: =(AP25&AQ25) -> J19 | AS25: =VLOOKUP(AR25,'Tableau coefficient '!$A$3:$B$1004,2,FALSE) -> 62 | AT25: 0 | AU25: 0 | AV25: =(AT25&AU25) -> 00 | AX25: J | AY25: 29 | AZ25: =(AX25&AY25) -> J29 | BA25: =VLOOKUP(AZ25,'Tableau coefficient '!$A$3:$B$1004,2,FALSE) -> 57 | BB25: J | BC25: 26 | BD25: =(BB25&BC25) -> J26 | BE25: =(VLOOKUP(BD25,'Tableau coefficient '!$A$3:$B$1004,2,FALSE))*2 -> 117 | BF25: 0 | BG25: 0 | BH25: =(BF25&BG25) -> 00 | BI25: =VLOOKUP(BH25,'Tableau coefficient '!$A$3:$B$1004,2,FALSE) -> 0 | BJ25: 0 | BK25: 0 | BL25: =(BJ25&BK25) -> 00 | BN25: =SUM(M25,I25,Q25,U25,Y25,AC25,AG25,AO25,AS25,BA25,BE25,BI25,BM25) -> 591 | BO25: =RANK(BN25,$BN$4:$BN$446,0) -> 104
A26: HANSSLER | B26: Leo | C26: M | D26: PO 1 | E26: FEI PI TRIATHLON | F26: 0 | G26: 0 | H26: =(F26&G26) -> 00 | J26: 0 | K26: 0 | L26: =(J26&K26) -> 00 | N26: J | O26: 11 | P26: =(N26&O26) -> J11 | Q26: =VLOOKUP(P26,'Tableau coefficient '!$A$3:$B$1004,2,FALSE) -> 70 | R26: J | S26: 12 | T26: =(R26&S26) -> J12 | U26: =VLOOKUP(T26,'Tableau coefficient '!$A$3:$B$1004,2,FALSE) -> 67.5 | V26: J | W26: 7 | X26: =(V26&W26) -> J7 | Y26: =(VLOOKUP(X26,'Tableau coefficient '!$A$3:$B$1004,2,FALSE))*2 -> 170 | Z26: J | AA26: 9 | AB26: =(Z26&AA26) -> J9 | AC26: =(VLOOKUP(AB26,'Tableau coefficient '!$A$3:$B$1004,2,FALSE))*2 -> 150 | AD26: 0 | AE26: 0 | AF26: =(AD26&AE26) -> 00 | AH26: 0 | AI26: 0 | AJ26: =(AH26&AI26) -> 00 | AL26: 0 | AM26: 0 | AN26: =(AL26&AM26) -> 00 | AO26: =VLOOKUP(AN26,'Tableau coefficient '!$A$3:$B$1004,2,FALSE) -> 0 | AP26: 0 | AQ26: 0 | AR26: =(AP26&AQ26) -> 00 | AS26: =VLOOKUP(AR26,'Tableau coefficient '!$A$3:$B$1004,2,FALSE) -> 0 | AT26: 0 | AU26: 0 | AV26: =(AT26&AU26) -> 00 | AX26: 0 | AY26: 0 | AZ26: =(AX26&AY26) -> 00 | BA26: =VLOOKUP(AZ26,'Tableau coefficient '!$A$3:$B$1004,2,FALSE) -> 0 | BB26: 0 | BC26: 0 | BD26: =(BB26&BC26) -> 00 | BE26: =(VLOOKUP(BD26,'Tableau coefficient '!$A$3:$B$1004,2,FALSE))*2 -> 0 | BF26: 0 | BG26: 0 | BH26: =(BF26&BG26) -> 00 | BI26: =VLOOKUP(BH26,'Tableau coefficient '!$A$3:$B$1004,2,FALSE) -> 0 | BJ26: 0 | BK26: 0 | BL26: =(BJ26&BK26) -> 00 | BN26: =SUM(M26,I26,Q26,U26,Y26,AC26,AG26,AO26,AS26,BA26,BE26,BI26,BM26) -> 457.5 | BO26: =RANK(BN26,$BN$4:$BN$446,0) -> 133
A27: IRO | B27: Nuuroa | C27: M | D27: PO 1 | E27: AS TAMARII PUNARUU TRIATHLON | F27: J | G27: 2 | H27: =(F27&G27) -> J2 | I27: =VLOOKUP(H27,'Tableau coefficient '!$A$3:$B$1004,2,FALSE) -> 125 | J27: J | K27: 2 | L27: =(J27&K27) -> J2 | M27: =VLOOKUP(L27,'Tableau coefficient '!$A$3:$B$1004,2,FALSE) -> 125 | N27: J | O27: 2 | P27: =(N27&O27) -> J2 | Q27: =VLOOKUP(P27,'Tableau coefficient '!$A$3:$B$1004,2,FALSE) -> 125 | R27: J | S27: 3 | T27: =(R27&S27) -> J3 | U27: =VLOOKUP(T27,'Tableau coefficient '!$A$3:$B$1004,2,FALSE) -> 110 | V27: J | W27: 2 | X27: =(V27&W27) -> J2 | Y27: =(VLOOKUP(X27,'Tableau coefficient '!$A$3:$B$1004,2,FALSE))*2 -> 250 | Z27: J | AA27: 3 | AB27: =(Z27&AA27) -> J3 | AC27: =(VLOOKUP(AB27,'Tableau coefficient '!$A$3:$B$1004,2,FALSE))*2 -> 220 | AD27: J | AE27: 3 | AF27: =(AD27&AE27) -> J3 | AG27: =VLOOKUP(AF27,'Tableau coefficient '!$A$3:$B$1004,2,FALSE) -> 110 | AH27: 0 | AI27: 0 | AJ27: =(AH27&AI27) -> 00 | AK27: =VLOOKUP(AJ27,'Tableau coefficient '!$A$3:$B$1004,2,FALSE) -> 0 | AL27: 0 | AM27: 0 | AN27: =(AL27&AM27) -> 00 | AO27: =VLOOKUP(AN27,'Tableau coefficient '!$A$3:$B$1004,2,FALSE) -> 0 | AP27: 0 | AQ27: 0 | AR27: =(AP27&AQ27) -> 00 | AS27: =VLOOKUP(AR27,'Tableau coefficient '!$A$3:$B$1004,2,FALSE) -> 0 | AT27: 0 | AU27: 0 | AV27: =(AT27&AU27) -> 00 | AW27: =VLOOKUP(AV27,'Tableau coefficient '!$A$3:$B$1004,2,FALSE) -> 0 | AX27: 0 | AY27: 0 | AZ27: =(AX27&AY27) -> 00 | BA27: =VLOOKUP(AZ27,'Tableau coefficient '!$A$3:$B$1004,2,FALSE) -> 0 | BB27: J | BC27: 2 | BD27: =(BB27&BC27) -> J2 | BE27: =(VLOOKUP(BD27,'Tableau coefficient '!$A$3:$B$1004,2,FALSE))*2 -> 250 | BF27: 0 | BG27: 0 | BH27: =(BF27&BG27) -> 00 | BI27: =VLOOKUP(BH27,'Tableau coefficient '!$A$3:$B$1004,2,FALSE) -> 0 | BJ27: 0 | BK27: 0 | BL27: =(BJ27&BK27) -> 00 | BM27: =VLOOKUP(BL27,'Tableau coefficient '!$A$3:$B$1004,2,FALSE) -> 0 | BN27: =SUM(M27,I27,Q27,U27,Y27,AC27,AG27,AO27,AS27,BA27,BE27,BI27,BM27) -> 1315 | BO27: =RANK(BN27,$BN$4:$BN$446,0) -> 15
A28: MAI | B28: Raitua | C28: M | D28: PO 2 | E28: FEI PI TRIATHLON | F28: 0 | G28: 0 | H28: =(F28&G28) -> 00 | I28: =VLOOKUP(H28,'Tableau coefficient '!$A$3:$B$1004,2,FALSE) -> 0 | J28: J | K28: 8 | L28: =(J28&K28) -> J8 | M28: =VLOOKUP(L28,'Tableau coefficient '!$A$3:$B$1004,2,FALSE) -> 80 | N28: J | O28: 6 | P28: =(N28&O28) -> J6 | Q28: =VLOOKUP(P28,'Tableau coefficient '!$A$3:$B$1004,2,FALSE) -> 90 | R28: 0 | S28: 0 | T28: =(R28&S28) -> 00 | U28: =VLOOKUP(T28,'Tableau coefficient '!$A$3:$B$1004,2,FALSE) -> 0 | V28: J | W28: 12 | X28: =(V28&W28) -> J12 | Y28: =(VLOOKUP(X28,'Tableau coefficient '!$A$3:$B$1004,2,FALSE))*2 -> 135 | Z28: 0 | AA28: 0 | AB28: =(Z28&AA28) -> 00 | AC28: =(VLOOKUP(AB28,'Tableau coefficient '!$A$3:$B$1004,2,FALSE))*2 -> 0 | AD28: 0 | AE28: 0 | AF28: =(AD28&AE28) -> 00 | AG28: =VLOOKUP(AF28,'Tableau coefficient '!$A$3:$B$1004,2,FALSE) -> 0 | AH28: 0 | AI28: 0 | AJ28: =(AH28&AI28) -> 00 | AK28: =VLOOKUP(AJ28,'Tableau coefficient '!$A$3:$B$1004,2,FALSE) -> 0 | AL28: 0 | AM28: 0 | AN28: =(AL28&AM28) -> 00 | AO28: =VLOOKUP(AN28,'Tableau coefficient '!$A$3:$B$1004,2,FALSE) -> 0 | AP28: 0 | AQ28: 0 | AR28: =(AP28&AQ28) -> 00 | AS28: =VLOOKUP(AR28,'Tableau coefficient '!$A$3:$B$1004,2,FALSE) -> 0 | AT28: 0 | AU28: 0 | AV28: =(AT28&AU28) -> 00 | AW28: =VLOOKUP(AV28,'Tableau coefficient '!$A$3:$B$1004,2,FALSE) -> 0 | AX28: 0 | AY28: 0 | AZ28: =(AX28&AY28) -> 00 | BA28: =VLOOKUP(AZ28,'Tableau coefficient '!$A$3:$B$1004,2,FALSE) -> 0 | BB28: 0 | BC28: 0 | BD28: =(BB28&BC28) -> 00 | BE28: =(VLOOKUP(BD28,'Tableau coefficient '!$A$3:$B$1004,2,FALSE))*2 -> 0 | BF28: 0 | BG28: 0 | BH28: =(BF28&BG28) -> 00 | BI28: =VLOOKUP(BH28,'Tableau coefficient '!$A$3:$B$1004,2,FALSE) -> 0 | BJ28: 0 | BK28: 0 | BL28: =(BJ28&BK28) -> 00 | BM28: =VLOOKUP(BL28,'Tableau coefficient '!$A$3:$B$1004,2,FALSE) -> 0 | BN28: =SUM(M28,I28,Q28,U28,Y28,AC28,AG28,AO28,AS28,BA28,BE28,BI28,BM28) -> 305 | BO28: =RANK(BN28,$BN$4:$BN$446,0) -> 180
A29: OHIU | B29: Arava | C29: M | D29: PO 2 | E29: FEI PI TRIATHLON | F29: 0 | G29: 0 | H29: =(F29&G29) -> 00 | I29: =VLOOKUP(H29,'Tableau coefficient '!$A$3:$B$1004,2,FALSE) -> 0 | J29: 0 | K29: 0 | L29: =(J29&K29) -> 00 | M29: =VLOOKUP(L29,'Tableau coefficient '!$A$3:$B$1004,2,FALSE) -> 0 | N29: 0 | O29: 0 | P29: =(N29&O29) -> 00 | Q29: =VLOOKUP(P29,'Tableau coefficient '!$A$3:$B$1004,2,FALSE) -> 0 | R29: 0 | S29: 0 | T29: =(R29&S29) -> 00 | U29: =VLOOKUP(T29,'Tableau coefficient '!$A$3:$B$1004,2,FALSE) -> 0 | V29: 0 | W29: 0 | X29: =(V29&W29) -> 00 | Y29: =(VLOOKUP(X29,'Tableau coefficient '!$A$3:$B$1004,2,FALSE))*2 -> 0 | Z29: 0 | AA29: 0 | AB29: =(Z29&AA29) -> 00 | AC29: =(VLOOKUP(AB29,'Tableau coefficient '!$A$3:$B$1004,2,FALSE))*2 -> 0 | AD29: 0 | AE29: 0 | AF29: =(AD29&AE29) -> 00 | AG29: =VLOOKUP(AF29,'Tableau coefficient '!$A$3:$B$1004,2,FALSE) -> 0 | AH29: 0 | AI29: 0 | AJ29: =(AH29&AI29) -> 00 | AK29: =VLOOKUP(AJ29,'Tableau coefficient '!$A$3:$B$1004,2,FALSE) -> 0 | AL29: 0 | AM29: 0 | AN29: =(AL29&AM29) -> 00 | AO29: =VLOOKUP(AN29,'Tableau coefficient '!$A$3:$B$1004,2,FALSE) -> 0 | AP29: 0 | AQ29: 0 | AR29: =(AP29&AQ29) -> 00 | AS29: =VLOOKUP(AR29,'Tableau coefficient '!$A$3:$B$1004,2,FALSE) -> 0 | AT29: 0 | AU29: 0 | AV29: =(AT29&AU29) -> 00 | AW29: =VLOOKUP(AV29,'Tableau coefficient '!$A$3:$B$1004,2,FALSE) -> 0 | AX29: 0 | AY29: 0 | AZ29: =(AX29&AY29) -> 00 | BA29: =VLOOKUP(AZ29,'Tableau coefficient '!$A$3:$B$1004,2,FALSE) -> 0 | BB29: 0 | BC29: 0 | BD29: =(BB29&BC29) -> 00 | BE29: =(VLOOKUP(BD29,'Tableau coefficient '!$A$3:$B$1004,2,FALSE))*2 -> 0 | BF29: 0 | BG29: 0 | BH29: =(BF29&BG29) -> 00 | BI29: =VLOOKUP(BH29,'Tableau coefficient '!$A$3:$B$1004,2,FALSE) -> 0 | BJ29: 0 | BK29: 0 | BL29: =(BJ29&BK29) -> 00 | BM29: =VLOOKUP(BL29,'Tableau coefficient '!$A$3:$B$1004,2,FALSE) -> 0 | BN29: =SUM(M29,I29,Q29,U29,Y29,AC29,AG29,AO29,AS29,BA29,BE29,BI29,BM29) -> 0 | BO29: =RANK(BN29,$BN$4:$BN$446,0) -> 303
A30: SERRE | B30: Mirco | C30: M | D30: PO 1 | E30: AS TAMARII PUNARUU TRIATHLON | F30: J | G30: 4 | H30: =(F30&G30) -> J4 | I30: =VLOOKUP(H30,'Tableau coefficient '!$A$3:$B$1004,2,FALSE) -> 100 | J30: J | K30: 8 | L30: =(J30&K30) -> J8 | M30: =VLOOKUP(L30,'Tableau coefficient '!$A$3:$B$1004,2,FALSE) -> 80 | N30: 0 | O30: 0 | P30: =(N30&O30) -> 00 | Q30: =VLOOKUP(P30,'Tableau coefficient '!$A$3:$B$1004,2,FALSE) -> 0 | R30: J | S30: 5 | T30: =(R30&S30) -> J5 | U30: =VLOOKUP(T30,'Tableau coefficient '!$A$3:$B$1004,2,FALSE) -> 95 | V30: J | W30: 5 | X30: =(V30&W30) -> J5 | Y30: =(VLOOKUP(X30,'Tableau coefficient '!$A$3:$B$1004,2,FALSE))*2 -> 190 | Z30: 0 | AA30: 0 | AB30: =(Z30&AA30) -> 00 | AC30: =(VLOOKUP(AB30,'Tableau coefficient '!$A$3:$B$1004,2,FALSE))*2 -> 0 | AD30: J | AE30: 6 | AF30: =(AD30&AE30) -> J6 | AG30: =VLOOKUP(AF30,'Tableau coefficient '!$A$3:$B$1004,2,FALSE) -> 90 | AH30: 0 | AI30: 0 | AJ30: =(AH30&AI30) -> 00 | AK30: =VLOOKUP(AJ30,'Tableau coefficient '!$A$3:$B$1004,2,FALSE) -> 0 | AL30: 0 | AM30: 0 | AN30: =(AL30&AM30) -> 00 | AO30: =VLOOKUP(AN30,'Tableau coefficient '!$A$3:$B$1004,2,FALSE) -> 0 | AP30: 0 | AQ30: 0 | AR30: =(AP30&AQ30) -> 00 | AS30: =VLOOKUP(AR30,'Tableau coefficient '!$A$3:$B$1004,2,FALSE) -> 0 | AT30: 0 | AU30: 0 | AV30: =(AT30&AU30) -> 00 | AW30: =VLOOKUP(AV30,'Tableau coefficient '!$A$3:$B$1004,2,FALSE) -> 0 | AX30: 0 | AY30: 0 | AZ30: =(AX30&AY30) -> 00 | BA30: =VLOOKUP(AZ30,'Tableau coefficient '!$A$3:$B$1004,2,FALSE) -> 0 | BB30: J | BC30: 7 | BD30: =(BB30&BC30) -> J7 | BE30: =(VLOOKUP(BD30,'Tableau coefficient '!$A$3:$B$1004,2,FALSE))*2 -> 170 | BF30: 0 | BG30: 0 | BH30: =(BF30&BG30) -> 00 | BI30: =VLOOKUP(BH30,'Tableau coefficient '!$A$3:$B$1004,2,FALSE) -> 0 | BJ30: 0 | BK30: 0 | BL30: =(BJ30&BK30) -> 00 | BM30: =VLOOKUP(BL30,'Tableau coefficient '!$A$3:$B$1004,2,FALSE) -> 0 | BN30: =SUM(M30,I30,Q30,U30,Y30,AC30,AG30,AO30,AS30,BA30,BE30,BI30,BM30) -> 725 | BO30: =RANK(BN30,$BN$4:$BN$446,0) -> 69
A31: TEAE | B31: Manua | C31: M | D31: PO 1 | E31: AS TAMARII PUNARUU TRIATHLON | F31: 0 | G31: 0 | H31: =(F31&G31) -> 00 | I31: =VLOOKUP(H31,'Tableau coefficient '!$A$3:$B$1004,2,FALSE) -> 0 | J31: J | K31: 5 | L31: =(J31&K31) -> J5 | M31: =VLOOKUP(L31,'Tableau coefficient '!$A$3:$B$1004,2,FALSE) -> 95 | N31: J | O31: 4 | P31: =(N31&O31) -> J4 | Q31: =VLOOKUP(P31,'Tableau coefficient '!$A$3:$B$1004,2,FALSE) -> 100 | R31: J | S31: 4 | T31: =(R31&S31) -> J4 | U31: =VLOOKUP(T31,'Tableau coefficient '!$A$3:$B$1004,2,FALSE) -> 100 | V31: 0 | W31: 0 | X31: =(V31&W31) -> 00 | Y31: =(VLOOKUP(X31,'Tableau coefficient '!$A$3:$B$1004,2,FALSE))*2 -> 0 | Z31: 0 | AA31: 0 | AB31: =(Z31&AA31) -> 00 | AC31: =(VLOOKUP(AB31,'Tableau coefficient '!$A$3:$B$1004,2,FALSE))*2 -> 0 | AD31: 0 | AE31: 0 | AF31: =(AD31&AE31) -> 00 | AG31: =VLOOKUP(AF31,'Tableau coefficient '!$A$3:$B$1004,2,FALSE) -> 0 | AH31: 0 | AI31: 0 | AJ31: =(AH31&AI31) -> 00 | AK31: =VLOOKUP(AJ31,'Tableau coefficient '!$A$3:$B$1004,2,FALSE) -> 0 | AL31: 0 | AM31: 0 | AN31: =(AL31&AM31) -> 00 | AO31: =VLOOKUP(AN31,'Tableau coefficient '!$A$3:$B$1004,2,FALSE) -> 0 | AP31: 0 | AQ31: 0 | AR31: =(AP31&AQ31) -> 00 | AS31: =VLOOKUP(AR31,'Tableau coefficient '!$A$3:$B$1004,2,FALSE) -> 0 | AT31: 0 | AU31: 0 | AV31: =(AT31&AU31) -> 00 | AW31: =VLOOKUP(AV31,'Tableau coefficient '!$A$3:$B$1004,2,FALSE) -> 0 | AX31: 0 | AY31: 0 | AZ31: =(AX31&AY31) -> 00 | BA31: =VLOOKUP(AZ31,'Tableau coefficient '!$A$3:$B$1004,2,FALSE) -> 0 | BB31: 0 | BC31: 0 | BD31: =(BB31&BC31) -> 00 | BE31: =(VLOOKUP(BD31,'Tableau coefficient '!$A$3:$B$1004,2,FALSE))*2 -> 0 | BF31: 0 | BG31: 0 | BH31: =(BF31&BG31) -> 00 | BI31: =VLOOKUP(BH31,'Tableau coefficient '!$A$3:$B$1004,2,FALSE) -> 0 | BJ31: 0 | BK31: 0 | BL31: =(BJ31&BK31) -> 00 | BM31: =VLOOKUP(BL31,'Tableau coefficient '!$A$3:$B$1004,2,FALSE) -> 0 | BN31: =SUM(M31,I31,Q31,U31,Y31,AC31,AG31,AO31,AS31,BA31,BE31,BI31,BM31) -> 295 | BO31: =RANK(BN31,$BN$4:$BN$446,0) -> 183
A32: TEURU | B32: Kay | C32: M | D32: PO 2 | E32: AS TAMARII PUNARUU TRIATHLON | F32: 0 | G32: 0 | H32: =(F32&G32) -> 00 | I32: =VLOOKUP(H32,'Tableau coefficient '!$A$3:$B$1004,2,FALSE) -> 0 | J32: 0 | K32: 0 | L32: =(J32&K32) -> 00 | M32: =VLOOKUP(L32,'Tableau coefficient '!$A$3:$B$1004,2,FALSE) -> 0 | N32: J | O32: 12 | P32: =(N32&O32) -> J12 | Q32: =VLOOKUP(P32,'Tableau coefficient '!$A$3:$B$1004,2,FALSE) -> 67.5 | R32: J | S32: 14 | T32: =(R32&S32) -> J14 | U32: =VLOOKUP(T32,'Tableau coefficient '!$A$3:$B$1004,2,FALSE) -> 64.5 | V32: J | W32: 18 | X32: =(V32&W32) -> J18 | Y32: =(VLOOKUP(X32,'Tableau coefficient '!$A$3:$B$1004,2,FALSE))*2 -> 125 | Z32: J | AA32: 12 | AB32: =(Z32&AA32) -> J12 | AC32: =(VLOOKUP(AB32,'Tableau coefficient '!$A$3:$B$1004,2,FALSE))*2 -> 135 | AD32: J | AE32: 17 | AF32: =(AD32&AE32) -> J17 | AG32: =VLOOKUP(AF32,'Tableau coefficient '!$A$3:$B$1004,2,FALSE) -> 63 | AH32: 0 | AI32: 0 | AJ32: =(AH32&AI32) -> 00 | AK32: =VLOOKUP(AJ32,'Tableau coefficient '!$A$3:$B$1004,2,FALSE) -> 0 | AL32: 0 | AM32: 0 | AN32: =(AL32&AM32) -> 00 | AO32: =VLOOKUP(AN32,'Tableau coefficient '!$A$3:$B$1004,2,FALSE) -> 0 | AP32: J | AQ32: 9 | AR32: =(AP32&AQ32) -> J9 | AS32: =VLOOKUP(AR32,'Tableau coefficient '!$A$3:$B$1004,2,FALSE) -> 75 | AT32: 0 | AU32: 0 | AV32: =(AT32&AU32) -> 00 | AW32: =VLOOKUP(AV32,'Tableau coefficient '!$A$3:$B$1004,2,FALSE) -> 0 | AX32: J | AY32: 24 | AZ32: =(AX32&AY32) -> J24 | BA32: =VLOOKUP(AZ32,'Tableau coefficient '!$A$3:$B$1004,2,FALSE) -> 59.5 | BB32: J | BC32: 24 | BD32: =(BB32&BC32) -> J24 | BE32: =(VLOOKUP(BD32,'Tableau coefficient '!$A$3:$B$1004,2,FALSE))*2 -> 119 | BF32: 0 | BG32: 0 | BH32: =(BF32&BG32) -> 00 | BI32: =VLOOKUP(BH32,'Tableau coefficient '!$A$3:$B$1004,2,FALSE) -> 0 | BJ32: 0 | BK32: 0 | BL32: =(BJ32&BK32) -> 00 | BM32: =VLOOKUP(BL32,'Tableau coefficient '!$A$3:$B$1004,2,FALSE) -> 0 | BN32: =SUM(M32,I32,Q32,U32,Y32,AC32,AG32,AO32,AS32,BA32,BE32,BI32,BM32) -> 708.5 | BO32: =RANK(BN32,$BN$4:$BN$446,0) -> 74
A33: VAIRAAROA | B33: Vaihauarii | C33: M | D33: PO 2 | E33: FEI PI TRIATHLON | F33: 0 | G33: 0 | H33: =(F33&G33) -> 00 | I33: =VLOOKUP(H33,'Tableau coefficient '!$A$3:$B$1004,2,FALSE) -> 0 | J33: J | K33: 19 | L33: =(J33&K33) -> J19 | M33: =VLOOKUP(L33,'Tableau coefficient '!$A$3:$B$1004,2,FALSE) -> 62 | N33: 0 | O33: 0 | P33: =(N33&O33) -> 00 | Q33: =VLOOKUP(P33,'Tableau coefficient '!$A$3:$B$1004,2,FALSE) -> 0 | R33: 0 | S33: 0 | T33: =(R33&S33) -> 00 | U33: =VLOOKUP(T33,'Tableau coefficient '!$A$3:$B$1004,2,FALSE) -> 0 | V33: 0 | W33: 0 | X33: =(V33&W33) -> 00 | Y33: =(VLOOKUP(X33,'Tableau coefficient '!$A$3:$B$1004,2,FALSE))*2 -> 0 | Z33: 0 | AA33: 0 | AB33: =(Z33&AA33) -> 00 | AC33: =(VLOOKUP(AB33,'Tableau coefficient '!$A$3:$B$1004,2,FALSE))*2 -> 0 | AD33: 0 | AE33: 0 | AF33: =(AD33&AE33) -> 00 | AG33: =VLOOKUP(AF33,'Tableau coefficient '!$A$3:$B$1004,2,FALSE) -> 0 | AH33: 0 | AI33: 0 | AJ33: =(AH33&AI33) -> 00 | AK33: =VLOOKUP(AJ33,'Tableau coefficient '!$A$3:$B$1004,2,FALSE) -> 0 | AL33: 0 | AM33: 0 | AN33: =(AL33&AM33) -> 00 | AO33: =VLOOKUP(AN33,'Tableau coefficient '!$A$3:$B$1004,2,FALSE) -> 0 | AP33: 0 | AQ33: 0 | AR33: =(AP33&AQ33) -> 00 | AS33: =VLOOKUP(AR33,'Tableau coefficient '!$A$3:$B$1004,2,FALSE) -> 0 | AT33: 0 | AU33: 0 | AV33: =(AT33&AU33) -> 00 | AW33: =VLOOKUP(AV33,'Tableau coefficient '!$A$3:$B$1004,2,FALSE) -> 0 | AX33: 0 | AY33: 0 | AZ33: =(AX33&AY33) -> 00 | BA33: =VLOOKUP(AZ33,'Tableau coefficient '!$A$3:$B$1004,2,FALSE) -> 0 | BB33: 0 | BC33: 0 | BD33: =(BB33&BC33) -> 00 | BE33: =(VLOOKUP(BD33,'Tableau coefficient '!$A$3:$B$1004,2,FALSE))*2 -> 0 | BF33: 0 | BG33: 0 | BH33: =(BF33&BG33) -> 00 | BI33: =VLOOKUP(BH33,'Tableau coefficient '!$A$3:$B$1004,2,FALSE) -> 0 | BJ33: 0 | BK33: 0 | BL33: =(BJ33&BK33) -> 00 | BM33: =VLOOKUP(BL33,'Tableau coefficient '!$A$3:$B$1004,2,FALSE) -> 0 | BN33: =SUM(M33,I33,Q33,U33,Y33,AC33,AG33,AO33,AS33,BA33,BE33,BI33,BM33) -> 62 | BO33: =RANK(BN33,$BN$4:$BN$446,0) -> 291
A34: VINCENTI | B34: Torea | C34: M | D34: PO 1 | E34: AS TAMARII PUNARUU TRIATHLON | F34: J | G34: 1 | H34: =(F34&G34) -> J1 | I34: =VLOOKUP(H34,'Tableau coefficient '!$A$3:$B$1004,2,FALSE) -> 150 | J34: J | K34: 1 | L34: =(J34&K34) -> J1 | M34: =VLOOKUP(L34,'Tableau coefficient '!$A$3:$B$1004,2,FALSE) -> 150 | N34: J | O34: 1 | P34: =(N34&O34) -> J1 | Q34: =VLOOKUP(P34,'Tableau coefficient '!$A$3:$B$1004,2,FALSE) -> 150 | R34: J | S34: 1 | T34: =(R34&S34) -> J1 | U34: =VLOOKUP(T34,'Tableau coefficient '!$A$3:$B$1004,2,FALSE) -> 150 | V34: J | W34: 1 | X34: =(V34&W34) -> J1 | Y34: =(VLOOKUP(X34,'Tableau coefficient '!$A$3:$B$1004,2,FALSE))*2 -> 300 | Z34: J | AA34: 1 | AB34: =(Z34&AA34) -> J1 | AC34: =(VLOOKUP(AB34,'Tableau coefficient '!$A$3:$B$1004,2,FALSE))*2 -> 300 | AD34: J | AE34: 1 | AF34: =(AD34&AE34) -> J1 | AG34: =VLOOKUP(AF34,'Tableau coefficient '!$A$3:$B$1004,2,FALSE) -> 150 | AH34: 0 | AI34: 0 | AJ34: =(AH34&AI34) -> 00 | AK34: =VLOOKUP(AJ34,'Tableau coefficient '!$A$3:$B$1004,2,FALSE) -> 0 | AL34: 0 | AM34: 0 | AN34: =(AL34&AM34) -> 00 | AO34: =VLOOKUP(AN34,'Tableau coefficient '!$A$3:$B$1004,2,FALSE) -> 0 | AP34: J | AQ34: 1 | AR34: =(AP34&AQ34) -> J1 | AS34: =VLOOKUP(AR34,'Tableau coefficient '!$A$3:$B$1004,2,FALSE) -> 150 | AT34: 0 | AU34: 0 | AV34: =(AT34&AU34) -> 00 | AW34: =VLOOKUP(AV34,'Tableau coefficient '!$A$3:$B$1004,2,FALSE) -> 0 | AX34: J | AY34: 1 | AZ34: =(AX34&AY34) -> J1 | BA34: =VLOOKUP(AZ34,'Tableau coefficient '!$A$3:$B$1004,2,FALSE) -> 150 | BB34: J | BC34: 1 | BD34: =(BB34&BC34) -> J1 | BE34: =(VLOOKUP(BD34,'Tableau coefficient '!$A$3:$B$1004,2,FALSE))*2 -> 300 | BF34: 0 | BG34: 0 | BH34: =(BF34&BG34) -> 00 | BI34: =VLOOKUP(BH34,'Tableau coefficient '!$A$3:$B$1004,2,FALSE) -> 0 | BJ34: 0 | BK34: 0 | BL34: =(BJ34&BK34) -> 00 | BM34: =VLOOKUP(BL34,'Tableau coefficient '!$A$3:$B$1004,2,FALSE) -> 0 | BN34: =SUM(M34,I34,Q34,U34,Y34,AC34,AG34,AO34,AS34,BA34,BE34,BI34,BM34) -> 1950 | BO34: =RANK(BN34,$BN$4:$BN$446,0) -> 2
A35: CHASTANG | B35: Leonid | C35: M | D35: PO 1 | E35: FEI PI TRIATHLON | F35: 0 | G35: 0 | H35: =(F35&G35) -> 00 | I35: =VLOOKUP(H35,'Tableau coefficient '!$A$3:$B$1004,2,FALSE) -> 0 | J35: 0 | K35: 0 | L35: =(J35&K35) -> 00 | M35: =VLOOKUP(L35,'Tableau coefficient '!$A$3:$B$1004,2,FALSE) -> 0 | N35: 0 | O35: 0 | P35: =(N35&O35) -> 00 | Q35: =VLOOKUP(P35,'Tableau coefficient '!$A$3:$B$1004,2,FALSE) -> 0 | R35: 0 | S35: 0 | T35: =(R35&S35) -> 00 | U35: =VLOOKUP(T35,'Tableau coefficient '!$A$3:$B$1004,2,FALSE) -> 0 | V35: 0 | W35: 0 | X35: =(V35&W35) -> 00 | Y35: =(VLOOKUP(X35,'Tableau coefficient '!$A$3:$B$1004,2,FALSE))*2 -> 0 | Z35: 0 | AA35: 0 | AB35: =(Z35&AA35) -> 00 | AC35: =(VLOOKUP(AB35,'Tableau coefficient '!$A$3:$B$1004,2,FALSE))*2 -> 0 | AD35: J | AE35: 4 | AF35: =(AD35&AE35) -> J4 | AG35: =VLOOKUP(AF35,'Tableau coefficient '!$A$3:$B$1004,2,FALSE) -> 100 | AH35: 0 | AI35: 0 | AJ35: =(AH35&AI35) -> 00 | AK35: =VLOOKUP(AJ35,'Tableau coefficient '!$A$3:$B$1004,2,FALSE) -> 0 | AL35: 0 | AM35: 0 | AN35: =(AL35&AM35) -> 00 | AO35: =VLOOKUP(AN35,'Tableau coefficient '!$A$3:$B$1004,2,FALSE) -> 0 | AP35: J | AQ35: 4 | AR35: =(AP35&AQ35) -> J4 | AS35: =VLOOKUP(AR35,'Tableau coefficient '!$A$3:$B$1004,2,FALSE) -> 100 | AT35: 0 | AU35: 0 | AV35: =(AT35&AU35) -> 00 | AW35: =VLOOKUP(AV35,'Tableau coefficient '!$A$3:$B$1004,2,FALSE) -> 0 | AX35: J | AY35: 2 | AZ35: =(AX35&AY35) -> J2 | BA35: =VLOOKUP(AZ35,'Tableau coefficient '!$A$3:$B$1004,2,FALSE) -> 125 | BB35: J | BC35: 3 | BD35: =(BB35&BC35) -> J3 | BE35: =(VLOOKUP(BD35,'Tableau coefficient '!$A$3:$B$1004,2,FALSE))*2 -> 220 | BF35: 0 | BG35: 0 | BH35: =(BF35&BG35) -> 00 | BI35: =VLOOKUP(BH35,'Tableau coefficient '!$A$3:$B$1004,2,FALSE) -> 0 | BJ35: 0 | BK35: 0 | BL35: =(BJ35&BK35) -> 00 | BM35: =VLOOKUP(BL35,'Tableau coefficient '!$A$3:$B$1004,2,FALSE) -> 0 | BN35: =SUM(M35,I35,Q35,U35,Y35,AC35,AG35,AO35,AS35,BA35,BE35,BI35,BM35) -> 545 | BO35: =RANK(BN35,$BN$4:$BN$446,0) -> 110
A36: WONG | B36: Keivanui | C36: M | D36: PO 1 | E36: KONA TRI TAHITI | F36: 0 | G36: 0 | H36: =(F36&G36) -> 00 | I36: =VLOOKUP(H36,'Tableau coefficient '!$A$3:$B$1004,2,FALSE) -> 0 | J36: 0 | K36: 0 | L36: =(J36&K36) -> 00 | M36: =VLOOKUP(L36,'Tableau coefficient '!$A$3:$B$1004,2,FALSE) -> 0 | N36: 0 | O36: 0 | P36: =(N36&O36) -> 00 | Q36: =VLOOKUP(P36,'Tableau coefficient '!$A$3:$B$1004,2,FALSE) -> 0 | R36: 0 | S36: 0 | T36: =(R36&S36) -> 00 | U36: =VLOOKUP(T36,'Tableau coefficient '!$A$3:$B$1004,2,FALSE) -> 0 | V36: 0 | W36: 0 | X36: =(V36&W36) -> 00 | Y36: =(VLOOKUP(X36,'Tableau coefficient '!$A$3:$B$1004,2,FALSE))*2 -> 0 | Z36: 0 | AA36: 0 | AB36: =(Z36&AA36) -> 00 | AC36: =(VLOOKUP(AB36,'Tableau coefficient '!$A$3:$B$1004,2,FALSE))*2 -> 0 | AD36: J | AE36: 18 | AF36: =(AD36&AE36) -> J18 | AG36: =VLOOKUP(AF36,'Tableau coefficient '!$A$3:$B$1004,2,FALSE) -> 62.5 | AH36: 0 | AI36: 0 | AJ36: =(AH36&AI36) -> 00 | AK36: =VLOOKUP(AJ36,'Tableau coefficient '!$A$3:$B$1004,2,FALSE) -> 0 | AL36: 0 | AM36: 0 | AN36: =(AL36&AM36) -> 00 | AO36: =VLOOKUP(AN36,'Tableau coefficient '!$A$3:$B$1004,2,FALSE) -> 0 | AP36: J | AQ36: 11 | AR36: =(AP36&AQ36) -> J11 | AS36: =VLOOKUP(AR36,'Tableau coefficient '!$A$3:$B$1004,2,FALSE) -> 70 | AT36: 0 | AU36: 0 | AV36: =(AT36&AU36) -> 00 | AW36: =VLOOKUP(AV36,'Tableau coefficient '!$A$3:$B$1004,2,FALSE) -> 0 | AX36: J | AY36: 9 | AZ36: =(AX36&AY36) -> J9 | BA36: =VLOOKUP(AZ36,'Tableau coefficient '!$A$3:$B$1004,2,FALSE) -> 75 | BB36: 0 | BC36: 0 | BD36: =(BB36&BC36) -> 00 | BE36: =(VLOOKUP(BD36,'Tableau coefficient '!$A$3:$B$1004,2,FALSE))*2 -> 0 | BF36: 0 | BG36: 0 | BH36: =(BF36&BG36) -> 00 | BI36: =VLOOKUP(BH36,'Tableau coefficient '!$A$3:$B$1004,2,FALSE) -> 0 | BJ36: 0 | BK36: 0 | BL36: =(BJ36&BK36) -> 00 | BM36: =VLOOKUP(BL36,'Tableau coefficient '!$A$3:$B$1004,2,FALSE) -> 0 | BN36: =SUM(M36,I36,Q36,U36,Y36,AC36,AG36,AO36,AS36,BA36,BE36,BI36,BM36) -> 207.5 | BO36: =RANK(BN36,$BN$4:$BN$446,0) -> 224
A37: LAPIERRE | B37: Timoty | C37: M | D37: PO 2 | E37: FEI PI TRIATHLON | F37: 0 | G37: 0 | H37: =(F37&G37) -> 00 | I37: =VLOOKUP(H37,'Tableau coefficient '!$A$3:$B$1004,2,FALSE) -> 0 | J37: 0 | K37: 0 | L37: =(J37&K37) -> 00 | M37: =VLOOKUP(L37,'Tableau coefficient '!$A$3:$B$1004,2,FALSE) -> 0 | N37: 0 | O37: 0 | P37: =(N37&O37) -> 00 | Q37: =VLOOKUP(P37,'Tableau coefficient '!$A$3:$B$1004,2,FALSE) -> 0 | R37: 0 | S37: 0 | T37: =(R37&S37) -> 00 | U37: =VLOOKUP(T37,'Tableau coefficient '!$A$3:$B$1004,2,FALSE) -> 0 | V37: 0 | W37: 0 | X37: =(V37&W37) -> 00 | Y37: =(VLOOKUP(X37,'Tableau coefficient '!$A$3:$B$1004,2,FALSE))*2 -> 0 | Z37: 0 | AA37: 0 | AB37: =(Z37&AA37) -> 00 | AC37: =(VLOOKUP(AB37,'Tableau coefficient '!$A$3:$B$1004,2,FALSE))*2 -> 0 | AD37: 0 | AE37: 0 | AF37: =(AD37&AE37) -> 00 | AG37: =VLOOKUP(AF37,'Tableau coefficient '!$A$3:$B$1004,2,FALSE) -> 0 | AH37: 0 | AI37: 0 | AJ37: =(AH37&AI37) -> 00 | AK37: =VLOOKUP(AJ37,'Tableau coefficient '!$A$3:$B$1004,2,FALSE) -> 0 | AL37: 0 | AM37: 0 | AN37: =(AL37&AM37) -> 00 | AO37: =VLOOKUP(AN37,'Tableau coefficient '!$A$3:$B$1004,2,FALSE) -> 0 | AP37: J | AQ37: 13 | AR37: =(AP37&AQ37) -> J13 | AS37: =VLOOKUP(AR37,'Tableau coefficient '!$A$3:$B$1004,2,FALSE) -> 65 | AT37: 0 | AU37: 0 | AV37: =(AT37&AU37) -> 00 | AW37: =VLOOKUP(AV37,'Tableau coefficient '!$A$3:$B$1004,2,FALSE) -> 0 | AX37: J | AY37: 21 | AZ37: =(AX37&AY37) -> J21 | BA37: =VLOOKUP(AZ37,'Tableau coefficient '!$A$3:$B$1004,2,FALSE) -> 61 | BB37: 0 | BC37: 0 | BD37: =(BB37&BC37) -> 00 | BE37: =(VLOOKUP(BD37,'Tableau coefficient '!$A$3:$B$1004,2,FALSE))*2 -> 0 | BF37: 0 | BG37: 0 | BH37: =(BF37&BG37) -> 00 | BI37: =VLOOKUP(BH37,'Tableau coefficient '!$A$3:$B$1004,2,FALSE) -> 0 | BJ37: 0 | BK37: 0 | BL37: =(BJ37&BK37) -> 00 | BM37: =VLOOKUP(BL37,'Tableau coefficient '!$A$3:$B$1004,2,FALSE) -> 0 | BN37: =SUM(M37,I37,Q37,U37,Y37,AC37,AG37,AO37,AS37,BA37,BE37,BI37,BM37) -> 126 | BO37: =RANK(BN37,$BN$4:$BN$446,0) -> 265
A38: ARAKINO | B38: Tenati | C38: M | D38: PO 2 | E38: CERCLE DES NAGEURS DE POLYNESIE | F38: 0 | G38: 0 | H38: =(F38&G38) -> 00 | I38: =VLOOKUP(H38,'Tableau coefficient '!$A$3:$B$1004,2,FALSE) -> 0 | J38: 0 | K38: 0 | L38: =(J38&K38) -> 00 | M38: =VLOOKUP(L38,'Tableau coefficient '!$A$3:$B$1004,2,FALSE) -> 0 | N38: 0 | O38: 0 | P38: =(N38&O38) -> 00 | Q38: =VLOOKUP(P38,'Tableau coefficient '!$A$3:$B$1004,2,FALSE) -> 0 | R38: 0 | S38: 0 | T38: =(R38&S38) -> 00 | U38: =VLOOKUP(T38,'Tableau coefficient '!$A$3:$B$1004,2,FALSE) -> 0 | V38: 0 | W38: 0 | X38: =(V38&W38) -> 00 | Y38: =(VLOOKUP(X38,'Tableau coefficient '!$A$3:$B$1004,2,FALSE))*2 -> 0 | Z38: 0 | AA38: 0 | AB38: =(Z38&AA38) -> 00 | AC38: =(VLOOKUP(AB38,'Tableau coefficient '!$A$3:$B$1004,2,FALSE))*2 -> 0 | AD38: 0 | AE38: 0 | AF38: =(AD38&AE38) -> 00 | AG38: =VLOOKUP(AF38,'Tableau coefficient '!$A$3:$B$1004,2,FALSE) -> 0 | AH38: 0 | AI38: 0 | AJ38: =(AH38&AI38) -> 00 | AK38: =VLOOKUP(AJ38,'Tableau coefficient '!$A$3:$B$1004,2,FALSE) -> 0 | AL38: 0 | AM38: 0 | AN38: =(AL38&AM38) -> 00 | AO38: =VLOOKUP(AN38,'Tableau coefficient '!$A$3:$B$1004,2,FALSE) -> 0 | AP38: J | AQ38: 20 | AR38: =(AP38&AQ38) -> J20 | AS38: =VLOOKUP(AR38,'Tableau coefficient '!$A$3:$B$1004,2,FALSE) -> 61.5 | AT38: 0 | AU38: 0 | AV38: =(AT38&AU38) -> 00 | AW38: =VLOOKUP(AV38,'Tableau coefficient '!$A$3:$B$1004,2,FALSE) -> 0 | AX38: 0 | AY38: 0 | AZ38: =(AX38&AY38) -> 00 | BA38: =VLOOKUP(AZ38,'Tableau coefficient '!$A$3:$B$1004,2,FALSE) -> 0 | BB38: 0 | BC38: 0 | BD38: =(BB38&BC38) -> 00 | BE38: =(VLOOKUP(BD38,'Tableau coefficient '!$A$3:$B$1004,2,FALSE))*2 -> 0 | BF38: 0 | BG38: 0 | BH38: =(BF38&BG38) -> 00 | BI38: =VLOOKUP(BH38,'Tableau coefficient '!$A$3:$B$1004,2,FALSE) -> 0 | BJ38: 0 | BK38: 0 | BL38: =(BJ38&BK38) -> 00 | BM38: =VLOOKUP(BL38,'Tableau coefficient '!$A$3:$B$1004,2,FALSE) -> 0 | BN38: =SUM(M38,I38,Q38,U38,Y38,AC38,AG38,AO38,AS38,BA38,BE38,BI38,BM38) -> 61.5 | BO38: =RANK(BN38,$BN$4:$BN$446,0) -> 292
A39: VETTIER | B39: Maui | C39: M | D39: PO 1 | E39: FEI PI TRIATHLON | F39: 0 | G39: 0 | H39: =(F39&G39) -> 00 | I39: =VLOOKUP(H39,'Tableau coefficient '!$A$3:$B$1004,2,FALSE) -> 0 | J39: 0 | K39: 0 | L39: =(J39&K39) -> 00 | M39: =VLOOKUP(L39,'Tableau coefficient '!$A$3:$B$1004,2,FALSE) -> 0 | N39: 0 | O39: 0 | P39: =(N39&O39) -> 00 | Q39: =VLOOKUP(P39,'Tableau coefficient '!$A$3:$B$1004,2,FALSE) -> 0 | R39: 0 | S39: 0 | T39: =(R39&S39) -> 00 | U39: =VLOOKUP(T39,'Tableau coefficient '!$A$3:$B$1004,2,FALSE) -> 0 | V39: 0 | W39: 0 | X39: =(V39&W39) -> 00 | Y39: =(VLOOKUP(X39,'Tableau coefficient '!$A$3:$B$1004,2,FALSE))*2 -> 0 | Z39: 0 | AA39: 0 | AB39: =(Z39&AA39) -> 00 | AC39: =(VLOOKUP(AB39,'Tableau coefficient '!$A$3:$B$1004,2,FALSE))*2 -> 0 | AD39: 0 | AE39: 0 | AF39: =(AD39&AE39) -> 00 | AG39: =VLOOKUP(AF39,'Tableau coefficient '!$A$3:$B$1004,2,FALSE) -> 0 | AH39: 0 | AI39: 0 | AJ39: =(AH39&AI39) -> 00 | AK39: =VLOOKUP(AJ39,'Tableau coefficient '!$A$3:$B$1004,2,FALSE) -> 0 | AL39: 0 | AM39: 0 | AN39: =(AL39&AM39) -> 00 | AO39: =VLOOKUP(AN39,'Tableau coefficient '!$A$3:$B$1004,2,FALSE) -> 0 | AP39: J | AQ39: 3 | AR39: =(AP39&AQ39) -> J3 | AS39: =VLOOKUP(AR39,'Tableau coefficient '!$A$3:$B$1004,2,FALSE) -> 110 | AT39: 0 | AU39: 0 | AV39: =(AT39&AU39) -> 00 | AW39: =VLOOKUP(AV39,'Tableau coefficient '!$A$3:$B$1004,2,FALSE) -> 0 | AX39: J | AY39: 5 | AZ39: =(AX39&AY39) -> J5 | BA39: =VLOOKUP(AZ39,'Tableau coefficient '!$A$3:$B$1004,2,FALSE) -> 95 | BB39: J | BC39: 5 | BD39: =(BB39&BC39) -> J5 | BE39: =(VLOOKUP(BD39,'Tableau coefficient '!$A$3:$B$1004,2,FALSE))*2 -> 190 | BF39: 0 | BG39: 0 | BH39: =(BF39&BG39) -> 00 | BI39: =VLOOKUP(BH39,'Tableau coefficient '!$A$3:$B$1004,2,FALSE) -> 0 | BJ39: 0 | BK39: 0 | BL39: =(BJ39&BK39) -> 00 | BM39: =VLOOKUP(BL39,'Tableau coefficient '!$A$3:$B$1004,2,FALSE) -> 0 | BN39: =SUM(M39,I39,Q39,U39,Y39,AC39,AG39,AO39,AS39,BA39,BE39,BI39,BM39) -> 395 | BO39: =RANK(BN39,$BN$4:$BN$446,0) -> 154
A40: RICHMOND | B40: Hirama | C40: M | D40: PO 2 | E40: MARARA TRI | F40: 0 | G40: 0 | H40: =(F40&G40) -> 00 | I40: =VLOOKUP(H40,'Tableau coefficient '!$A$3:$B$1004,2,FALSE) -> 0 | J40: 0 | K40: 0 | L40: =(J40&K40) -> 00 | M40: =VLOOKUP(L40,'Tableau coefficient '!$A$3:$B$1004,2,FALSE) -> 0 | N40: 0 | O40: 0 | P40: =(N40&O40) -> 00 | Q40: =VLOOKUP(P40,'Tableau coefficient '!$A$3:$B$1004,2,FALSE) -> 0 | R40: 0 | S40: 0 | T40: =(R40&S40) -> 00 | U40: =VLOOKUP(T40,'Tableau coefficient '!$A$3:$B$1004,2,FALSE) -> 0 | V40: 0 | W40: 0 | X40: =(V40&W40) -> 00 | Y40: =(VLOOKUP(X40,'Tableau coefficient '!$A$3:$B$1004,2,FALSE))*2 -> 0 | Z40: 0 | AA40: 0 | AB40: =(Z40&AA40) -> 00 | AC40: =(VLOOKUP(AB40,'Tableau coefficient '!$A$3:$B$1004,2,FALSE))*2 -> 0 | AD40: 0 | AE40: 0 | AF40: =(AD40&AE40) -> 00 | AG40: =VLOOKUP(AF40,'Tableau coefficient '!$A$3:$B$1004,2,FALSE) -> 0 | AH40: 0 | AI40: 0 | AJ40: =(AH40&AI40) -> 00 | AK40: =VLOOKUP(AJ40,'Tableau coefficient '!$A$3:$B$1004,2,FALSE) -> 0 | AL40: 0 | AM40: 0 | AN40: =(AL40&AM40) -> 00 | AO40: =VLOOKUP(AN40,'Tableau coefficient '!$A$3:$B$1004,2,FALSE) -> 0 | AP40: 0 | AQ40: 0 | AR40: =(AP40&AQ40) -> 00 | AS40: =VLOOKUP(AR40,'Tableau coefficient '!$A$3:$B$1004,2,FALSE) -> 0 | AT40: 0 | AU40: 0 | AV40: =(AT40&AU40) -> 00 | AW40: =VLOOKUP(AV40,'Tableau coefficient '!$A$3:$B$1004,2,FALSE) -> 0 | AX40: 0 | AY40: 0 | AZ40: =(AX40&AY40) -> 00 | BA40: =VLOOKUP(AZ40,'Tableau coefficient '!$A$3:$B$1004,2,FALSE) -> 0 | BB40: J | BC40: 27 | BD40: =(BB40&BC40) -> J27 | BE40: =(VLOOKUP(BD40,'Tableau coefficient '!$A$3:$B$1004,2,FALSE))*2 -> 116 | BF40: 0 | BG40: 0 | BH40: =(BF40&BG40) -> 00 | BI40: =VLOOKUP(BH40,'Tableau coefficient '!$A$3:$B$1004,2,FALSE) -> 0 | BJ40: 0 | BK40: 0 | BL40: =(BJ40&BK40) -> 00 | BM40: =VLOOKUP(BL40,'Tableau coefficient '!$A$3:$B$1004,2,FALSE) -> 0 | BN40: =SUM(M40,I40,Q40,U40,Y40,AC40,AG40,AO40,AS40,BA40,BE40,BI40,BM40) -> 116 | BO40: =RANK(BN40,$BN$4:$BN$446,0) -> 269
A41: GLAPSKI | B41: Melodie | C41: F | D41: PO 2 | E41: AS TAMARII PUNARUU TRIATHLON | F41: J | G41: 20 | H41: =(F41&G41) -> J20 | I41: =VLOOKUP(H41,'Tableau coefficient '!$A$3:$B$1004,2,FALSE) -> 61.5 | J41: 0 | K41: 0 | L41: =(J41&K41) -> 00 | M41: =VLOOKUP(L41,'Tableau coefficient '!$A$3:$B$1004,2,FALSE) -> 0 | N41: J | O41: 16 | P41: =(N41&O41) -> J16 | Q41: =VLOOKUP(P41,'Tableau coefficient '!$A$3:$B$1004,2,FALSE) -> 63.5 | R41: J | S41: 30 | T41: =(R41&S41) -> J30 | U41: =VLOOKUP(T41,'Tableau coefficient '!$A$3:$B$1004,2,FALSE) -> 56.5 | V41: J | W41: 26 | X41: =(V41&W41) -> J26 | Y41: =(VLOOKUP(X41,'Tableau coefficient '!$A$3:$B$1004,2,FALSE))*2 -> 117 | Z41: J | AA41: 18 | AB41: =(Z41&AA41) -> J18 | AC41: =(VLOOKUP(AB41,'Tableau coefficient '!$A$3:$B$1004,2,FALSE))*2 -> 125 | AD41: J | AE41: 22 | AF41: =(AD41&AE41) -> J22 | AG41: =VLOOKUP(AF41,'Tableau coefficient '!$A$3:$B$1004,2,FALSE) -> 60.5 | AH41: 0 | AI41: 0 | AJ41: =(AH41&AI41) -> 00 | AK41: =VLOOKUP(AJ41,'Tableau coefficient '!$A$3:$B$1004,2,FALSE) -> 0 | AL41: 0 | AM41: 0 | AN41: =(AL41&AM41) -> 00 | AO41: =VLOOKUP(AN41,'Tableau coefficient '!$A$3:$B$1004,2,FALSE) -> 0 | AP41: 0 | AQ41: 0 | AR41: =(AP41&AQ41) -> 00 | AS41: =VLOOKUP(AR41,'Tableau coefficient '!$A$3:$B$1004,2,FALSE) -> 0 | AT41: 0 | AU41: 0 | AV41: =(AT41&AU41) -> 00 | AW41: =VLOOKUP(AV41,'Tableau coefficient '!$A$3:$B$1004,2,FALSE) -> 0 | AX41: J | AY41: 30 | AZ41: =(AX41&AY41) -> J30 | BA41: =VLOOKUP(AZ41,'Tableau coefficient '!$A$3:$B$1004,2,FALSE) -> 56.5 | BB41: 0 | BC41: 0 | BD41: =(BB41&BC41) -> 00 | BE41: =(VLOOKUP(BD41,'Tableau coefficient '!$A$3:$B$1004,2,FALSE))*2 -> 0 | BF41: 0 | BG41: 0 | BH41: =(BF41&BG41) -> 00 | BI41: =VLOOKUP(BH41,'Tableau coefficient '!$A$3:$B$1004,2,FALSE) -> 0 | BJ41: 0 | BK41: 0 | BL41: =(BJ41&BK41) -> 00 | BM41: =VLOOKUP(BL41,'Tableau coefficient '!$A$3:$B$1004,2,FALSE) -> 0 | BN41: =SUM(M41,I41,Q41,U41,Y41,AC41,AG41,AO41,AS41,BA41,BE41,BI41,BM41) -> 540.5 | BO41: =RANK(BN41,$BN$4:$BN$446,0) -> 113
A42: JOCAILLE CHAPLAIN | B42: Naia | C42: F | D42: PO 2 | E42: KONA TRI TAHITI | F42: 0 | G42: 0 | H42: =(F42&G42) -> 00 | I42: =VLOOKUP(H42,'Tableau coefficient '!$A$3:$B$1004,2,FALSE) -> 0 | J42: J | K42: 26 | L42: =(J42&K42) -> J26 | M42: =VLOOKUP(L42,'Tableau coefficient '!$A$3:$B$1004,2,FALSE) -> 58.5 | N42: 0 | O42: 0 | P42: =(N42&O42) -> 00 | Q42: =VLOOKUP(P42,'Tableau coefficient '!$A$3:$B$1004,2,FALSE) -> 0 | R42: J | S42: 18 | T42: =(R42&S42) -> J18 | U42: =VLOOKUP(T42,'Tableau coefficient '!$A$3:$B$1004,2,FALSE) -> 62.5 | V42: 0 | W42: 0 | X42: =(V42&W42) -> 00 | Y42: =(VLOOKUP(X42,'Tableau coefficient '!$A$3:$B$1004,2,FALSE))*2 -> 0 | Z42: 0 | AA42: 0 | AB42: =(Z42&AA42) -> 00 | AC42: =(VLOOKUP(AB42,'Tableau coefficient '!$A$3:$B$1004,2,FALSE))*2 -> 0 | AD42: J | AE42: 14 | AF42: =(AD42&AE42) -> J14 | AG42: =VLOOKUP(AF42,'Tableau coefficient '!$A$3:$B$1004,2,FALSE) -> 64.5 | AH42: 0 | AI42: 0 | AJ42: =(AH42&AI42) -> 00 | AK42: =VLOOKUP(AJ42,'Tableau coefficient '!$A$3:$B$1004,2,FALSE) -> 0 | AL42: 0 | AM42: 0 | AN42: =(AL42&AM42) -> 00 | AO42: =VLOOKUP(AN42,'Tableau coefficient '!$A$3:$B$1004,2,FALSE) -> 0 | AP42: J | AQ42: 10 | AR42: =(AP42&AQ42) -> J10 | AS42: =VLOOKUP(AR42,'Tableau coefficient '!$A$3:$B$1004,2,FALSE) -> 72.5 | AT42: 0 | AU42: 0 | AV42: =(AT42&AU42) -> 00 | AW42: =VLOOKUP(AV42,'Tableau coefficient '!$A$3:$B$1004,2,FALSE) -> 0 | AX42: J | AY42: 9 | AZ42: =(AX42&AY42) -> J9 | BA42: =VLOOKUP(AZ42,'Tableau coefficient '!$A$3:$B$1004,2,FALSE) -> 75 | BB42: J | BC42: 11 | BD42: =(BB42&BC42) -> J11 | BE42: =(VLOOKUP(BD42,'Tableau coefficient '!$A$3:$B$1004,2,FALSE))*2 -> 140 | BF42: 0 | BG42: 0 | BH42: =(BF42&BG42) -> 00 | BI42: =VLOOKUP(BH42,'Tableau coefficient '!$A$3:$B$1004,2,FALSE) -> 0 | BJ42: 0 | BK42: 0 | BL42: =(BJ42&BK42) -> 00 | BM42: =VLOOKUP(BL42,'Tableau coefficient '!$A$3:$B$1004,2,FALSE) -> 0 | BN42: =SUM(M42,I42,Q42,U42,Y42,AC42,AG42,AO42,AS42,BA42,BE42,BI42,BM42) -> 473 | BO42: =RANK(BN42,$BN$4:$BN$446,0) -> 128
A43: LIU SING | B43: Anae | C43: F | D43: PO 1 | E43: CERCLE DES NAGEURS DE POLYNESIE | F43: J | G43: 6 | H43: =(F43&G43) -> J6 | I43: =VLOOKUP(H43,'Tableau coefficient '!$A$3:$B$1004,2,FALSE) -> 90 | J43: J | K43: 7 | L43: =(J43&K43) -> J7 | M43: =VLOOKUP(L43,'Tableau coefficient '!$A$3:$B$1004,2,FALSE) -> 85 | N43: J | O43: 6 | P43: =(N43&O43) -> J6 | Q43: =VLOOKUP(P43,'Tableau coefficient '!$A$3:$B$1004,2,FALSE) -> 90 | R43: J | S43: 9 | T43: =(R43&S43) -> J9 | U43: =VLOOKUP(T43,'Tableau coefficient '!$A$3:$B$1004,2,FALSE) -> 75 | V43: J | W43: 6 | X43: =(V43&W43) -> J6 | Y43: =(VLOOKUP(X43,'Tableau coefficient '!$A$3:$B$1004,2,FALSE))*2 -> 180 | Z43: J | AA43: 4 | AB43: =(Z43&AA43) -> J4 | AC43: =(VLOOKUP(AB43,'Tableau coefficient '!$A$3:$B$1004,2,FALSE))*2 -> 200 | AD43: J | AE43: 7 | AF43: =(AD43&AE43) -> J7 | AG43: =VLOOKUP(AF43,'Tableau coefficient '!$A$3:$B$1004,2,FALSE) -> 85 | AH43: 0 | AI43: 0 | AJ43: =(AH43&AI43) -> 00 | AK43: =VLOOKUP(AJ43,'Tableau coefficient '!$A$3:$B$1004,2,FALSE) -> 0 | AL43: 0 | AM43: 0 | AN43: =(AL43&AM43) -> 00 | AO43: =VLOOKUP(AN43,'Tableau coefficient '!$A$3:$B$1004,2,FALSE) -> 0 | AP43: 0 | AQ43: 0 | AR43: =(AP43&AQ43) -> 00 | AS43: =VLOOKUP(AR43,'Tableau coefficient '!$A$3:$B$1004,2,FALSE) -> 0 | AT43: 0 | AU43: 0 | AV43: =(AT43&AU43) -> 00 | AW43: =VLOOKUP(AV43,'Tableau coefficient '!$A$3:$B$1004,2,FALSE) -> 0 | AX43: J | AY43: 6 | AZ43: =(AX43&AY43) -> J6 | BA43: =VLOOKUP(AZ43,'Tableau coefficient '!$A$3:$B$1004,2,FALSE) -> 90 | BB43: J | BC43: 12 | BD43: =(BB43&BC43) -> J12 | BE43: =(VLOOKUP(BD43,'Tableau coefficient '!$A$3:$B$1004,2,FALSE))*2 -> 135 | BF43: 0 | BG43: 0 | BH43: =(BF43&BG43) -> 00 | BI43: =VLOOKUP(BH43,'Tableau coefficient '!$A$3:$B$1004,2,FALSE) -> 0 | BJ43: 0 | BK43: 0 | BL43: =(BJ43&BK43) -> 00 | BM43: =VLOOKUP(BL43,'Tableau coefficient '!$A$3:$B$1004,2,FALSE) -> 0 | BN43: =SUM(M43,I43,Q43,U43,Y43,AC43,AG43,AO43,AS43,BA43,BE43,BI43,BM43) -> 1030 | BO43: =RANK(BN43,$BN$4:$BN$446,0) -> 32
A44: PHILIPPE | B44: Zelie | C44: F | D44: PO 2 | E44: AS TAMARII PUNARUU TRIATHLON | F44: 0 | G44: 0 | H44: =(F44&G44) -> 00 | I44: =VLOOKUP(H44,'Tableau coefficient '!$A$3:$B$1004,2,FALSE) -> 0 | J44: 0 | K44: 0 | L44: =(J44&K44) -> 00 | M44: =VLOOKUP(L44,'Tableau coefficient '!$A$3:$B$1004,2,FALSE) -> 0 | N44: J | O44: 103 | P44: =(N44&O44) -> J103 | Q44: =VLOOKUP(P44,'Tableau coefficient '!$A$3:$B$1004,2,FALSE) -> 20 | R44: J | S44: 23 | T44: =(R44&S44) -> J23 | U44: =VLOOKUP(T44,'Tableau coefficient '!$A$3:$B$1004,2,FALSE) -> 60 | V44: 0 | W44: 0 | X44: =(V44&W44) -> 00 | Y44: =(VLOOKUP(X44,'Tableau coefficient '!$A$3:$B$1004,2,FALSE))*2 -> 0 | Z44: 0 | AA44: 0 | AB44: =(Z44&AA44) -> 00 | AC44: =(VLOOKUP(AB44,'Tableau coefficient '!$A$3:$B$1004,2,FALSE))*2 -> 0 | AD44: 0 | AE44: 0 | AF44: =(AD44&AE44) -> 00 | AG44: =VLOOKUP(AF44,'Tableau coefficient '!$A$3:$B$1004,2,FALSE) -> 0 | AH44: 0 | AI44: 0 | AJ44: =(AH44&AI44) -> 00 | AK44: =VLOOKUP(AJ44,'Tableau coefficient '!$A$3:$B$1004,2,FALSE) -> 0 | AL44: 0 | AM44: 0 | AN44: =(AL44&AM44) -> 00 | AO44: =VLOOKUP(AN44,'Tableau coefficient '!$A$3:$B$1004,2,FALSE) -> 0 | AP44: 0 | AQ44: 0 | AR44: =(AP44&AQ44) -> 00 | AS44: =VLOOKUP(AR44,'Tableau coefficient '!$A$3:$B$1004,2,FALSE) -> 0 | AT44: 0 | AU44: 0 | AV44: =(AT44&AU44) -> 00 | AW44: =VLOOKUP(AV44,'Tableau coefficient '!$A$3:$B$1004,2,FALSE) -> 0 | AX44: 0 | AY44: 0 | AZ44: =(AX44&AY44) -> 00 | BA44: =VLOOKUP(AZ44,'Tableau coefficient '!$A$3:$B$1004,2,FALSE) -> 0 | BB44: 0 | BC44: 0 | BD44: =(BB44&BC44) -> 00 | BE44: =(VLOOKUP(BD44,'Tableau coefficient '!$A$3:$B$1004,2,FALSE))*2 -> 0 | BF44: 0 | BG44: 0 | BH44: =(BF44&BG44) -> 00 | BI44: =VLOOKUP(BH44,'Tableau coefficient '!$A$3:$B$1004,2,FALSE) -> 0 | BJ44: 0 | BK44: 0 | BL44: =(BJ44&BK44) -> 00 | BM44: =VLOOKUP(BL44,'Tableau coefficient '!$A$3:$B$1004,2,FALSE) -> 0 | BN44: =SUM(M44,I44,Q44,U44,Y44,AC44,AG44,AO44,AS44,BA44,BE44,BI44,BM44) -> 80 | BO44: =RANK(BN44,$BN$4:$BN$446,0) -> 279
A45: RICHMOND | B45: Iraya | C45: F | D45: PO 1 | E45: MARARA TRI | F45: 0 | G45: 0 | H45: =(F45&G45) -> 00 | I45: =VLOOKUP(H45,'Tableau coefficient '!$A$3:$B$1004,2,FALSE) -> 0 | J45: 0 | K45: 0 | L45: =(J45&K45) -> 00 | M45: =VLOOKUP(L45,'Tableau coefficient '!$A$3:$B$1004,2,FALSE) -> 0 | N45: 0 | O45: 0 | P45: =(N45&O45) -> 00 | Q45: =VLOOKUP(P45,'Tableau coefficient '!$A$3:$B$1004,2,FALSE) -> 0 | R45: 0 | S45: 0 | T45: =(R45&S45) -> 00 | U45: =VLOOKUP(T45,'Tableau coefficient '!$A$3:$B$1004,2,FALSE) -> 0 | V45: 0 | W45: 0 | X45: =(V45&W45) -> 00 | Y45: =(VLOOKUP(X45,'Tableau coefficient '!$A$3:$B$1004,2,FALSE))*2 -> 0 | Z45: 0 | AA45: 0 | AB45: =(Z45&AA45) -> 00 | AC45: =(VLOOKUP(AB45,'Tableau coefficient '!$A$3:$B$1004,2,FALSE))*2 -> 0 | AD45: 0 | AE45: 0 | AF45: =(AD45&AE45) -> 00 | AG45: =VLOOKUP(AF45,'Tableau coefficient '!$A$3:$B$1004,2,FALSE) -> 0 | AH45: 0 | AI45: 0 | AJ45: =(AH45&AI45) -> 00 | AK45: =VLOOKUP(AJ45,'Tableau coefficient '!$A$3:$B$1004,2,FALSE) -> 0 | AL45: 0 | AM45: 0 | AN45: =(AL45&AM45) -> 00 | AO45: =VLOOKUP(AN45,'Tableau coefficient '!$A$3:$B$1004,2,FALSE) -> 0 | AP45: J | AQ45: 14 | AR45: =(AP45&AQ45) -> J14 | AS45: =VLOOKUP(AR45,'Tableau coefficient '!$A$3:$B$1004,2,FALSE) -> 64.5 | AT45: 0 | AU45: 0 | AV45: =(AT45&AU45) -> 00 | AW45: =VLOOKUP(AV45,'Tableau coefficient '!$A$3:$B$1004,2,FALSE) -> 0 | AX45: 0 | AY45: 0 | AZ45: =(AX45&AY45) -> 00 | BA45: =VLOOKUP(AZ45,'Tableau coefficient '!$A$3:$B$1004,2,FALSE) -> 0 | BB45: 0 | BC45: 0 | BD45: =(BB45&BC45) -> 00 | BE45: =(VLOOKUP(BD45,'Tableau coefficient '!$A$3:$B$1004,2,FALSE))*2 -> 0 | BF45: 0 | BG45: 0 | BH45: =(BF45&BG45) -> 00 | BI45: =VLOOKUP(BH45,'Tableau coefficient '!$A$3:$B$1004,2,FALSE) -> 0 | BJ45: 0 | BK45: 0 | BL45: =(BJ45&BK45) -> 00 | BM45: =VLOOKUP(BL45,'Tableau coefficient '!$A$3:$B$1004,2,FALSE) -> 0 | BN45: =SUM(M45,I45,Q45,U45,Y45,AC45,AG45,AO45,AS45,BA45,BE45,BI45,BM45) -> 64.5 | BO45: =RANK(BN45,$BN$4:$BN$446,0) -> 287
A46: CRAWFORD | B46: Kalea | C46: F | D46: PO 2 | E46: MARARA TRI | F46: 0 | G46: 0 | H46: =(F46&G46) -> 00 | I46: =VLOOKUP(H46,'Tableau coefficient '!$A$3:$B$1004,2,FALSE) -> 0 | J46: 0 | K46: 0 | L46: =(J46&K46) -> 00 | M46: =VLOOKUP(L46,'Tableau coefficient '!$A$3:$B$1004,2,FALSE) -> 0 | N46: 0 | O46: 0 | P46: =(N46&O46) -> 00 | Q46: =VLOOKUP(P46,'Tableau coefficient '!$A$3:$B$1004,2,FALSE) -> 0 | R46: 0 | S46: 0 | T46: =(R46&S46) -> 00 | U46: =VLOOKUP(T46,'Tableau coefficient '!$A$3:$B$1004,2,FALSE) -> 0 | V46: 0 | W46: 0 | X46: =(V46&W46) -> 00 | Y46: =(VLOOKUP(X46,'Tableau coefficient '!$A$3:$B$1004,2,FALSE))*2 -> 0 | Z46: 0 | AA46: 0 | AB46: =(Z46&AA46) -> 00 | AC46: =(VLOOKUP(AB46,'Tableau coefficient '!$A$3:$B$1004,2,FALSE))*2 -> 0 | AD46: 0 | AE46: 0 | AF46: =(AD46&AE46) -> 00 | AG46: =VLOOKUP(AF46,'Tableau coefficient '!$A$3:$B$1004,2,FALSE) -> 0 | AH46: 0 | AI46: 0 | AJ46: =(AH46&AI46) -> 00 | AK46: =VLOOKUP(AJ46,'Tableau coefficient '!$A$3:$B$1004,2,FALSE) -> 0 | AL46: 0 | AM46: 0 | AN46: =(AL46&AM46) -> 00 | AO46: =VLOOKUP(AN46,'Tableau coefficient '!$A$3:$B$1004,2,FALSE) -> 0 | AP46: 0 | AQ46: 0 | AR46: =(AP46&AQ46) -> 00 | AS46: =VLOOKUP(AR46,'Tableau coefficient '!$A$3:$B$1004,2,FALSE) -> 0 | AT46: 0 | AU46: 0 | AV46: =(AT46&AU46) -> 00 | AW46: =VLOOKUP(AV46,'Tableau coefficient '!$A$3:$B$1004,2,FALSE) -> 0 | AX46: J | AY46: 20 | AZ46: =(AX46&AY46) -> J20 | BA46: =VLOOKUP(AZ46,'Tableau coefficient '!$A$3:$B$1004,2,FALSE) -> 61.5 | BB46: J | BC46: 19 | BD46: =(BB46&BC46) -> J19 | BE46: =(VLOOKUP(BD46,'Tableau coefficient '!$A$3:$B$1004,2,FALSE))*2 -> 124 | BF46: 0 | BG46: 0 | BH46: =(BF46&BG46) -> 00 | BI46: =VLOOKUP(BH46,'Tableau coefficient '!$A$3:$B$1004,2,FALSE) -> 0 | BJ46: 0 | BK46: 0 | BL46: =(BJ46&BK46) -> 00 | BM46: =VLOOKUP(BL46,'Tableau coefficient '!$A$3:$B$1004,2,FALSE) -> 0 | BN46: =SUM(M46,I46,Q46,U46,Y46,AC46,AG46,AO46,AS46,BA46,BE46,BI46,BM46) -> 185.5 | BO46: =RANK(BN46,$BN$4:$BN$446,0) -> 237
A47: CRAWFORD | B47: Kalei | C47: F | D47: PO 2 | E47: MARARA TRI | F47: 0 | G47: 0 | H47: =(F47&G47) -> 00 | I47: =VLOOKUP(H47,'Tableau coefficient '!$A$3:$B$1004,2,FALSE) -> 0 | J47: 0 | K47: 0 | L47: =(J47&K47) -> 00 | M47: =VLOOKUP(L47,'Tableau coefficient '!$A$3:$B$1004,2,FALSE) -> 0 | N47: 0 | O47: 0 | P47: =(N47&O47) -> 00 | Q47: =VLOOKUP(P47,'Tableau coefficient '!$A$3:$B$1004,2,FALSE) -> 0 | R47: 0 | S47: 0 | T47: =(R47&S47) -> 00 | U47: =VLOOKUP(T47,'Tableau coefficient '!$A$3:$B$1004,2,FALSE) -> 0 | V47: 0 | W47: 0 | X47: =(V47&W47) -> 00 | Y47: =(VLOOKUP(X47,'Tableau coefficient '!$A$3:$B$1004,2,FALSE))*2 -> 0 | Z47: 0 | AA47: 0 | AB47: =(Z47&AA47) -> 00 | AC47: =(VLOOKUP(AB47,'Tableau coefficient '!$A$3:$B$1004,2,FALSE))*2 -> 0 | AD47: 0 | AE47: 0 | AF47: =(AD47&AE47) -> 00 | AG47: =VLOOKUP(AF47,'Tableau coefficient '!$A$3:$B$1004,2,FALSE) -> 0 | AH47: 0 | AI47: 0 | AJ47: =(AH47&AI47) -> 00 | AK47: =VLOOKUP(AJ47,'Tableau coefficient '!$A$3:$B$1004,2,FALSE) -> 0 | AL47: 0 | AM47: 0 | AN47: =(AL47&AM47) -> 00 | AO47: =VLOOKUP(AN47,'Tableau coefficient '!$A$3:$B$1004,2,FALSE) -> 0 | AP47: 0 | AQ47: 0 | AR47: =(AP47&AQ47) -> 00 | AS47: =VLOOKUP(AR47,'Tableau coefficient '!$A$3:$B$1004,2,FALSE) -> 0 | AT47: 0 | AU47: 0 | AV47: =(AT47&AU47) -> 00 | AW47: =VLOOKUP(AV47,'Tableau coefficient '!$A$3:$B$1004,2,FALSE) -> 0 | AX47: J | AY47: 22 | AZ47: =(AX47&AY47) -> J22 | BA47: =VLOOKUP(AZ47,'Tableau coefficient '!$A$3:$B$1004,2,FALSE) -> 60.5 | BB47: J | BC47: 17 | BD47: =(BB47&BC47) -> J17 | BE47: =(VLOOKUP(BD47,'Tableau coefficient '!$A$3:$B$1004,2,FALSE))*2 -> 126 | BF47: 0 | BG47: 0 | BH47: =(BF47&BG47) -> 00 | BI47: =VLOOKUP(BH47,'Tableau coefficient '!$A$3:$B$1004,2,FALSE) -> 0 | BJ47: 0 | BK47: 0 | BL47: =(BJ47&BK47) -> 00 | BM47: =VLOOKUP(BL47,'Tableau coefficient '!$A$3:$B$1004,2,FALSE) -> 0 | BN47: =SUM(M47,I47,Q47,U47,Y47,AC47,AG47,AO47,AS47,BA47,BE47,BI47,BM47) -> 186.5 | BO47: =RANK(BN47,$BN$4:$BN$446,0) -> 235
A48: CHEVALIER | B48: Chloe | C48: F | D48: PO 1 | E48: CERCLE DES NAGEURS DE POLYNESIE | F48: 0 | G48: 0 | H48: =(F48&G48) -> 00 | I48: =VLOOKUP(H48,'Tableau coefficient '!$A$3:$B$1004,2,FALSE) -> 0 | J48: 0 | K48: 0 | L48: =(J48&K48) -> 00 | M48: =VLOOKUP(L48,'Tableau coefficient '!$A$3:$B$1004,2,FALSE) -> 0 | N48: 0 | O48: 0 | P48: =(N48&O48) -> 00 | Q48: =VLOOKUP(P48,'Tableau coefficient '!$A$3:$B$1004,2,FALSE) -> 0 | R48: 0 | S48: 0 | T48: =(R48&S48) -> 00 | U48: =VLOOKUP(T48,'Tableau coefficient '!$A$3:$B$1004,2,FALSE) -> 0 | V48: 0 | W48: 0 | X48: =(V48&W48) -> 00 | Y48: =(VLOOKUP(X48,'Tableau coefficient '!$A$3:$B$1004,2,FALSE))*2 -> 0 | Z48: 0 | AA48: 0 | AB48: =(Z48&AA48) -> 00 | AC48: =(VLOOKUP(AB48,'Tableau coefficient '!$A$3:$B$1004,2,FALSE))*2 -> 0 | AD48: 0 | AE48: 0 | AF48: =(AD48&AE48) -> 00 | AG48: =VLOOKUP(AF48,'Tableau coefficient '!$A$3:$B$1004,2,FALSE) -> 0 | AH48: 0 | AI48: 0 | AJ48: =(AH48&AI48) -> 00 | AK48: =VLOOKUP(AJ48,'Tableau coefficient '!$A$3:$B$1004,2,FALSE) -> 0 | AL48: 0 | AM48: 0 | AN48: =(AL48&AM48) -> 00 | AO48: =VLOOKUP(AN48,'Tableau coefficient '!$A$3:$B$1004,2,FALSE) -> 0 | AP48: 0 | AQ48: 0 | AR48: =(AP48&AQ48) -> 00 | AS48: =VLOOKUP(AR48,'Tableau coefficient '!$A$3:$B$1004,2,FALSE) -> 0 | AT48: 0 | AU48: 0 | AV48: =(AT48&AU48) -> 00 | AW48: =VLOOKUP(AV48,'Tableau coefficient '!$A$3:$B$1004,2,FALSE) -> 0 | AX48: 0 | AY48: 0 | AZ48: =(AX48&AY48) -> 00 | BA48: =VLOOKUP(AZ48,'Tableau coefficient '!$A$3:$B$1004,2,FALSE) -> 0 | BB48: 0 | BC48: 0 | BD48: =(BB48&BC48) -> 00 | BE48: =(VLOOKUP(BD48,'Tableau coefficient '!$A$3:$B$1004,2,FALSE))*2 -> 0 | BF48: 0 | BG48: 0 | BH48: =(BF48&BG48) -> 00 | BI48: =VLOOKUP(BH48,'Tableau coefficient '!$A$3:$B$1004,2,FALSE) -> 0 | BJ48: 0 | BK48: 0 | BL48: =(BJ48&BK48) -> 00 | BM48: =VLOOKUP(BL48,'Tableau coefficient '!$A$3:$B$1004,2,FALSE) -> 0 | BN48: =SUM(M48,I48,Q48,U48,Y48,AC48,AG48,AO48,AS48,BA48,BE48,BI48,BM48) -> 0 | BO48: =RANK(BN48,$BN$4:$BN$446,0) -> 303
A49: ARNOUX | B49: Eliot | C49: M | D49: PU 1 | E49: AS TAMARII PUNARUU TRIATHLON | F49: 0 | G49: 0 | H49: =(F49&G49) -> 00 | I49: =VLOOKUP(H49,'Tableau coefficient '!$A$3:$B$1004,2,FALSE) -> 0 | J49: 0 | K49: 0 | L49: =(J49&K49) -> 00 | M49: =VLOOKUP(L49,'Tableau coefficient '!$A$3:$B$1004,2,FALSE) -> 0 | N49: 0 | O49: 0 | P49: =(N49&O49) -> 00 | Q49: =VLOOKUP(P49,'Tableau coefficient '!$A$3:$B$1004,2,FALSE) -> 0 | R49: 0 | S49: 0 | T49: =(R49&S49) -> 00 | U49: =VLOOKUP(T49,'Tableau coefficient '!$A$3:$B$1004,2,FALSE) -> 0 | V49: 0 | W49: 0 | X49: =(V49&W49) -> 00 | Y49: =(VLOOKUP(X49,'Tableau coefficient '!$A$3:$B$1004,2,FALSE))*2 -> 0 | Z49: 0 | AA49: 0 | AB49: =(Z49&AA49) -> 00 | AC49: =(VLOOKUP(AB49,'Tableau coefficient '!$A$3:$B$1004,2,FALSE))*2 -> 0 | AD49: 0 | AE49: 0 | AF49: =(AD49&AE49) -> 00 | AG49: =VLOOKUP(AF49,'Tableau coefficient '!$A$3:$B$1004,2,FALSE) -> 0 | AH49: 0 | AI49: 0 | AJ49: =(AH49&AI49) -> 00 | AK49: =VLOOKUP(AJ49,'Tableau coefficient '!$A$3:$B$1004,2,FALSE) -> 0 | AL49: 0 | AM49: 0 | AN49: =(AL49&AM49) -> 00 | AO49: =VLOOKUP(AN49,'Tableau coefficient '!$A$3:$B$1004,2,FALSE) -> 0 | AP49: 0 | AQ49: 0 | AR49: =(AP49&AQ49) -> 00 | AS49: =VLOOKUP(AR49,'Tableau coefficient '!$A$3:$B$1004,2,FALSE) -> 0 | AT49: 0 | AU49: 0 | AV49: =(AT49&AU49) -> 00 | AW49: =VLOOKUP(AV49,'Tableau coefficient '!$A$3:$B$1004,2,FALSE) -> 0 | AX49: 0 | AY49: 0 | AZ49: =(AX49&AY49) -> 00 | BA49: =VLOOKUP(AZ49,'Tableau coefficient '!$A$3:$B$1004,2,FALSE) -> 0 | BB49: 0 | BC49: 0 | BD49: =(BB49&BC49) -> 00 | BE49: =(VLOOKUP(BD49,'Tableau coefficient '!$A$3:$B$1004,2,FALSE))*2 -> 0 | BF49: 0 | BG49: 0 | BH49: =(BF49&BG49) -> 00 | BI49: =VLOOKUP(BH49,'Tableau coefficient '!$A$3:$B$1004,2,FALSE) -> 0 | BJ49: 0 | BK49: 0 | BL49: =(BJ49&BK49) -> 00 | BM49: =VLOOKUP(BL49,'Tableau coefficient '!$A$3:$B$1004,2,FALSE) -> 0 | BN49: =SUM(M49,I49,Q49,U49,Y49,AC49,AG49,AO49,AS49,BA49,BE49,BI49,BM49) -> 0 | BO49: =RANK(BN49,$BN$4:$BN$446,0) -> 303
A50: BEAUVAIS | B50: Pierre | C50: M | D50: PU 1 | E50: FEI PI TRIATHLON | F50: 0 | G50: 0 | H50: =(F50&G50) -> 00 | I50: =VLOOKUP(H50,'Tableau coefficient '!$A$3:$B$1004,2,FALSE) -> 0 | J50: 0 | K50: 0 | L50: =(J50&K50) -> 00 | M50: =VLOOKUP(L50,'Tableau coefficient '!$A$3:$B$1004,2,FALSE) -> 0 | N50: 0 | O50: 0 | P50: =(N50&O50) -> 00 | Q50: =VLOOKUP(P50,'Tableau coefficient '!$A$3:$B$1004,2,FALSE) -> 0 | R50: J | S50: 20 | T50: =(R50&S50) -> J20 | U50: =VLOOKUP(T50,'Tableau coefficient '!$A$3:$B$1004,2,FALSE) -> 61.5 | V50: 0 | W50: 0 | X50: =(V50&W50) -> 00 | Y50: =(VLOOKUP(X50,'Tableau coefficient '!$A$3:$B$1004,2,FALSE))*2 -> 0 | Z50: J | AA50: 11 | AB50: =(Z50&AA50) -> J11 | AC50: =(VLOOKUP(AB50,'Tableau coefficient '!$A$3:$B$1004,2,FALSE))*2 -> 140 | AD50: 0 | AE50: 0 | AF50: =(AD50&AE50) -> 00 | AG50: =VLOOKUP(AF50,'Tableau coefficient '!$A$3:$B$1004,2,FALSE) -> 0 | AH50: 0 | AI50: 0 | AJ50: =(AH50&AI50) -> 00 | AK50: =VLOOKUP(AJ50,'Tableau coefficient '!$A$3:$B$1004,2,FALSE) -> 0 | AL50: 0 | AM50: 0 | AN50: =(AL50&AM50) -> 00 | AO50: =VLOOKUP(AN50,'Tableau coefficient '!$A$3:$B$1004,2,FALSE) -> 0 | AP50: 0 | AQ50: 0 | AR50: =(AP50&AQ50) -> 00 | AS50: =VLOOKUP(AR50,'Tableau coefficient '!$A$3:$B$1004,2,FALSE) -> 0 | AT50: 0 | AU50: 0 | AV50: =(AT50&AU50) -> 00 | AW50: =VLOOKUP(AV50,'Tableau coefficient '!$A$3:$B$1004,2,FALSE) -> 0 | AX50: J | AY50: 17 | AZ50: =(AX50&AY50) -> J17 | BA50: =VLOOKUP(AZ50,'Tableau coefficient '!$A$3:$B$1004,2,FALSE) -> 63 | BB50: 0 | BC50: 0 | BD50: =(BB50&BC50) -> 00 | BE50: =(VLOOKUP(BD50,'Tableau coefficient '!$A$3:$B$1004,2,FALSE))*2 -> 0 | BF50: 0 | BG50: 0 | BH50: =(BF50&BG50) -> 00 | BI50: =VLOOKUP(BH50,'Tableau coefficient '!$A$3:$B$1004,2,FALSE) -> 0 | BJ50: 0 | BK50: 0 | BL50: =(BJ50&BK50) -> 00 | BM50: =VLOOKUP(BL50,'Tableau coefficient '!$A$3:$B$1004,2,FALSE) -> 0 | BN50: =SUM(M50,I50,Q50,U50,Y50,AC50,AG50,AO50,AS50,BA50,BE50,BI50,BM50) -> 264.5 | BO50: =RANK(BN50,$BN$4:$BN$446,0) -> 196
A51: BRUNETTI | B51: TOM | C51: M | D51: PU 1 | E51: KONA TRI TAHITI | F51: J | G51: 8 | H51: =(F51&G51) -> J8 | I51: =VLOOKUP(H51,'Tableau coefficient '!$A$3:$B$1004,2,FALSE) -> 80 | J51: J | K51: 3 | L51: =(J51&K51) -> J3 | M51: =VLOOKUP(L51,'Tableau coefficient '!$A$3:$B$1004,2,FALSE) -> 110 | N51: J | O51: 5 | P51: =(N51&O51) -> J5 | Q51: =VLOOKUP(P51,'Tableau coefficient '!$A$3:$B$1004,2,FALSE) -> 95 | R51: J | S51: 6 | T51: =(R51&S51) -> J6 | U51: =VLOOKUP(T51,'Tableau coefficient '!$A$3:$B$1004,2,FALSE) -> 90 | V51: J | W51: 8 | X51: =(V51&W51) -> J8 | Y51: =(VLOOKUP(X51,'Tableau coefficient '!$A$3:$B$1004,2,FALSE))*2 -> 160 | Z51: J | AA51: 3 | AB51: =(Z51&AA51) -> J3 | AC51: =(VLOOKUP(AB51,'Tableau coefficient '!$A$3:$B$1004,2,FALSE))*2 -> 220 | AD51: J | AE51: 3 | AF51: =(AD51&AE51) -> J3 | AG51: =VLOOKUP(AF51,'Tableau coefficient '!$A$3:$B$1004,2,FALSE) -> 110 | AH51: 0 | AI51: 0 | AJ51: =(AH51&AI51) -> 00 | AK51: =VLOOKUP(AJ51,'Tableau coefficient '!$A$3:$B$1004,2,FALSE) -> 0 | AL51: 0 | AM51: 0 | AN51: =(AL51&AM51) -> 00 | AO51: =VLOOKUP(AN51,'Tableau coefficient '!$A$3:$B$1004,2,FALSE) -> 0 | AP51: 0 | AQ51: 0 | AR51: =(AP51&AQ51) -> 00 | AS51: =VLOOKUP(AR51,'Tableau coefficient '!$A$3:$B$1004,2,FALSE) -> 0 | AT51: 0 | AU51: 0 | AV51: =(AT51&AU51) -> 00 | AW51: =VLOOKUP(AV51,'Tableau coefficient '!$A$3:$B$1004,2,FALSE) -> 0 | AX51: J | AY51: 8 | AZ51: =(AX51&AY51) -> J8 | BA51: =VLOOKUP(AZ51,'Tableau coefficient '!$A$3:$B$1004,2,FALSE) -> 80 | BB51: J | BC51: 4 | BD51: =(BB51&BC51) -> J4 | BE51: =(VLOOKUP(BD51,'Tableau coefficient '!$A$3:$B$1004,2,FALSE))*2 -> 200 | BF51: 0 | BG51: 0 | BH51: =(BF51&BG51) -> 00 | BI51: =VLOOKUP(BH51,'Tableau coefficient '!$A$3:$B$1004,2,FALSE) -> 0 | BJ51: 0 | BK51: 0 | BL51: =(BJ51&BK51) -> 00 | BM51: =VLOOKUP(BL51,'Tableau coefficient '!$A$3:$B$1004,2,FALSE) -> 0 | BN51: =SUM(M51,I51,Q51,U51,Y51,AC51,AG51,AO51,AS51,BA51,BE51,BI51,BM51) -> 1145 | BO51: =RANK(BN51,$BN$4:$BN$446,0) -> 21
A52: CHAMPES | B52: Mylann | C52: M | D52: PU 1 | E52: CERCLE DES NAGEURS DE POLYNESIE | F52: J | G52: 4 | H52: =(F52&G52) -> J4 | I52: =VLOOKUP(H52,'Tableau coefficient '!$A$3:$B$1004,2,FALSE) -> 100 | J52: 0 | K52: 0 | L52: =(J52&K52) -> 00 | M52: =VLOOKUP(L52,'Tableau coefficient '!$A$3:$B$1004,2,FALSE) -> 0 | N52: 0 | O52: 0 | P52: =(N52&O52) -> 00 | Q52: =VLOOKUP(P52,'Tableau coefficient '!$A$3:$B$1004,2,FALSE) -> 0 | R52: J | S52: 8 | T52: =(R52&S52) -> J8 | U52: =VLOOKUP(T52,'Tableau coefficient '!$A$3:$B$1004,2,FALSE) -> 80 | V52: J | W52: 7 | X52: =(V52&W52) -> J7 | Y52: =(VLOOKUP(X52,'Tableau coefficient '!$A$3:$B$1004,2,FALSE))*2 -> 170 | Z52: 0 | AA52: 0 | AB52: =(Z52&AA52) -> 00 | AC52: =(VLOOKUP(AB52,'Tableau coefficient '!$A$3:$B$1004,2,FALSE))*2 -> 0 | AD52: J | AE52: 4 | AF52: =(AD52&AE52) -> J4 | AG52: =VLOOKUP(AF52,'Tableau coefficient '!$A$3:$B$1004,2,FALSE) -> 100 | AH52: 0 | AI52: 0 | AJ52: =(AH52&AI52) -> 00 | AK52: =VLOOKUP(AJ52,'Tableau coefficient '!$A$3:$B$1004,2,FALSE) -> 0 | AL52: 0 | AM52: 0 | AN52: =(AL52&AM52) -> 00 | AO52: =VLOOKUP(AN52,'Tableau coefficient '!$A$3:$B$1004,2,FALSE) -> 0 | AP52: J | AQ52: 6 | AR52: =(AP52&AQ52) -> J6 | AS52: =VLOOKUP(AR52,'Tableau coefficient '!$A$3:$B$1004,2,FALSE) -> 90 | AT52: 0 | AU52: 0 | AV52: =(AT52&AU52) -> 00 | AW52: =VLOOKUP(AV52,'Tableau coefficient '!$A$3:$B$1004,2,FALSE) -> 0 | AX52: J | AY52: 5 | AZ52: =(AX52&AY52) -> J5 | BA52: =VLOOKUP(AZ52,'Tableau coefficient '!$A$3:$B$1004,2,FALSE) -> 95 | BB52: J | BC52: 2 | BD52: =(BB52&BC52) -> J2 | BE52: =(VLOOKUP(BD52,'Tableau coefficient '!$A$3:$B$1004,2,FALSE))*2 -> 250 | BF52: 0 | BG52: 0 | BH52: =(BF52&BG52) -> 00 | BI52: =VLOOKUP(BH52,'Tableau coefficient '!$A$3:$B$1004,2,FALSE) -> 0 | BJ52: 0 | BK52: 0 | BL52: =(BJ52&BK52) -> 00 | BM52: =VLOOKUP(BL52,'Tableau coefficient '!$A$3:$B$1004,2,FALSE) -> 0 | BN52: =SUM(M52,I52,Q52,U52,Y52,AC52,AG52,AO52,AS52,BA52,BE52,BI52,BM52) -> 885 | BO52: =RANK(BN52,$BN$4:$BN$446,0) -> 48
A53: DELAUNAY | B53: William | C53: M | D53: PU 1 | E53: VSOP MOZTEAM | F53: J | G53: 6 | H53: =(F53&G53) -> J6 | I53: =VLOOKUP(H53,'Tableau coefficient '!$A$3:$B$1004,2,FALSE) -> 90 | J53: 0 | K53: 0 | L53: =(J53&K53) -> 00 | M53: =VLOOKUP(L53,'Tableau coefficient '!$A$3:$B$1004,2,FALSE) -> 0 | N53: J | O53: 3 | P53: =(N53&O53) -> J3 | Q53: =VLOOKUP(P53,'Tableau coefficient '!$A$3:$B$1004,2,FALSE) -> 110 | R53: J | S53: 4 | T53: =(R53&S53) -> J4 | U53: =VLOOKUP(T53,'Tableau coefficient '!$A$3:$B$1004,2,FALSE) -> 100 | V53: 0 | W53: 0 | X53: =(V53&W53) -> 00 | Y53: =(VLOOKUP(X53,'Tableau coefficient '!$A$3:$B$1004,2,FALSE))*2 -> 0 | Z53: J | AA53: 1 | AB53: =(Z53&AA53) -> J1 | AC53: =(VLOOKUP(AB53,'Tableau coefficient '!$A$3:$B$1004,2,FALSE))*2 -> 300 | AD53: J | AE53: 2 | AF53: =(AD53&AE53) -> J2 | AG53: =VLOOKUP(AF53,'Tableau coefficient '!$A$3:$B$1004,2,FALSE) -> 125 | AH53: 0 | AI53: 0 | AJ53: =(AH53&AI53) -> 00 | AK53: =VLOOKUP(AJ53,'Tableau coefficient '!$A$3:$B$1004,2,FALSE) -> 0 | AL53: 0 | AM53: 0 | AN53: =(AL53&AM53) -> 00 | AO53: =VLOOKUP(AN53,'Tableau coefficient '!$A$3:$B$1004,2,FALSE) -> 0 | AP53: 0 | AQ53: 0 | AR53: =(AP53&AQ53) -> 00 | AS53: =VLOOKUP(AR53,'Tableau coefficient '!$A$3:$B$1004,2,FALSE) -> 0 | AT53: 0 | AU53: 0 | AV53: =(AT53&AU53) -> 00 | AW53: =VLOOKUP(AV53,'Tableau coefficient '!$A$3:$B$1004,2,FALSE) -> 0 | AX53: J | AY53: 7 | AZ53: =(AX53&AY53) -> J7 | BA53: =VLOOKUP(AZ53,'Tableau coefficient '!$A$3:$B$1004,2,FALSE) -> 85 | BB53: 0 | BC53: 0 | BD53: =(BB53&BC53) -> 00 | BE53: =(VLOOKUP(BD53,'Tableau coefficient '!$A$3:$B$1004,2,FALSE))*2 -> 0 | BF53: 0 | BG53: 0 | BH53: =(BF53&BG53) -> 00 | BI53: =VLOOKUP(BH53,'Tableau coefficient '!$A$3:$B$1004,2,FALSE) -> 0 | BJ53: 0 | BK53: 0 | BL53: =(BJ53&BK53) -> 00 | BM53: =VLOOKUP(BL53,'Tableau coefficient '!$A$3:$B$1004,2,FALSE) -> 0 | BN53: =SUM(M53,I53,Q53,U53,Y53,AC53,AG53,AO53,AS53,BA53,BE53,BI53,BM53) -> 810 | BO53: =RANK(BN53,$BN$4:$BN$446,0) -> 58
A54: GARCIA PRIMEL | B54: Mathis | C54: M | D54: PU 1 | E54: FEI PI TRIATHLON | F54: J | G54: 2 | H54: =(F54&G54) -> J2 | I54: =VLOOKUP(H54,'Tableau coefficient '!$A$3:$B$1004,2,FALSE) -> 125 | J54: J | K54: 2 | L54: =(J54&K54) -> J2 | M54: =VLOOKUP(L54,'Tableau coefficient '!$A$3:$B$1004,2,FALSE) -> 125 | N54: 0 | O54: 0 | P54: =(N54&O54) -> 00 | Q54: =VLOOKUP(P54,'Tableau coefficient '!$A$3:$B$1004,2,FALSE) -> 0 | R54: J | S54: 2 | T54: =(R54&S54) -> J2 | U54: =VLOOKUP(T54,'Tableau coefficient '!$A$3:$B$1004,2,FALSE) -> 125 | V54: J | W54: 3 | X54: =(V54&W54) -> J3 | Y54: =(VLOOKUP(X54,'Tableau coefficient '!$A$3:$B$1004,2,FALSE))*2 -> 220 | Z54: 0 | AA54: 0 | AB54: =(Z54&AA54) -> 00 | AC54: =(VLOOKUP(AB54,'Tableau coefficient '!$A$3:$B$1004,2,FALSE))*2 -> 0 | AD54: J | AE54: 5 | AF54: =(AD54&AE54) -> J5 | AG54: =VLOOKUP(AF54,'Tableau coefficient '!$A$3:$B$1004,2,FALSE) -> 95 | AH54: 0 | AI54: 0 | AJ54: =(AH54&AI54) -> 00 | AK54: =VLOOKUP(AJ54,'Tableau coefficient '!$A$3:$B$1004,2,FALSE) -> 0 | AL54: 0 | AM54: 0 | AN54: =(AL54&AM54) -> 00 | AO54: =VLOOKUP(AN54,'Tableau coefficient '!$A$3:$B$1004,2,FALSE) -> 0 | AP54: J | AQ54: 4 | AR54: =(AP54&AQ54) -> J4 | AS54: =VLOOKUP(AR54,'Tableau coefficient '!$A$3:$B$1004,2,FALSE) -> 100 | AT54: 0 | AU54: 0 | AV54: =(AT54&AU54) -> 00 | AW54: =VLOOKUP(AV54,'Tableau coefficient '!$A$3:$B$1004,2,FALSE) -> 0 | AX54: J | AY54: 4 | AZ54: =(AX54&AY54) -> J4 | BA54: =VLOOKUP(AZ54,'Tableau coefficient '!$A$3:$B$1004,2,FALSE) -> 100 | BB54: J | BC54: 3 | BD54: =(BB54&BC54) -> J3 | BE54: =(VLOOKUP(BD54,'Tableau coefficient '!$A$3:$B$1004,2,FALSE))*2 -> 220 | BF54: 0 | BG54: 0 | BH54: =(BF54&BG54) -> 00 | BI54: =VLOOKUP(BH54,'Tableau coefficient '!$A$3:$B$1004,2,FALSE) -> 0 | BJ54: 0 | BK54: 0 | BL54: =(BJ54&BK54) -> 00 | BM54: =VLOOKUP(BL54,'Tableau coefficient '!$A$3:$B$1004,2,FALSE) -> 0 | BN54: =SUM(M54,I54,Q54,U54,Y54,AC54,AG54,AO54,AS54,BA54,BE54,BI54,BM54) -> 1110 | BO54: =RANK(BN54,$BN$4:$BN$446,0) -> 25
A55: GOULET | B55: Haumatai | C55: M | D55: PU 1 | E55: FEI PI TRIATHLON | F55: J | G55: 10 | H55: =(F55&G55) -> J10 | I55: =VLOOKUP(H55,'Tableau coefficient '!$A$3:$B$1004,2,FALSE) -> 72.5 | J55: J | K55: 10 | L55: =(J55&K55) -> J10 | M55: =VLOOKUP(L55,'Tableau coefficient '!$A$3:$B$1004,2,FALSE) -> 72.5 | N55: 0 | O55: 0 | P55: =(N55&O55) -> 00 | Q55: =VLOOKUP(P55,'Tableau coefficient '!$A$3:$B$1004,2,FALSE) -> 0 | R55: J | S55: 19 | T55: =(R55&S55) -> J19 | U55: =VLOOKUP(T55,'Tableau coefficient '!$A$3:$B$1004,2,FALSE) -> 62 | V55: J | W55: 23 | X55: =(V55&W55) -> J23 | Y55: =(VLOOKUP(X55,'Tableau coefficient '!$A$3:$B$1004,2,FALSE))*2 -> 120 | Z55: 0 | AA55: 0 | AB55: =(Z55&AA55) -> 00 | AC55: =(VLOOKUP(AB55,'Tableau coefficient '!$A$3:$B$1004,2,FALSE))*2 -> 0 | AD55: 0 | AE55: 0 | AF55: =(AD55&AE55) -> 00 | AG55: =VLOOKUP(AF55,'Tableau coefficient '!$A$3:$B$1004,2,FALSE) -> 0 | AH55: 0 | AI55: 0 | AJ55: =(AH55&AI55) -> 00 | AK55: =VLOOKUP(AJ55,'Tableau coefficient '!$A$3:$B$1004,2,FALSE) -> 0 | AL55: 0 | AM55: 0 | AN55: =(AL55&AM55) -> 00 | AO55: =VLOOKUP(AN55,'Tableau coefficient '!$A$3:$B$1004,2,FALSE) -> 0 | AP55: 0 | AQ55: 0 | AR55: =(AP55&AQ55) -> 00 | AS55: =VLOOKUP(AR55,'Tableau coefficient '!$A$3:$B$1004,2,FALSE) -> 0 | AT55: 0 | AU55: 0 | AV55: =(AT55&AU55) -> 00 | AW55: =VLOOKUP(AV55,'Tableau coefficient '!$A$3:$B$1004,2,FALSE) -> 0 | AX55: J | AY55: 13 | AZ55: =(AX55&AY55) -> J13 | BA55: =VLOOKUP(AZ55,'Tableau coefficient '!$A$3:$B$1004,2,FALSE) -> 65 | BB55: 0 | BC55: 0 | BD55: =(BB55&BC55) -> 00 | BE55: =(VLOOKUP(BD55,'Tableau coefficient '!$A$3:$B$1004,2,FALSE))*2 -> 0 | BF55: 0 | BG55: 0 | BH55: =(BF55&BG55) -> 00 | BI55: =VLOOKUP(BH55,'Tableau coefficient '!$A$3:$B$1004,2,FALSE) -> 0 | BJ55: 0 | BK55: 0 | BL55: =(BJ55&BK55) -> 00 | BM55: =VLOOKUP(BL55,'Tableau coefficient '!$A$3:$B$1004,2,FALSE) -> 0 | BN55: =SUM(M55,I55,Q55,U55,Y55,AC55,AG55,AO55,AS55,BA55,BE55,BI55,BM55) -> 392 | BO55: =RANK(BN55,$BN$4:$BN$446,0) -> 156
A56: GOULET | B56: Heremoana Paul | C56: M | D56: PU 2 | E56: FEI PI TRIATHLON | F56: J | G56: 16 | H56: =(F56&G56) -> J16 | I56: =VLOOKUP(H56,'Tableau coefficient '!$A$3:$B$1004,2,FALSE) -> 63.5 | J56: J | K56: 7 | L56: =(J56&K56) -> J7 | M56: =VLOOKUP(L56,'Tableau coefficient '!$A$3:$B$1004,2,FALSE) -> 85 | N56: 0 | O56: 0 | P56: =(N56&O56) -> 00 | Q56: =VLOOKUP(P56,'Tableau coefficient '!$A$3:$B$1004,2,FALSE) -> 0 | R56: 0 | S56: 0 | T56: =(R56&S56) -> 00 | U56: =VLOOKUP(T56,'Tableau coefficient '!$A$3:$B$1004,2,FALSE) -> 0 | V56: 0 | W56: 0 | X56: =(V56&W56) -> 00 | Y56: =(VLOOKUP(X56,'Tableau coefficient '!$A$3:$B$1004,2,FALSE))*2 -> 0 | Z56: 0 | AA56: 0 | AB56: =(Z56&AA56) -> 00 | AC56: =(VLOOKUP(AB56,'Tableau coefficient '!$A$3:$B$1004,2,FALSE))*2 -> 0 | AD56: 0 | AE56: 0 | AF56: =(AD56&AE56) -> 00 | AG56: =VLOOKUP(AF56,'Tableau coefficient '!$A$3:$B$1004,2,FALSE) -> 0 | AH56: 0 | AI56: 0 | AJ56: =(AH56&AI56) -> 00 | AK56: =VLOOKUP(AJ56,'Tableau coefficient '!$A$3:$B$1004,2,FALSE) -> 0 | AL56: 0 | AM56: 0 | AN56: =(AL56&AM56) -> 00 | AO56: =VLOOKUP(AN56,'Tableau coefficient '!$A$3:$B$1004,2,FALSE) -> 0 | AP56: 0 | AQ56: 0 | AR56: =(AP56&AQ56) -> 00 | AS56: =VLOOKUP(AR56,'Tableau coefficient '!$A$3:$B$1004,2,FALSE) -> 0 | AT56: 0 | AU56: 0 | AV56: =(AT56&AU56) -> 00 | AW56: =VLOOKUP(AV56,'Tableau coefficient '!$A$3:$B$1004,2,FALSE) -> 0 | AX56: J | AY56: 15 | AZ56: =(AX56&AY56) -> J15 | BA56: =VLOOKUP(AZ56,'Tableau coefficient '!$A$3:$B$1004,2,FALSE) -> 64 | BB56: 0 | BC56: 0 | BD56: =(BB56&BC56) -> 00 | BE56: =(VLOOKUP(BD56,'Tableau coefficient '!$A$3:$B$1004,2,FALSE))*2 -> 0 | BF56: 0 | BG56: 0 | BH56: =(BF56&BG56) -> 00 | BI56: =VLOOKUP(BH56,'Tableau coefficient '!$A$3:$B$1004,2,FALSE) -> 0 | BJ56: 0 | BK56: 0 | BL56: =(BJ56&BK56) -> 00 | BM56: =VLOOKUP(BL56,'Tableau coefficient '!$A$3:$B$1004,2,FALSE) -> 0 | BN56: =SUM(M56,I56,Q56,U56,Y56,AC56,AG56,AO56,AS56,BA56,BE56,BI56,BM56) -> 212.5 | BO56: =RANK(BN56,$BN$4:$BN$446,0) -> 219
A57: HOLLIER VERMEULEN | B57: Eythan | C57: M | D57: PU 2 | E57: AS TAMARII PUNARUU TRIATHLON | F57: 0 | G57: 0 | H57: =(F57&G57) -> 00 | I57: =VLOOKUP(H57,'Tableau coefficient '!$A$3:$B$1004,2,FALSE) -> 0 | J57: J | K57: 13 | L57: =(J57&K57) -> J13 | M57: =VLOOKUP(L57,'Tableau coefficient '!$A$3:$B$1004,2,FALSE) -> 65 | N57: J | O57: 10 | P57: =(N57&O57) -> J10 | Q57: =VLOOKUP(P57,'Tableau coefficient '!$A$3:$B$1004,2,FALSE) -> 72.5 | R57: J | S57: 12 | T57: =(R57&S57) -> J12 | U57: =VLOOKUP(T57,'Tableau coefficient '!$A$3:$B$1004,2,FALSE) -> 67.5 | V57: J | W57: 15 | X57: =(V57&W57) -> J15 | Y57: =(VLOOKUP(X57,'Tableau coefficient '!$A$3:$B$1004,2,FALSE))*2 -> 128 | Z57: J | AA57: 6 | AB57: =(Z57&AA57) -> J6 | AC57: =(VLOOKUP(AB57,'Tableau coefficient '!$A$3:$B$1004,2,FALSE))*2 -> 180 | AD57: J | AE57: 7 | AF57: =(AD57&AE57) -> J7 | AG57: =VLOOKUP(AF57,'Tableau coefficient '!$A$3:$B$1004,2,FALSE) -> 85 | AH57: 0 | AI57: 0 | AJ57: =(AH57&AI57) -> 00 | AK57: =VLOOKUP(AJ57,'Tableau coefficient '!$A$3:$B$1004,2,FALSE) -> 0 | AL57: 0 | AM57: 0 | AN57: =(AL57&AM57) -> 00 | AO57: =VLOOKUP(AN57,'Tableau coefficient '!$A$3:$B$1004,2,FALSE) -> 0 | AP57: 0 | AQ57: 0 | AR57: =(AP57&AQ57) -> 00 | AS57: =VLOOKUP(AR57,'Tableau coefficient '!$A$3:$B$1004,2,FALSE) -> 0 | AT57: 0 | AU57: 0 | AV57: =(AT57&AU57) -> 00 | AW57: =VLOOKUP(AV57,'Tableau coefficient '!$A$3:$B$1004,2,FALSE) -> 0 | AX57: J | AY57: 18 | AZ57: =(AX57&AY57) -> J18 | BA57: =VLOOKUP(AZ57,'Tableau coefficient '!$A$3:$B$1004,2,FALSE) -> 62.5 | BB57: J | BC57: 22 | BD57: =(BB57&BC57) -> J22 | BE57: =(VLOOKUP(BD57,'Tableau coefficient '!$A$3:$B$1004,2,FALSE))*2 -> 121 | BF57: 0 | BG57: 0 | BH57: =(BF57&BG57) -> 00 | BI57: =VLOOKUP(BH57,'Tableau coefficient '!$A$3:$B$1004,2,FALSE) -> 0 | BJ57: 0 | BK57: 0 | BL57: =(BJ57&BK57) -> 00 | BM57: =VLOOKUP(BL57,'Tableau coefficient '!$A$3:$B$1004,2,FALSE) -> 0 | BN57: =SUM(M57,I57,Q57,U57,Y57,AC57,AG57,AO57,AS57,BA57,BE57,BI57,BM57) -> 781.5 | BO57: =RANK(BN57,$BN$4:$BN$446,0) -> 61
A58: HOTELLIER | B58: Jules | C58: M | D58: PU 2 | E58: KONA TRI TAHITI | F58: J | G58: 1 | H58: =(F58&G58) -> J1 | I58: =VLOOKUP(H58,'Tableau coefficient '!$A$3:$B$1004,2,FALSE) -> 150 | J58: J | K58: 1 | L58: =(J58&K58) -> J1 | M58: =VLOOKUP(L58,'Tableau coefficient '!$A$3:$B$1004,2,FALSE) -> 150 | N58: 0 | O58: 0 | P58: =(N58&O58) -> 00 | Q58: =VLOOKUP(P58,'Tableau coefficient '!$A$3:$B$1004,2,FALSE) -> 0 | R58: J | S58: 1 | T58: =(R58&S58) -> J1 | U58: =VLOOKUP(T58,'Tableau coefficient '!$A$3:$B$1004,2,FALSE) -> 150 | V58: J | W58: 1 | X58: =(V58&W58) -> J1 | Y58: =(VLOOKUP(X58,'Tableau coefficient '!$A$3:$B$1004,2,FALSE))*2 -> 300 | Z58: 0 | AA58: 0 | AB58: =(Z58&AA58) -> 00 | AC58: =(VLOOKUP(AB58,'Tableau coefficient '!$A$3:$B$1004,2,FALSE))*2 -> 0 | AD58: J | AE58: 1 | AF58: =(AD58&AE58) -> J1 | AG58: =VLOOKUP(AF58,'Tableau coefficient '!$A$3:$B$1004,2,FALSE) -> 150 | AH58: 0 | AI58: 0 | AJ58: =(AH58&AI58) -> 00 | AK58: =VLOOKUP(AJ58,'Tableau coefficient '!$A$3:$B$1004,2,FALSE) -> 0 | AL58: 0 | AM58: 0 | AN58: =(AL58&AM58) -> 00 | AO58: =VLOOKUP(AN58,'Tableau coefficient '!$A$3:$B$1004,2,FALSE) -> 0 | AP58: J | AQ58: 1 | AR58: =(AP58&AQ58) -> J1 | AS58: =VLOOKUP(AR58,'Tableau coefficient '!$A$3:$B$1004,2,FALSE) -> 150 | AT58: 0 | AU58: 0 | AV58: =(AT58&AU58) -> 00 | AW58: =VLOOKUP(AV58,'Tableau coefficient '!$A$3:$B$1004,2,FALSE) -> 0 | AX58: J | AY58: 1 | AZ58: =(AX58&AY58) -> J1 | BA58: =VLOOKUP(AZ58,'Tableau coefficient '!$A$3:$B$1004,2,FALSE) -> 150 | BB58: J | BC58: 1 | BD58: =(BB58&BC58) -> J1 | BE58: =(VLOOKUP(BD58,'Tableau coefficient '!$A$3:$B$1004,2,FALSE))*2 -> 300 | BF58: 0 | BG58: 0 | BH58: =(BF58&BG58) -> 00 | BI58: =VLOOKUP(BH58,'Tableau coefficient '!$A$3:$B$1004,2,FALSE) -> 0 | BJ58: 0 | BK58: 0 | BL58: =(BJ58&BK58) -> 00 | BM58: =VLOOKUP(BL58,'Tableau coefficient '!$A$3:$B$1004,2,FALSE) -> 0 | BN58: =SUM(M58,I58,Q58,U58,Y58,AC58,AG58,AO58,AS58,BA58,BE58,BI58,BM58) -> 1500 | BO58: =RANK(BN58,$BN$4:$BN$446,0) -> 10
A59: HUGONY | B59: Mathys | C59: M | D59: PU 1 | E59: CERCLE DES NAGEURS DE POLYNESIE | F59: J | G59: 15 | H59: =(F59&G59) -> J15 | I59: =VLOOKUP(H59,'Tableau coefficient '!$A$3:$B$1004,2,FALSE) -> 64 | J59: J | K59: 12 | L59: =(J59&K59) -> J12 | M59: =VLOOKUP(L59,'Tableau coefficient '!$A$3:$B$1004,2,FALSE) -> 67.5 | N59: J | O59: 9 | P59: =(N59&O59) -> J9 | Q59: =VLOOKUP(P59,'Tableau coefficient '!$A$3:$B$1004,2,FALSE) -> 75 | R59: J | S59: 15 | T59: =(R59&S59) -> J15 | U59: =VLOOKUP(T59,'Tableau coefficient '!$A$3:$B$1004,2,FALSE) -> 64 | V59: J | W59: 20 | X59: =(V59&W59) -> J20 | Y59: =(VLOOKUP(X59,'Tableau coefficient '!$A$3:$B$1004,2,FALSE))*2 -> 123 | Z59: J | AA59: 7 | AB59: =(Z59&AA59) -> J7 | AC59: =(VLOOKUP(AB59,'Tableau coefficient '!$A$3:$B$1004,2,FALSE))*2 -> 170 | AD59: J | AE59: 12 | AF59: =(AD59&AE59) -> J12 | AG59: =VLOOKUP(AF59,'Tableau coefficient '!$A$3:$B$1004,2,FALSE) -> 67.5 | AH59: 0 | AI59: 0 | AJ59: =(AH59&AI59) -> 00 | AK59: =VLOOKUP(AJ59,'Tableau coefficient '!$A$3:$B$1004,2,FALSE) -> 0 | AL59: 0 | AM59: 0 | AN59: =(AL59&AM59) -> 00 | AO59: =VLOOKUP(AN59,'Tableau coefficient '!$A$3:$B$1004,2,FALSE) -> 0 | AP59: J | AQ59: 12 | AR59: =(AP59&AQ59) -> J12 | AS59: =VLOOKUP(AR59,'Tableau coefficient '!$A$3:$B$1004,2,FALSE) -> 67.5 | AT59: 0 | AU59: 0 | AV59: =(AT59&AU59) -> 00 | AW59: =VLOOKUP(AV59,'Tableau coefficient '!$A$3:$B$1004,2,FALSE) -> 0 | AX59: J | AY59: 11 | AZ59: =(AX59&AY59) -> J11 | BA59: =VLOOKUP(AZ59,'Tableau coefficient '!$A$3:$B$1004,2,FALSE) -> 70 | BB59: J | BC59: 15 | BD59: =(BB59&BC59) -> J15 | BE59: =(VLOOKUP(BD59,'Tableau coefficient '!$A$3:$B$1004,2,FALSE))*2 -> 128 | BF59: 0 | BG59: 0 | BH59: =(BF59&BG59) -> 00 | BI59: =VLOOKUP(BH59,'Tableau coefficient '!$A$3:$B$1004,2,FALSE) -> 0 | BJ59: 0 | BK59: 0 | BL59: =(BJ59&BK59) -> 00 | BM59: =VLOOKUP(BL59,'Tableau coefficient '!$A$3:$B$1004,2,FALSE) -> 0 | BN59: =SUM(M59,I59,Q59,U59,Y59,AC59,AG59,AO59,AS59,BA59,BE59,BI59,BM59) -> 896.5 | BO59: =RANK(BN59,$BN$4:$BN$446,0) -> 47
A60: LIMIK | B60: TUHIVAI | C60: M | D60: PU 2 | E60: FEI PI TRIATHLON | F60: 0 | G60: 0 | H60: =(F60&G60) -> 00 | I60: =VLOOKUP(H60,'Tableau coefficient '!$A$3:$B$1004,2,FALSE) -> 0 | J60: 0 | K60: 0 | L60: =(J60&K60) -> 00 | M60: =VLOOKUP(L60,'Tableau coefficient '!$A$3:$B$1004,2,FALSE) -> 0 | N60: 0 | O60: 0 | P60: =(N60&O60) -> 00 | Q60: =VLOOKUP(P60,'Tableau coefficient '!$A$3:$B$1004,2,FALSE) -> 0 | R60: 0 | S60: 0 | T60: =(R60&S60) -> 00 | U60: =VLOOKUP(T60,'Tableau coefficient '!$A$3:$B$1004,2,FALSE) -> 0 | V60: 0 | W60: 0 | X60: =(V60&W60) -> 00 | Y60: =(VLOOKUP(X60,'Tableau coefficient '!$A$3:$B$1004,2,FALSE))*2 -> 0 | Z60: 0 | AA60: 0 | AB60: =(Z60&AA60) -> 00 | AC60: =(VLOOKUP(AB60,'Tableau coefficient '!$A$3:$B$1004,2,FALSE))*2 -> 0 | AD60: 0 | AE60: 0 | AF60: =(AD60&AE60) -> 00 | AG60: =VLOOKUP(AF60,'Tableau coefficient '!$A$3:$B$1004,2,FALSE) -> 0 | AH60: 0 | AI60: 0 | AJ60: =(AH60&AI60) -> 00 | AK60: =VLOOKUP(AJ60,'Tableau coefficient '!$A$3:$B$1004,2,FALSE) -> 0 | AL60: 0 | AM60: 0 | AN60: =(AL60&AM60) -> 00 | AO60: =VLOOKUP(AN60,'Tableau coefficient '!$A$3:$B$1004,2,FALSE) -> 0 | AP60: 0 | AQ60: 0 | AR60: =(AP60&AQ60) -> 00 | AS60: =VLOOKUP(AR60,'Tableau coefficient '!$A$3:$B$1004,2,FALSE) -> 0 | AT60: 0 | AU60: 0 | AV60: =(AT60&AU60) -> 00 | AW60: =VLOOKUP(AV60,'Tableau coefficient '!$A$3:$B$1004,2,FALSE) -> 0 | AX60: 0 | AY60: 0 | AZ60: =(AX60&AY60) -> 00 | BA60: =VLOOKUP(AZ60,'Tableau coefficient '!$A$3:$B$1004,2,FALSE) -> 0 | BB60: 0 | BC60: 0 | BD60: =(BB60&BC60) -> 00 | BE60: =(VLOOKUP(BD60,'Tableau coefficient '!$A$3:$B$1004,2,FALSE))*2 -> 0 | BF60: 0 | BG60: 0 | BH60: =(BF60&BG60) -> 00 | BI60: =VLOOKUP(BH60,'Tableau coefficient '!$A$3:$B$1004,2,FALSE) -> 0 | BJ60: 0 | BK60: 0 | BL60: =(BJ60&BK60) -> 00 | BM60: =VLOOKUP(BL60,'Tableau coefficient '!$A$3:$B$1004,2,FALSE) -> 0 | BN60: =SUM(M60,I60,Q60,U60,Y60,AC60,AG60,AO60,AS60,BA60,BE60,BI60,BM60) -> 0 | BO60: =RANK(BN60,$BN$4:$BN$446,0) -> 303
A61: LIU SING | B61: Thierry | C61: M | D61: PU 1 | E61: CERCLE DES NAGEURS DE POLYNESIE | F61: J | G61: 23 | H61: =(F61&G61) -> J23 | I61: =VLOOKUP(H61,'Tableau coefficient '!$A$3:$B$1004,2,FALSE) -> 60 | J61: J | K61: 23 | L61: =(J61&K61) -> J23 | M61: =VLOOKUP(L61,'Tableau coefficient '!$A$3:$B$1004,2,FALSE) -> 60 | N61: 0 | O61: 0 | P61: =(N61&O61) -> 00 | Q61: =VLOOKUP(P61,'Tableau coefficient '!$A$3:$B$1004,2,FALSE) -> 0 | R61: 0 | S61: 0 | T61: =(R61&S61) -> 00 | U61: =VLOOKUP(T61,'Tableau coefficient '!$A$3:$B$1004,2,FALSE) -> 0 | V61: J | W61: 29 | X61: =(V61&W61) -> J29 | Y61: =(VLOOKUP(X61,'Tableau coefficient '!$A$3:$B$1004,2,FALSE))*2 -> 114 | Z61: J | AA61: 15 | AB61: =(Z61&AA61) -> J15 | AC61: =(VLOOKUP(AB61,'Tableau coefficient '!$A$3:$B$1004,2,FALSE))*2 -> 128 | AD61: J | AE61: 16 | AF61: =(AD61&AE61) -> J16 | AG61: =VLOOKUP(AF61,'Tableau coefficient '!$A$3:$B$1004,2,FALSE) -> 63.5 | AH61: 0 | AI61: 0 | AJ61: =(AH61&AI61) -> 00 | AK61: =VLOOKUP(AJ61,'Tableau coefficient '!$A$3:$B$1004,2,FALSE) -> 0 | AL61: 0 | AM61: 0 | AN61: =(AL61&AM61) -> 00 | AO61: =VLOOKUP(AN61,'Tableau coefficient '!$A$3:$B$1004,2,FALSE) -> 0 | AP61: 0 | AQ61: 0 | AR61: =(AP61&AQ61) -> 00 | AS61: =VLOOKUP(AR61,'Tableau coefficient '!$A$3:$B$1004,2,FALSE) -> 0 | AT61: 0 | AU61: 0 | AV61: =(AT61&AU61) -> 00 | AW61: =VLOOKUP(AV61,'Tableau coefficient '!$A$3:$B$1004,2,FALSE) -> 0 | AX61: J | AY61: 10 | AZ61: =(AX61&AY61) -> J10 | BA61: =VLOOKUP(AZ61,'Tableau coefficient '!$A$3:$B$1004,2,FALSE) -> 72.5 | BB61: J | BC61: 14 | BD61: =(BB61&BC61) -> J14 | BE61: =(VLOOKUP(BD61,'Tableau coefficient '!$A$3:$B$1004,2,FALSE))*2 -> 129 | BF61: 0 | BG61: 0 | BH61: =(BF61&BG61) -> 00 | BI61: =VLOOKUP(BH61,'Tableau coefficient '!$A$3:$B$1004,2,FALSE) -> 0 | BJ61: 0 | BK61: 0 | BL61: =(BJ61&BK61) -> 00 | BM61: =VLOOKUP(BL61,'Tableau coefficient '!$A$3:$B$1004,2,FALSE) -> 0 | BN61: =SUM(M61,I61,Q61,U61,Y61,AC61,AG61,AO61,AS61,BA61,BE61,BI61,BM61) -> 627 | BO61: =RANK(BN61,$BN$4:$BN$446,0) -> 92
A62: POYVRE | B62: Nolann | C62: M | D62: PU 2 | E62: FEI PI TRIATHLON | F62: 0 | G62: 0 | H62: =(F62&G62) -> 00 | I62: =VLOOKUP(H62,'Tableau coefficient '!$A$3:$B$1004,2,FALSE) -> 0 | J62: 0 | K62: 0 | L62: =(J62&K62) -> 00 | M62: =VLOOKUP(L62,'Tableau coefficient '!$A$3:$B$1004,2,FALSE) -> 0 | N62: 0 | O62: 0 | P62: =(N62&O62) -> 00 | Q62: =VLOOKUP(P62,'Tableau coefficient '!$A$3:$B$1004,2,FALSE) -> 0 | R62: 0 | S62: 0 | T62: =(R62&S62) -> 00 | U62: =VLOOKUP(T62,'Tableau coefficient '!$A$3:$B$1004,2,FALSE) -> 0 | V62: 0 | W62: 0 | X62: =(V62&W62) -> 00 | Y62: =(VLOOKUP(X62,'Tableau coefficient '!$A$3:$B$1004,2,FALSE))*2 -> 0 | Z62: 0 | AA62: 0 | AB62: =(Z62&AA62) -> 00 | AC62: =(VLOOKUP(AB62,'Tableau coefficient '!$A$3:$B$1004,2,FALSE))*2 -> 0 | AD62: 0 | AE62: 0 | AF62: =(AD62&AE62) -> 00 | AG62: =VLOOKUP(AF62,'Tableau coefficient '!$A$3:$B$1004,2,FALSE) -> 0 | AH62: 0 | AI62: 0 | AJ62: =(AH62&AI62) -> 00 | AK62: =VLOOKUP(AJ62,'Tableau coefficient '!$A$3:$B$1004,2,FALSE) -> 0 | AL62: 0 | AM62: 0 | AN62: =(AL62&AM62) -> 00 | AO62: =VLOOKUP(AN62,'Tableau coefficient '!$A$3:$B$1004,2,FALSE) -> 0 | AP62: 0 | AQ62: 0 | AR62: =(AP62&AQ62) -> 00 | AS62: =VLOOKUP(AR62,'Tableau coefficient '!$A$3:$B$1004,2,FALSE) -> 0 | AT62: 0 | AU62: 0 | AV62: =(AT62&AU62) -> 00 | AW62: =VLOOKUP(AV62,'Tableau coefficient '!$A$3:$B$1004,2,FALSE) -> 0 | AX62: 0 | AY62: 0 | AZ62: =(AX62&AY62) -> 00 | BA62: =VLOOKUP(AZ62,'Tableau coefficient '!$A$3:$B$1004,2,FALSE) -> 0 | BB62: 0 | BC62: 0 | BD62: =(BB62&BC62) -> 00 | BE62: =(VLOOKUP(BD62,'Tableau coefficient '!$A$3:$B$1004,2,FALSE))*2 -> 0 | BF62: 0 | BG62: 0 | BH62: =(BF62&BG62) -> 00 | BI62: =VLOOKUP(BH62,'Tableau coefficient '!$A$3:$B$1004,2,FALSE) -> 0 | BJ62: 0 | BK62: 0 | BL62: =(BJ62&BK62) -> 00 | BM62: =VLOOKUP(BL62,'Tableau coefficient '!$A$3:$B$1004,2,FALSE) -> 0 | BN62: =SUM(M62,I62,Q62,U62,Y62,AC62,AG62,AO62,AS62,BA62,BE62,BI62,BM62) -> 0 | BO62: =RANK(BN62,$BN$4:$BN$446,0) -> 303
A63: RICHARD | B63: Leo | C63: M | D63: PU 2 | E63: AS TAMARII PUNARUU TRIATHLON | F63: J | G63: 24 | H63: =(F63&G63) -> J24 | I63: =VLOOKUP(H63,'Tableau coefficient '!$A$3:$B$1004,2,FALSE) -> 59.5 | J63: J | K63: 24 | L63: =(J63&K63) -> J24 | M63: =VLOOKUP(L63,'Tableau coefficient '!$A$3:$B$1004,2,FALSE) -> 59.5 | N63: J | O63: 13 | P63: =(N63&O63) -> J13 | Q63: =VLOOKUP(P63,'Tableau coefficient '!$A$3:$B$1004,2,FALSE) -> 65 | R63: J | S63: 21 | T63: =(R63&S63) -> J21 | U63: =VLOOKUP(T63,'Tableau coefficient '!$A$3:$B$1004,2,FALSE) -> 61 | V63: J | W63: 17 | X63: =(V63&W63) -> J17 | Y63: =(VLOOKUP(X63,'Tableau coefficient '!$A$3:$B$1004,2,FALSE))*2 -> 126 | Z63: J | AA63: 8 | AB63: =(Z63&AA63) -> J8 | AC63: =(VLOOKUP(AB63,'Tableau coefficient '!$A$3:$B$1004,2,FALSE))*2 -> 160 | AD63: 0 | AE63: 0 | AF63: =(AD63&AE63) -> 00 | AG63: =VLOOKUP(AF63,'Tableau coefficient '!$A$3:$B$1004,2,FALSE) -> 0 | AH63: 0 | AI63: 0 | AJ63: =(AH63&AI63) -> 00 | AK63: =VLOOKUP(AJ63,'Tableau coefficient '!$A$3:$B$1004,2,FALSE) -> 0 | AL63: 0 | AM63: 0 | AN63: =(AL63&AM63) -> 00 | AO63: =VLOOKUP(AN63,'Tableau coefficient '!$A$3:$B$1004,2,FALSE) -> 0 | AP63: 0 | AQ63: 0 | AR63: =(AP63&AQ63) -> 00 | AS63: =VLOOKUP(AR63,'Tableau coefficient '!$A$3:$B$1004,2,FALSE) -> 0 | AT63: 0 | AU63: 0 | AV63: =(AT63&AU63) -> 00 | AW63: =VLOOKUP(AV63,'Tableau coefficient '!$A$3:$B$1004,2,FALSE) -> 0 | AX63: 0 | AY63: 0 | AZ63: =(AX63&AY63) -> 00 | BA63: =VLOOKUP(AZ63,'Tableau coefficient '!$A$3:$B$1004,2,FALSE) -> 0 | BB63: 0 | BC63: 0 | BD63: =(BB63&BC63) -> 00 | BE63: =(VLOOKUP(BD63,'Tableau coefficient '!$A$3:$B$1004,2,FALSE))*2 -> 0 | BF63: 0 | BG63: 0 | BH63: =(BF63&BG63) -> 00 | BI63: =VLOOKUP(BH63,'Tableau coefficient '!$A$3:$B$1004,2,FALSE) -> 0 | BJ63: 0 | BK63: 0 | BL63: =(BJ63&BK63) -> 00 | BM63: =VLOOKUP(BL63,'Tableau coefficient '!$A$3:$B$1004,2,FALSE) -> 0 | BN63: =SUM(M63,I63,Q63,U63,Y63,AC63,AG63,AO63,AS63,BA63,BE63,BI63,BM63) -> 531 | BO63: =RANK(BN63,$BN$4:$BN$446,0) -> 115
A64: TAIE | B64: Ariimanahere | C64: M | D64: PU 1 | E64: FEI PI TRIATHLON | F64: 0 | G64: 0 | H64: =(F64&G64) -> 00 | I64: =VLOOKUP(H64,'Tableau coefficient '!$A$3:$B$1004,2,FALSE) -> 0 | J64: 0 | K64: 0 | L64: =(J64&K64) -> 00 | M64: =VLOOKUP(L64,'Tableau coefficient '!$A$3:$B$1004,2,FALSE) -> 0 | N64: 0 | O64: 0 | P64: =(N64&O64) -> 00 | Q64: =VLOOKUP(P64,'Tableau coefficient '!$A$3:$B$1004,2,FALSE) -> 0 | R64: 0 | S64: 0 | T64: =(R64&S64) -> 00 | U64: =VLOOKUP(T64,'Tableau coefficient '!$A$3:$B$1004,2,FALSE) -> 0 | V64: 0 | W64: 0 | X64: =(V64&W64) -> 00 | Y64: =(VLOOKUP(X64,'Tableau coefficient '!$A$3:$B$1004,2,FALSE))*2 -> 0 | Z64: 0 | AA64: 0 | AB64: =(Z64&AA64) -> 00 | AC64: =(VLOOKUP(AB64,'Tableau coefficient '!$A$3:$B$1004,2,FALSE))*2 -> 0 | AD64: 0 | AE64: 0 | AF64: =(AD64&AE64) -> 00 | AG64: =VLOOKUP(AF64,'Tableau coefficient '!$A$3:$B$1004,2,FALSE) -> 0 | AH64: 0 | AI64: 0 | AJ64: =(AH64&AI64) -> 00 | AK64: =VLOOKUP(AJ64,'Tableau coefficient '!$A$3:$B$1004,2,FALSE) -> 0 | AL64: 0 | AM64: 0 | AN64: =(AL64&AM64) -> 00 | AO64: =VLOOKUP(AN64,'Tableau coefficient '!$A$3:$B$1004,2,FALSE) -> 0 | AP64: 0 | AQ64: 0 | AR64: =(AP64&AQ64) -> 00 | AS64: =VLOOKUP(AR64,'Tableau coefficient '!$A$3:$B$1004,2,FALSE) -> 0 | AT64: 0 | AU64: 0 | AV64: =(AT64&AU64) -> 00 | AW64: =VLOOKUP(AV64,'Tableau coefficient '!$A$3:$B$1004,2,FALSE) -> 0 | AX64: 0 | AY64: 0 | AZ64: =(AX64&AY64) -> 00 | BA64: =VLOOKUP(AZ64,'Tableau coefficient '!$A$3:$B$1004,2,FALSE) -> 0 | BB64: 0 | BC64: 0 | BD64: =(BB64&BC64) -> 00 | BE64: =(VLOOKUP(BD64,'Tableau coefficient '!$A$3:$B$1004,2,FALSE))*2 -> 0 | BF64: 0 | BG64: 0 | BH64: =(BF64&BG64) -> 00 | BI64: =VLOOKUP(BH64,'Tableau coefficient '!$A$3:$B$1004,2,FALSE) -> 0 | BJ64: 0 | BK64: 0 | BL64: =(BJ64&BK64) -> 00 | BM64: =VLOOKUP(BL64,'Tableau coefficient '!$A$3:$B$1004,2,FALSE) -> 0 | BN64: =SUM(M64,I64,Q64,U64,Y64,AC64,AG64,AO64,AS64,BA64,BE64,BI64,BM64) -> 0 | BO64: =RANK(BN64,$BN$4:$BN$446,0) -> 303
A65: TCHA | B65: Manea | C65: M | D65: PU 1 | E65: CERCLE DES NAGEURS DE POLYNESIE | F65: J | G65: 5 | H65: =(F65&G65) -> J5 | I65: =VLOOKUP(H65,'Tableau coefficient '!$A$3:$B$1004,2,FALSE) -> 95 | J65: 0 | K65: 0 | L65: =(J65&K65) -> 00 | M65: =VLOOKUP(L65,'Tableau coefficient '!$A$3:$B$1004,2,FALSE) -> 0 | N65: J | O65: 1 | P65: =(N65&O65) -> J1 | Q65: =VLOOKUP(P65,'Tableau coefficient '!$A$3:$B$1004,2,FALSE) -> 150 | R65: J | S65: 3 | T65: =(R65&S65) -> J3 | U65: =VLOOKUP(T65,'Tableau coefficient '!$A$3:$B$1004,2,FALSE) -> 110 | V65: J | W65: 5 | X65: =(V65&W65) -> J5 | Y65: =(VLOOKUP(X65,'Tableau coefficient '!$A$3:$B$1004,2,FALSE))*2 -> 190 | Z65: 0 | AA65: 0 | AB65: =(Z65&AA65) -> 00 | AC65: =(VLOOKUP(AB65,'Tableau coefficient '!$A$3:$B$1004,2,FALSE))*2 -> 0 | AD65: 0 | AE65: 0 | AF65: =(AD65&AE65) -> 00 | AG65: =VLOOKUP(AF65,'Tableau coefficient '!$A$3:$B$1004,2,FALSE) -> 0 | AH65: 0 | AI65: 0 | AJ65: =(AH65&AI65) -> 00 | AK65: =VLOOKUP(AJ65,'Tableau coefficient '!$A$3:$B$1004,2,FALSE) -> 0 | AL65: 0 | AM65: 0 | AN65: =(AL65&AM65) -> 00 | AO65: =VLOOKUP(AN65,'Tableau coefficient '!$A$3:$B$1004,2,FALSE) -> 0 | AP65: J | AQ65: 2 | AR65: =(AP65&AQ65) -> J2 | AS65: =VLOOKUP(AR65,'Tableau coefficient '!$A$3:$B$1004,2,FALSE) -> 125 | AT65: 0 | AU65: 0 | AV65: =(AT65&AU65) -> 00 | AW65: =VLOOKUP(AV65,'Tableau coefficient '!$A$3:$B$1004,2,FALSE) -> 0 | AX65: J | AY65: 2 | AZ65: =(AX65&AY65) -> J2 | BA65: =VLOOKUP(AZ65,'Tableau coefficient '!$A$3:$B$1004,2,FALSE) -> 125 | BB65: J | BC65: 6 | BD65: =(BB65&BC65) -> J6 | BE65: =(VLOOKUP(BD65,'Tableau coefficient '!$A$3:$B$1004,2,FALSE))*2 -> 180 | BF65: 0 | BG65: 0 | BH65: =(BF65&BG65) -> 00 | BI65: =VLOOKUP(BH65,'Tableau coefficient '!$A$3:$B$1004,2,FALSE) -> 0 | BJ65: 0 | BK65: 0 | BL65: =(BJ65&BK65) -> 00 | BM65: =VLOOKUP(BL65,'Tableau coefficient '!$A$3:$B$1004,2,FALSE) -> 0 | BN65: =SUM(M65,I65,Q65,U65,Y65,AC65,AG65,AO65,AS65,BA65,BE65,BI65,BM65) -> 975 | BO65: =RANK(BN65,$BN$4:$BN$446,0) -> 40
A66: TONNELLIER | B66: Maui | C66: M | D66: PU 2 | E66: AS TAMARII PUNARUU TRIATHLON | F66: J | G66: 14 | H66: =(F66&G66) -> J14 | I66: =VLOOKUP(H66,'Tableau coefficient '!$A$3:$B$1004,2,FALSE) -> 64.5 | J66: 0 | K66: 0 | L66: =(J66&K66) -> 00 | M66: =VLOOKUP(L66,'Tableau coefficient '!$A$3:$B$1004,2,FALSE) -> 0 | N66: J | O66: 7 | P66: =(N66&O66) -> J7 | Q66: =VLOOKUP(P66,'Tableau coefficient '!$A$3:$B$1004,2,FALSE) -> 85 | R66: J | S66: 13 | T66: =(R66&S66) -> J13 | U66: =VLOOKUP(T66,'Tableau coefficient '!$A$3:$B$1004,2,FALSE) -> 65 | V66: 0 | W66: 0 | X66: =(V66&W66) -> 00 | Y66: =(VLOOKUP(X66,'Tableau coefficient '!$A$3:$B$1004,2,FALSE))*2 -> 0 | Z66: 0 | AA66: 0 | AB66: =(Z66&AA66) -> 00 | AC66: =(VLOOKUP(AB66,'Tableau coefficient '!$A$3:$B$1004,2,FALSE))*2 -> 0 | AD66: J | AE66: 11 | AF66: =(AD66&AE66) -> J11 | AG66: =VLOOKUP(AF66,'Tableau coefficient '!$A$3:$B$1004,2,FALSE) -> 70 | AH66: 0 | AI66: 0 | AJ66: =(AH66&AI66) -> 00 | AK66: =VLOOKUP(AJ66,'Tableau coefficient '!$A$3:$B$1004,2,FALSE) -> 0 | AL66: 0 | AM66: 0 | AN66: =(AL66&AM66) -> 00 | AO66: =VLOOKUP(AN66,'Tableau coefficient '!$A$3:$B$1004,2,FALSE) -> 0 | AP66: 0 | AQ66: 0 | AR66: =(AP66&AQ66) -> 00 | AS66: =VLOOKUP(AR66,'Tableau coefficient '!$A$3:$B$1004,2,FALSE) -> 0 | AT66: 0 | AU66: 0 | AV66: =(AT66&AU66) -> 00 | AW66: =VLOOKUP(AV66,'Tableau coefficient '!$A$3:$B$1004,2,FALSE) -> 0 | AX66: J | AY66: 32 | AZ66: =(AX66&AY66) -> J32 | BA66: =VLOOKUP(AZ66,'Tableau coefficient '!$A$3:$B$1004,2,FALSE) -> 55.5 | BB66: J | BC66: 10 | BD66: =(BB66&BC66) -> J10 | BE66: =(VLOOKUP(BD66,'Tableau coefficient '!$A$3:$B$1004,2,FALSE))*2 -> 145 | BF66: 0 | BG66: 0 | BH66: =(BF66&BG66) -> 00 | BI66: =VLOOKUP(BH66,'Tableau coefficient '!$A$3:$B$1004,2,FALSE) -> 0 | BJ66: 0 | BK66: 0 | BL66: =(BJ66&BK66) -> 00 | BM66: =VLOOKUP(BL66,'Tableau coefficient '!$A$3:$B$1004,2,FALSE) -> 0 | BN66: =SUM(M66,I66,Q66,U66,Y66,AC66,AG66,AO66,AS66,BA66,BE66,BI66,BM66) -> 485 | BO66: =RANK(BN66,$BN$4:$BN$446,0) -> 126
A67: WONG | B67: Hayden | C67: M | D67: PU 1 | E67: CERCLE DES NAGEURS DE POLYNESIE | F67: 0 | G67: 0 | H67: =(F67&G67) -> 00 | I67: =VLOOKUP(H67,'Tableau coefficient '!$A$3:$B$1004,2,FALSE) -> 0 | J67: 0 | K67: 0 | L67: =(J67&K67) -> 00 | M67: =VLOOKUP(L67,'Tableau coefficient '!$A$3:$B$1004,2,FALSE) -> 0 | N67: J | O67: 18 | P67: =(N67&O67) -> J18 | Q67: =VLOOKUP(P67,'Tableau coefficient '!$A$3:$B$1004,2,FALSE) -> 62.5 | R67: 0 | S67: 0 | T67: =(R67&S67) -> 00 | U67: =VLOOKUP(T67,'Tableau coefficient '!$A$3:$B$1004,2,FALSE) -> 0 | V67: 0 | W67: 0 | X67: =(V67&W67) -> 00 | Y67: =(VLOOKUP(X67,'Tableau coefficient '!$A$3:$B$1004,2,FALSE))*2 -> 0 | Z67: 0 | AA67: 0 | AB67: =(Z67&AA67) -> 00 | AC67: =(VLOOKUP(AB67,'Tableau coefficient '!$A$3:$B$1004,2,FALSE))*2 -> 0 | AD67: 0 | AE67: 0 | AF67: =(AD67&AE67) -> 00 | AG67: =VLOOKUP(AF67,'Tableau coefficient '!$A$3:$B$1004,2,FALSE) -> 0 | AH67: 0 | AI67: 0 | AJ67: =(AH67&AI67) -> 00 | AK67: =VLOOKUP(AJ67,'Tableau coefficient '!$A$3:$B$1004,2,FALSE) -> 0 | AL67: 0 | AM67: 0 | AN67: =(AL67&AM67) -> 00 | AO67: =VLOOKUP(AN67,'Tableau coefficient '!$A$3:$B$1004,2,FALSE) -> 0 | AP67: 0 | AQ67: 0 | AR67: =(AP67&AQ67) -> 00 | AS67: =VLOOKUP(AR67,'Tableau coefficient '!$A$3:$B$1004,2,FALSE) -> 0 | AT67: 0 | AU67: 0 | AV67: =(AT67&AU67) -> 00 | AW67: =VLOOKUP(AV67,'Tableau coefficient '!$A$3:$B$1004,2,FALSE) -> 0 | AX67: 0 | AY67: 0 | AZ67: =(AX67&AY67) -> 00 | BA67: =VLOOKUP(AZ67,'Tableau coefficient '!$A$3:$B$1004,2,FALSE) -> 0 | BB67: 0 | BC67: 0 | BD67: =(BB67&BC67) -> 00 | BE67: =(VLOOKUP(BD67,'Tableau coefficient '!$A$3:$B$1004,2,FALSE))*2 -> 0 | BF67: 0 | BG67: 0 | BH67: =(BF67&BG67) -> 00 | BI67: =VLOOKUP(BH67,'Tableau coefficient '!$A$3:$B$1004,2,FALSE) -> 0 | BJ67: 0 | BK67: 0 | BL67: =(BJ67&BK67) -> 00 | BM67: =VLOOKUP(BL67,'Tableau coefficient '!$A$3:$B$1004,2,FALSE) -> 0 | BN67: =SUM(M67,I67,Q67,U67,Y67,AC67,AG67,AO67,AS67,BA67,BE67,BI67,BM67) -> 62.5 | BO67: =RANK(BN67,$BN$4:$BN$446,0) -> 289
A68: LEFEVRE | B68: Kapono | C68: M | D68: PU 1 | E68: FEI PI TRIATHLON | F68: 0 | G68: 0 | H68: =(F68&G68) -> 00 | I68: =VLOOKUP(H68,'Tableau coefficient '!$A$3:$B$1004,2,FALSE) -> 0 | J68: 0 | K68: 0 | L68: =(J68&K68) -> 00 | M68: =VLOOKUP(L68,'Tableau coefficient '!$A$3:$B$1004,2,FALSE) -> 0 | N68: 0 | O68: 0 | P68: =(N68&O68) -> 00 | Q68: =VLOOKUP(P68,'Tableau coefficient '!$A$3:$B$1004,2,FALSE) -> 0 | R68: 0 | S68: 0 | T68: =(R68&S68) -> 00 | U68: =VLOOKUP(T68,'Tableau coefficient '!$A$3:$B$1004,2,FALSE) -> 0 | V68: 0 | W68: 0 | X68: =(V68&W68) -> 00 | Y68: =(VLOOKUP(X68,'Tableau coefficient '!$A$3:$B$1004,2,FALSE))*2 -> 0 | Z68: 0 | AA68: 0 | AB68: =(Z68&AA68) -> 00 | AC68: =(VLOOKUP(AB68,'Tableau coefficient '!$A$3:$B$1004,2,FALSE))*2 -> 0 | AD68: J | AE68: 6 | AF68: =(AD68&AE68) -> J6 | AG68: =VLOOKUP(AF68,'Tableau coefficient '!$A$3:$B$1004,2,FALSE) -> 90 | AH68: 0 | AI68: 0 | AJ68: =(AH68&AI68) -> 00 | AK68: =VLOOKUP(AJ68,'Tableau coefficient '!$A$3:$B$1004,2,FALSE) -> 0 | AL68: 0 | AM68: 0 | AN68: =(AL68&AM68) -> 00 | AO68: =VLOOKUP(AN68,'Tableau coefficient '!$A$3:$B$1004,2,FALSE) -> 0 | AP68: 0 | AQ68: 0 | AR68: =(AP68&AQ68) -> 00 | AS68: =VLOOKUP(AR68,'Tableau coefficient '!$A$3:$B$1004,2,FALSE) -> 0 | AT68: 0 | AU68: 0 | AV68: =(AT68&AU68) -> 00 | AW68: =VLOOKUP(AV68,'Tableau coefficient '!$A$3:$B$1004,2,FALSE) -> 0 | AX68: 0 | AY68: 0 | AZ68: =(AX68&AY68) -> 00 | BA68: =VLOOKUP(AZ68,'Tableau coefficient '!$A$3:$B$1004,2,FALSE) -> 0 | BB68: J | BC68: 8 | BD68: =(BB68&BC68) -> J8 | BE68: =(VLOOKUP(BD68,'Tableau coefficient '!$A$3:$B$1004,2,FALSE))*2 -> 160 | BF68: 0 | BG68: 0 | BH68: =(BF68&BG68) -> 00 | BI68: =VLOOKUP(BH68,'Tableau coefficient '!$A$3:$B$1004,2,FALSE) -> 0 | BJ68: 0 | BK68: 0 | BL68: =(BJ68&BK68) -> 00 | BM68: =VLOOKUP(BL68,'Tableau coefficient '!$A$3:$B$1004,2,FALSE) -> 0 | BN68: =SUM(M68,I68,Q68,U68,Y68,AC68,AG68,AO68,AS68,BA68,BE68,BI68,BM68) -> 250 | BO68: =RANK(BN68,$BN$4:$BN$446,0) -> 207
A69: ROCHE | B69: Toanui | C69: M | D69: PU 1 | E69: AS TAMARII PUNARUU TRIATHLON | F69: 0 | G69: 0 | H69: =(F69&G69) -> 00 | I69: =VLOOKUP(H69,'Tableau coefficient '!$A$3:$B$1004,2,FALSE) -> 0 | J69: 0 | K69: 0 | L69: =(J69&K69) -> 00 | M69: =VLOOKUP(L69,'Tableau coefficient '!$A$3:$B$1004,2,FALSE) -> 0 | N69: 0 | O69: 0 | P69: =(N69&O69) -> 00 | Q69: =VLOOKUP(P69,'Tableau coefficient '!$A$3:$B$1004,2,FALSE) -> 0 | R69: 0 | S69: 0 | T69: =(R69&S69) -> 00 | U69: =VLOOKUP(T69,'Tableau coefficient '!$A$3:$B$1004,2,FALSE) -> 0 | V69: 0 | W69: 0 | X69: =(V69&W69) -> 00 | Y69: =(VLOOKUP(X69,'Tableau coefficient '!$A$3:$B$1004,2,FALSE))*2 -> 0 | Z69: 0 | AA69: 0 | AB69: =(Z69&AA69) -> 00 | AC69: =(VLOOKUP(AB69,'Tableau coefficient '!$A$3:$B$1004,2,FALSE))*2 -> 0 | AD69: J | AE69: 15 | AF69: =(AD69&AE69) -> J15 | AG69: =VLOOKUP(AF69,'Tableau coefficient '!$A$3:$B$1004,2,FALSE) -> 64 | AH69: 0 | AI69: 0 | AJ69: =(AH69&AI69) -> 00 | AK69: =VLOOKUP(AJ69,'Tableau coefficient '!$A$3:$B$1004,2,FALSE) -> 0 | AL69: 0 | AM69: 0 | AN69: =(AL69&AM69) -> 00 | AO69: =VLOOKUP(AN69,'Tableau coefficient '!$A$3:$B$1004,2,FALSE) -> 0 | AP69: J | AQ69: 15 | AR69: =(AP69&AQ69) -> J15 | AS69: =VLOOKUP(AR69,'Tableau coefficient '!$A$3:$B$1004,2,FALSE) -> 64 | AT69: 0 | AU69: 0 | AV69: =(AT69&AU69) -> 00 | AW69: =VLOOKUP(AV69,'Tableau coefficient '!$A$3:$B$1004,2,FALSE) -> 0 | AX69: 0 | AY69: 0 | AZ69: =(AX69&AY69) -> 00 | BA69: =VLOOKUP(AZ69,'Tableau coefficient '!$A$3:$B$1004,2,FALSE) -> 0 | BB69: J | BC69: 18 | BD69: =(BB69&BC69) -> J18 | BE69: =(VLOOKUP(BD69,'Tableau coefficient '!$A$3:$B$1004,2,FALSE))*2 -> 125 | BF69: 0 | BG69: 0 | BH69: =(BF69&BG69) -> 00 | BI69: =VLOOKUP(BH69,'Tableau coefficient '!$A$3:$B$1004,2,FALSE) -> 0 | BJ69: 0 | BK69: 0 | BL69: =(BJ69&BK69) -> 00 | BM69: =VLOOKUP(BL69,'Tableau coefficient '!$A$3:$B$1004,2,FALSE) -> 0 | BN69: =SUM(M69,I69,Q69,U69,Y69,AC69,AG69,AO69,AS69,BA69,BE69,BI69,BM69) -> 253 | BO69: =RANK(BN69,$BN$4:$BN$446,0) -> 205
A70: MULLER KOPPENS | B70: Aaron | C70: M | D70: PU 2 | E70: AS TAMARII PUNARUU TRIATHLON | F70: 0 | G70: 0 | H70: =(F70&G70) -> 00 | I70: =VLOOKUP(H70,'Tableau coefficient '!$A$3:$B$1004,2,FALSE) -> 0 | J70: 0 | K70: 0 | L70: =(J70&K70) -> 00 | M70: =VLOOKUP(L70,'Tableau coefficient '!$A$3:$B$1004,2,FALSE) -> 0 | N70: 0 | O70: 0 | P70: =(N70&O70) -> 00 | Q70: =VLOOKUP(P70,'Tableau coefficient '!$A$3:$B$1004,2,FALSE) -> 0 | R70: 0 | S70: 0 | T70: =(R70&S70) -> 00 | U70: =VLOOKUP(T70,'Tableau coefficient '!$A$3:$B$1004,2,FALSE) -> 0 | V70: 0 | W70: 0 | X70: =(V70&W70) -> 00 | Y70: =(VLOOKUP(X70,'Tableau coefficient '!$A$3:$B$1004,2,FALSE))*2 -> 0 | Z70: 0 | AA70: 0 | AB70: =(Z70&AA70) -> 00 | AC70: =(VLOOKUP(AB70,'Tableau coefficient '!$A$3:$B$1004,2,FALSE))*2 -> 0 | AD70: J | AE70: 18 | AF70: =(AD70&AE70) -> J18 | AG70: =VLOOKUP(AF70,'Tableau coefficient '!$A$3:$B$1004,2,FALSE) -> 62.5 | AH70: 0 | AI70: 0 | AJ70: =(AH70&AI70) -> 00 | AK70: =VLOOKUP(AJ70,'Tableau coefficient '!$A$3:$B$1004,2,FALSE) -> 0 | AL70: 0 | AM70: 0 | AN70: =(AL70&AM70) -> 00 | AO70: =VLOOKUP(AN70,'Tableau coefficient '!$A$3:$B$1004,2,FALSE) -> 0 | AP70: 0 | AQ70: 0 | AR70: =(AP70&AQ70) -> 00 | AS70: =VLOOKUP(AR70,'Tableau coefficient '!$A$3:$B$1004,2,FALSE) -> 0 | AT70: 0 | AU70: 0 | AV70: =(AT70&AU70) -> 00 | AW70: =VLOOKUP(AV70,'Tableau coefficient '!$A$3:$B$1004,2,FALSE) -> 0 | AX70: 0 | AY70: 0 | AZ70: =(AX70&AY70) -> 00 | BA70: =VLOOKUP(AZ70,'Tableau coefficient '!$A$3:$B$1004,2,FALSE) -> 0 | BB70: 0 | BC70: 0 | BD70: =(BB70&BC70) -> 00 | BE70: =(VLOOKUP(BD70,'Tableau coefficient '!$A$3:$B$1004,2,FALSE))*2 -> 0 | BF70: 0 | BG70: 0 | BH70: =(BF70&BG70) -> 00 | BI70: =VLOOKUP(BH70,'Tableau coefficient '!$A$3:$B$1004,2,FALSE) -> 0 | BJ70: 0 | BK70: 0 | BL70: =(BJ70&BK70) -> 00 | BM70: =VLOOKUP(BL70,'Tableau coefficient '!$A$3:$B$1004,2,FALSE) -> 0 | BN70: =SUM(M70,I70,Q70,U70,Y70,AC70,AG70,AO70,AS70,BA70,BE70,BI70,BM70) -> 62.5 | BO70: =RANK(BN70,$BN$4:$BN$446,0) -> 289
A71: GOULARD | B71: Teanua | C71: M | D71: PU 2 | E71: CERCLE DES NAGEURS DE POLYNESIE | F71: 0 | G71: 0 | H71: =(F71&G71) -> 00 | I71: =VLOOKUP(H71,'Tableau coefficient '!$A$3:$B$1004,2,FALSE) -> 0 | J71: 0 | K71: 0 | L71: =(J71&K71) -> 00 | M71: =VLOOKUP(L71,'Tableau coefficient '!$A$3:$B$1004,2,FALSE) -> 0 | N71: 0 | O71: 0 | P71: =(N71&O71) -> 00 | Q71: =VLOOKUP(P71,'Tableau coefficient '!$A$3:$B$1004,2,FALSE) -> 0 | R71: 0 | S71: 0 | T71: =(R71&S71) -> 00 | U71: =VLOOKUP(T71,'Tableau coefficient '!$A$3:$B$1004,2,FALSE) -> 0 | V71: 0 | W71: 0 | X71: =(V71&W71) -> 00 | Y71: =(VLOOKUP(X71,'Tableau coefficient '!$A$3:$B$1004,2,FALSE))*2 -> 0 | Z71: 0 | AA71: 0 | AB71: =(Z71&AA71) -> 00 | AC71: =(VLOOKUP(AB71,'Tableau coefficient '!$A$3:$B$1004,2,FALSE))*2 -> 0 | AD71: 0 | AE71: 0 | AF71: =(AD71&AE71) -> 00 | AG71: =VLOOKUP(AF71,'Tableau coefficient '!$A$3:$B$1004,2,FALSE) -> 0 | AH71: 0 | AI71: 0 | AJ71: =(AH71&AI71) -> 00 | AK71: =VLOOKUP(AJ71,'Tableau coefficient '!$A$3:$B$1004,2,FALSE) -> 0 | AL71: 0 | AM71: 0 | AN71: =(AL71&AM71) -> 00 | AO71: =VLOOKUP(AN71,'Tableau coefficient '!$A$3:$B$1004,2,FALSE) -> 0 | AP71: 0 | AQ71: 0 | AR71: =(AP71&AQ71) -> 00 | AS71: =VLOOKUP(AR71,'Tableau coefficient '!$A$3:$B$1004,2,FALSE) -> 0 | AT71: 0 | AU71: 0 | AV71: =(AT71&AU71) -> 00 | AW71: =VLOOKUP(AV71,'Tableau coefficient '!$A$3:$B$1004,2,FALSE) -> 0 | AX71: 0 | AY71: 0 | AZ71: =(AX71&AY71) -> 00 | BA71: =VLOOKUP(AZ71,'Tableau coefficient '!$A$3:$B$1004,2,FALSE) -> 0 | BB71: J | BC71: 5 | BD71: =(BB71&BC71) -> J5 | BE71: =(VLOOKUP(BD71,'Tableau coefficient '!$A$3:$B$1004,2,FALSE))*2 -> 190 | BF71: 0 | BG71: 0 | BH71: =(BF71&BG71) -> 00 | BI71: =VLOOKUP(BH71,'Tableau coefficient '!$A$3:$B$1004,2,FALSE) -> 0 | BJ71: 0 | BK71: 0 | BL71: =(BJ71&BK71) -> 00 | BM71: =VLOOKUP(BL71,'Tableau coefficient '!$A$3:$B$1004,2,FALSE) -> 0 | BN71: =SUM(M71,I71,Q71,U71,Y71,AC71,AG71,AO71,AS71,BA71,BE71,BI71,BM71) -> 190 | BO71: =RANK(BN71,$BN$4:$BN$446,0) -> 231
A72: BECHER | B72: Manavai | C72: F | D72: PU 1 | E72: FEI PI TRIATHLON | F72: J | G72: 11 | H72: =(F72&G72) -> J11 | I72: =VLOOKUP(H72,'Tableau coefficient '!$A$3:$B$1004,2,FALSE) -> 70 | J72: J | K72: 21 | L72: =(J72&K72) -> J21 | M72: =VLOOKUP(L72,'Tableau coefficient '!$A$3:$B$1004,2,FALSE) -> 61 | N72: 0 | O72: 0 | P72: =(N72&O72) -> 00 | Q72: =VLOOKUP(P72,'Tableau coefficient '!$A$3:$B$1004,2,FALSE) -> 0 | R72: J | S72: 16 | T72: =(R72&S72) -> J16 | U72: =VLOOKUP(T72,'Tableau coefficient '!$A$3:$B$1004,2,FALSE) -> 63.5 | V72: J | W72: 22 | X72: =(V72&W72) -> J22 | Y72: =(VLOOKUP(X72,'Tableau coefficient '!$A$3:$B$1004,2,FALSE))*2 -> 121 | Z72: J | AA72: 9 | AB72: =(Z72&AA72) -> J9 | AC72: =(VLOOKUP(AB72,'Tableau coefficient '!$A$3:$B$1004,2,FALSE))*2 -> 150 | AD72: J | AE72: 13 | AF72: =(AD72&AE72) -> J13 | AG72: =VLOOKUP(AF72,'Tableau coefficient '!$A$3:$B$1004,2,FALSE) -> 65 | AH72: 0 | AI72: 0 | AJ72: =(AH72&AI72) -> 00 | AK72: =VLOOKUP(AJ72,'Tableau coefficient '!$A$3:$B$1004,2,FALSE) -> 0 | AL72: 0 | AM72: 0 | AN72: =(AL72&AM72) -> 00 | AO72: =VLOOKUP(AN72,'Tableau coefficient '!$A$3:$B$1004,2,FALSE) -> 0 | AP72: J | AQ72: 8 | AR72: =(AP72&AQ72) -> J8 | AS72: =VLOOKUP(AR72,'Tableau coefficient '!$A$3:$B$1004,2,FALSE) -> 80 | AT72: 0 | AU72: 0 | AV72: =(AT72&AU72) -> 00 | AW72: =VLOOKUP(AV72,'Tableau coefficient '!$A$3:$B$1004,2,FALSE) -> 0 | AX72: J | AY72: 19 | AZ72: =(AX72&AY72) -> J19 | BA72: =VLOOKUP(AZ72,'Tableau coefficient '!$A$3:$B$1004,2,FALSE) -> 62 | BB72: J | BC72: 9 | BD72: =(BB72&BC72) -> J9 | BE72: =(VLOOKUP(BD72,'Tableau coefficient '!$A$3:$B$1004,2,FALSE))*2 -> 150 | BF72: 0 | BG72: 0 | BH72: =(BF72&BG72) -> 00 | BI72: =VLOOKUP(BH72,'Tableau coefficient '!$A$3:$B$1004,2,FALSE) -> 0 | BJ72: 0 | BK72: 0 | BL72: =(BJ72&BK72) -> 00 | BM72: =VLOOKUP(BL72,'Tableau coefficient '!$A$3:$B$1004,2,FALSE) -> 0 | BN72: =SUM(M72,I72,Q72,U72,Y72,AC72,AG72,AO72,AS72,BA72,BE72,BI72,BM72) -> 822.5 | BO72: =RANK(BN72,$BN$4:$BN$446,0) -> 56
A73: BOARETTO | B73: Marlene | C73: F | D73: PU 2 | E73: AS TAMARII PUNARUU TRIATHLON | F73: J | G73: 19 | H73: =(F73&G73) -> J19 | I73: =VLOOKUP(H73,'Tableau coefficient '!$A$3:$B$1004,2,FALSE) -> 62 | J73: J | K73: 15 | L73: =(J73&K73) -> J15 | M73: =VLOOKUP(L73,'Tableau coefficient '!$A$3:$B$1004,2,FALSE) -> 64 | N73: J | O73: 11 | P73: =(N73&O73) -> J11 | Q73: =VLOOKUP(P73,'Tableau coefficient '!$A$3:$B$1004,2,FALSE) -> 70 | R73: J | S73: 17 | T73: =(R73&S73) -> J17 | U73: =VLOOKUP(T73,'Tableau coefficient '!$A$3:$B$1004,2,FALSE) -> 63 | V73: J | W73: 19 | X73: =(V73&W73) -> J19 | Y73: =(VLOOKUP(X73,'Tableau coefficient '!$A$3:$B$1004,2,FALSE))*2 -> 124 | Z73: J | AA73: 13 | AB73: =(Z73&AA73) -> J13 | AC73: =(VLOOKUP(AB73,'Tableau coefficient '!$A$3:$B$1004,2,FALSE))*2 -> 130 | AD73: J | AE73: 19 | AF73: =(AD73&AE73) -> J19 | AG73: =VLOOKUP(AF73,'Tableau coefficient '!$A$3:$B$1004,2,FALSE) -> 62 | AH73: 0 | AI73: 0 | AJ73: =(AH73&AI73) -> 00 | AK73: =VLOOKUP(AJ73,'Tableau coefficient '!$A$3:$B$1004,2,FALSE) -> 0 | AL73: 0 | AM73: 0 | AN73: =(AL73&AM73) -> 00 | AO73: =VLOOKUP(AN73,'Tableau coefficient '!$A$3:$B$1004,2,FALSE) -> 0 | AP73: 0 | AQ73: 0 | AR73: =(AP73&AQ73) -> 00 | AS73: =VLOOKUP(AR73,'Tableau coefficient '!$A$3:$B$1004,2,FALSE) -> 0 | AT73: 0 | AU73: 0 | AV73: =(AT73&AU73) -> 00 | AW73: =VLOOKUP(AV73,'Tableau coefficient '!$A$3:$B$1004,2,FALSE) -> 0 | AX73: J | AY73: 27 | AZ73: =(AX73&AY73) -> J27 | BA73: =VLOOKUP(AZ73,'Tableau coefficient '!$A$3:$B$1004,2,FALSE) -> 58 | BB73: J | BC73: 23 | BD73: =(BB73&BC73) -> J23 | BE73: =(VLOOKUP(BD73,'Tableau coefficient '!$A$3:$B$1004,2,FALSE))*2 -> 120 | BF73: 0 | BG73: 0 | BH73: =(BF73&BG73) -> 00 | BI73: =VLOOKUP(BH73,'Tableau coefficient '!$A$3:$B$1004,2,FALSE) -> 0 | BJ73: 0 | BK73: 0 | BL73: =(BJ73&BK73) -> 00 | BM73: =VLOOKUP(BL73,'Tableau coefficient '!$A$3:$B$1004,2,FALSE) -> 0 | BN73: =SUM(M73,I73,Q73,U73,Y73,AC73,AG73,AO73,AS73,BA73,BE73,BI73,BM73) -> 753 | BO73: =RANK(BN73,$BN$4:$BN$446,0) -> 65
A74: BOOSIE | B74: Na Ihi | C74: F | D74: PU 2 | E74: CERCLE DES NAGEURS DE POLYNESIE | F74: J | G74: 26 | H74: =(F74&G74) -> J26 | I74: =VLOOKUP(H74,'Tableau coefficient '!$A$3:$B$1004,2,FALSE) -> 58.5 | J74: J | K74: 17 | L74: =(J74&K74) -> J17 | M74: =VLOOKUP(L74,'Tableau coefficient '!$A$3:$B$1004,2,FALSE) -> 63 | N74: J | O74: 17 | P74: =(N74&O74) -> J17 | Q74: =VLOOKUP(P74,'Tableau coefficient '!$A$3:$B$1004,2,FALSE) -> 63 | R74: J | S74: 24 | T74: =(R74&S74) -> J24 | U74: =VLOOKUP(T74,'Tableau coefficient '!$A$3:$B$1004,2,FALSE) -> 59.5 | V74: J | W74: 21 | X74: =(V74&W74) -> J21 | Y74: =(VLOOKUP(X74,'Tableau coefficient '!$A$3:$B$1004,2,FALSE))*2 -> 122 | Z74: 0 | AA74: 0 | AB74: =(Z74&AA74) -> 00 | AC74: =(VLOOKUP(AB74,'Tableau coefficient '!$A$3:$B$1004,2,FALSE))*2 -> 0 | AD74: J | AE74: 10 | AF74: =(AD74&AE74) -> J10 | AG74: =VLOOKUP(AF74,'Tableau coefficient '!$A$3:$B$1004,2,FALSE) -> 72.5 | AH74: 0 | AI74: 0 | AJ74: =(AH74&AI74) -> 00 | AK74: =VLOOKUP(AJ74,'Tableau coefficient '!$A$3:$B$1004,2,FALSE) -> 0 | AL74: 0 | AM74: 0 | AN74: =(AL74&AM74) -> 00 | AO74: =VLOOKUP(AN74,'Tableau coefficient '!$A$3:$B$1004,2,FALSE) -> 0 | AP74: J | AQ74: 7 | AR74: =(AP74&AQ74) -> J7 | AS74: =VLOOKUP(AR74,'Tableau coefficient '!$A$3:$B$1004,2,FALSE) -> 85 | AT74: 0 | AU74: 0 | AV74: =(AT74&AU74) -> 00 | AW74: =VLOOKUP(AV74,'Tableau coefficient '!$A$3:$B$1004,2,FALSE) -> 0 | AX74: J | AY74: 12 | AZ74: =(AX74&AY74) -> J12 | BA74: =VLOOKUP(AZ74,'Tableau coefficient '!$A$3:$B$1004,2,FALSE) -> 67.5 | BB74: J | BC74: 16 | BD74: =(BB74&BC74) -> J16 | BE74: =(VLOOKUP(BD74,'Tableau coefficient '!$A$3:$B$1004,2,FALSE))*2 -> 127 | BF74: 0 | BG74: 0 | BH74: =(BF74&BG74) -> 00 | BI74: =VLOOKUP(BH74,'Tableau coefficient '!$A$3:$B$1004,2,FALSE) -> 0 | BJ74: 0 | BK74: 0 | BL74: =(BJ74&BK74) -> 00 | BM74: =VLOOKUP(BL74,'Tableau coefficient '!$A$3:$B$1004,2,FALSE) -> 0 | BN74: =SUM(M74,I74,Q74,U74,Y74,AC74,AG74,AO74,AS74,BA74,BE74,BI74,BM74) -> 718 | BO74: =RANK(BN74,$BN$4:$BN$446,0) -> 71
A75: CALLOT | B75: Oliana | C75: F | D75: PU 1 | E75: AS TAMARII PUNARUU TRIATHLON | F75: 0 | G75: 0 | H75: =(F75&G75) -> 00 | I75: =VLOOKUP(H75,'Tableau coefficient '!$A$3:$B$1004,2,FALSE) -> 0 | J75: 0 | K75: 0 | L75: =(J75&K75) -> 00 | M75: =VLOOKUP(L75,'Tableau coefficient '!$A$3:$B$1004,2,FALSE) -> 0 | N75: 0 | O75: 0 | P75: =(N75&O75) -> 00 | Q75: =VLOOKUP(P75,'Tableau coefficient '!$A$3:$B$1004,2,FALSE) -> 0 | R75: 0 | S75: 0 | T75: =(R75&S75) -> 00 | U75: =VLOOKUP(T75,'Tableau coefficient '!$A$3:$B$1004,2,FALSE) -> 0 | V75: J | W75: 9 | X75: =(V75&W75) -> J9 | Y75: =(VLOOKUP(X75,'Tableau coefficient '!$A$3:$B$1004,2,FALSE))*2 -> 150 | Z75: 0 | AA75: 0 | AB75: =(Z75&AA75) -> 00 | AC75: =(VLOOKUP(AB75,'Tableau coefficient '!$A$3:$B$1004,2,FALSE))*2 -> 0 | AD75: 0 | AE75: 0 | AF75: =(AD75&AE75) -> 00 | AG75: =VLOOKUP(AF75,'Tableau coefficient '!$A$3:$B$1004,2,FALSE) -> 0 | AH75: 0 | AI75: 0 | AJ75: =(AH75&AI75) -> 00 | AK75: =VLOOKUP(AJ75,'Tableau coefficient '!$A$3:$B$1004,2,FALSE) -> 0 | AL75: 0 | AM75: 0 | AN75: =(AL75&AM75) -> 00 | AO75: =VLOOKUP(AN75,'Tableau coefficient '!$A$3:$B$1004,2,FALSE) -> 0 | AP75: 0 | AQ75: 0 | AR75: =(AP75&AQ75) -> 00 | AS75: =VLOOKUP(AR75,'Tableau coefficient '!$A$3:$B$1004,2,FALSE) -> 0 | AT75: 0 | AU75: 0 | AV75: =(AT75&AU75) -> 00 | AW75: =VLOOKUP(AV75,'Tableau coefficient '!$A$3:$B$1004,2,FALSE) -> 0 | AX75: 0 | AY75: 0 | AZ75: =(AX75&AY75) -> 00 | BA75: =VLOOKUP(AZ75,'Tableau coefficient '!$A$3:$B$1004,2,FALSE) -> 0 | BB75: 0 | BC75: 0 | BD75: =(BB75&BC75) -> 00 | BE75: =(VLOOKUP(BD75,'Tableau coefficient '!$A$3:$B$1004,2,FALSE))*2 -> 0 | BF75: 0 | BG75: 0 | BH75: =(BF75&BG75) -> 00 | BI75: =VLOOKUP(BH75,'Tableau coefficient '!$A$3:$B$1004,2,FALSE) -> 0 | BJ75: 0 | BK75: 0 | BL75: =(BJ75&BK75) -> 00 | BM75: =VLOOKUP(BL75,'Tableau coefficient '!$A$3:$B$1004,2,FALSE) -> 0 | BN75: =SUM(M75,I75,Q75,U75,Y75,AC75,AG75,AO75,AS75,BA75,BE75,BI75,BM75) -> 150 | BO75: =RANK(BN75,$BN$4:$BN$446,0) -> 255
A76: CHAMPES | B76: Lou Ann | C76: F | D76: PU 2 | E76: CERCLE DES NAGEURS DE POLYNESIE | F76: J | G76: 13 | H76: =(F76&G76) -> J13 | I76: =VLOOKUP(H76,'Tableau coefficient '!$A$3:$B$1004,2,FALSE) -> 65 | J76: 0 | K76: 0 | L76: =(J76&K76) -> 00 | M76: =VLOOKUP(L76,'Tableau coefficient '!$A$3:$B$1004,2,FALSE) -> 0 | N76: 0 | O76: 0 | P76: =(N76&O76) -> 00 | Q76: =VLOOKUP(P76,'Tableau coefficient '!$A$3:$B$1004,2,FALSE) -> 0 | R76: J | S76: 11 | T76: =(R76&S76) -> J11 | U76: =VLOOKUP(T76,'Tableau coefficient '!$A$3:$B$1004,2,FALSE) -> 70 | V76: J | W76: 11 | X76: =(V76&W76) -> J11 | Y76: =(VLOOKUP(X76,'Tableau coefficient '!$A$3:$B$1004,2,FALSE))*2 -> 140 | Z76: 0 | AA76: 0 | AB76: =(Z76&AA76) -> 00 | AC76: =(VLOOKUP(AB76,'Tableau coefficient '!$A$3:$B$1004,2,FALSE))*2 -> 0 | AD76: J | AE76: 9 | AF76: =(AD76&AE76) -> J9 | AG76: =VLOOKUP(AF76,'Tableau coefficient '!$A$3:$B$1004,2,FALSE) -> 75 | AH76: 0 | AI76: 0 | AJ76: =(AH76&AI76) -> 00 | AK76: =VLOOKUP(AJ76,'Tableau coefficient '!$A$3:$B$1004,2,FALSE) -> 0 | AL76: 0 | AM76: 0 | AN76: =(AL76&AM76) -> 00 | AO76: =VLOOKUP(AN76,'Tableau coefficient '!$A$3:$B$1004,2,FALSE) -> 0 | AP76: 0 | AQ76: 0 | AR76: =(AP76&AQ76) -> 00 | AS76: =VLOOKUP(AR76,'Tableau coefficient '!$A$3:$B$1004,2,FALSE) -> 0 | AT76: 0 | AU76: 0 | AV76: =(AT76&AU76) -> 00 | AW76: =VLOOKUP(AV76,'Tableau coefficient '!$A$3:$B$1004,2,FALSE) -> 0 | AX76: J | AY76: 16 | AZ76: =(AX76&AY76) -> J16 | BA76: =VLOOKUP(AZ76,'Tableau coefficient '!$A$3:$B$1004,2,FALSE) -> 63.5 | BB76: J | BC76: 13 | BD76: =(BB76&BC76) -> J13 | BE76: =(VLOOKUP(BD76,'Tableau coefficient '!$A$3:$B$1004,2,FALSE))*2 -> 130 | BF76: 0 | BG76: 0 | BH76: =(BF76&BG76) -> 00 | BI76: =VLOOKUP(BH76,'Tableau coefficient '!$A$3:$B$1004,2,FALSE) -> 0 | BJ76: 0 | BK76: 0 | BL76: =(BJ76&BK76) -> 00 | BM76: =VLOOKUP(BL76,'Tableau coefficient '!$A$3:$B$1004,2,FALSE) -> 0 | BN76: =SUM(M76,I76,Q76,U76,Y76,AC76,AG76,AO76,AS76,BA76,BE76,BI76,BM76) -> 543.5 | BO76: =RANK(BN76,$BN$4:$BN$446,0) -> 111
A77: CHEVALIER | B77: Lou | C77: F | D77: PU 1 | E77: CERCLE DES NAGEURS DE POLYNESIE | F77: 0 | G77: 0 | H77: =(F77&G77) -> 00 | I77: =VLOOKUP(H77,'Tableau coefficient '!$A$3:$B$1004,2,FALSE) -> 0 | J77: 0 | K77: 0 | L77: =(J77&K77) -> 00 | M77: =VLOOKUP(L77,'Tableau coefficient '!$A$3:$B$1004,2,FALSE) -> 0 | N77: 0 | O77: 0 | P77: =(N77&O77) -> 00 | Q77: =VLOOKUP(P77,'Tableau coefficient '!$A$3:$B$1004,2,FALSE) -> 0 | R77: 0 | S77: 0 | T77: =(R77&S77) -> 00 | U77: =VLOOKUP(T77,'Tableau coefficient '!$A$3:$B$1004,2,FALSE) -> 0 | V77: 0 | W77: 0 | X77: =(V77&W77) -> 00 | Y77: =(VLOOKUP(X77,'Tableau coefficient '!$A$3:$B$1004,2,FALSE))*2 -> 0 | Z77: 0 | AA77: 0 | AB77: =(Z77&AA77) -> 00 | AC77: =(VLOOKUP(AB77,'Tableau coefficient '!$A$3:$B$1004,2,FALSE))*2 -> 0 | AD77: 0 | AE77: 0 | AF77: =(AD77&AE77) -> 00 | AG77: =VLOOKUP(AF77,'Tableau coefficient '!$A$3:$B$1004,2,FALSE) -> 0 | AH77: 0 | AI77: 0 | AJ77: =(AH77&AI77) -> 00 | AK77: =VLOOKUP(AJ77,'Tableau coefficient '!$A$3:$B$1004,2,FALSE) -> 0 | AL77: 0 | AM77: 0 | AN77: =(AL77&AM77) -> 00 | AO77: =VLOOKUP(AN77,'Tableau coefficient '!$A$3:$B$1004,2,FALSE) -> 0 | AP77: 0 | AQ77: 0 | AR77: =(AP77&AQ77) -> 00 | AS77: =VLOOKUP(AR77,'Tableau coefficient '!$A$3:$B$1004,2,FALSE) -> 0 | AT77: 0 | AU77: 0 | AV77: =(AT77&AU77) -> 00 | AW77: =VLOOKUP(AV77,'Tableau coefficient '!$A$3:$B$1004,2,FALSE) -> 0 | AX77: 0 | AY77: 0 | AZ77: =(AX77&AY77) -> 00 | BA77: =VLOOKUP(AZ77,'Tableau coefficient '!$A$3:$B$1004,2,FALSE) -> 0 | BB77: 0 | BC77: 0 | BD77: =(BB77&BC77) -> 00 | BE77: =(VLOOKUP(BD77,'Tableau coefficient '!$A$3:$B$1004,2,FALSE))*2 -> 0 | BF77: 0 | BG77: 0 | BH77: =(BF77&BG77) -> 00 | BI77: =VLOOKUP(BH77,'Tableau coefficient '!$A$3:$B$1004,2,FALSE) -> 0 | BJ77: 0 | BK77: 0 | BL77: =(BJ77&BK77) -> 00 | BM77: =VLOOKUP(BL77,'Tableau coefficient '!$A$3:$B$1004,2,FALSE) -> 0 | BN77: =SUM(M77,I77,Q77,U77,Y77,AC77,AG77,AO77,AS77,BA77,BE77,BI77,BM77) -> 0 | BO77: =RANK(BN77,$BN$4:$BN$446,0) -> 303
A78: COVIC | B78: Neyla | C78: F | D78: PU 2 | E78: AS TAMARII PUNARUU TRIATHLON | F78: J | G78: 9 | H78: =(F78&G78) -> J9 | I78: =VLOOKUP(H78,'Tableau coefficient '!$A$3:$B$1004,2,FALSE) -> 75 | J78: J | K78: 5 | L78: =(J78&K78) -> J5 | M78: =VLOOKUP(L78,'Tableau coefficient '!$A$3:$B$1004,2,FALSE) -> 95 | N78: J | O78: 4 | P78: =(N78&O78) -> J4 | Q78: =VLOOKUP(P78,'Tableau coefficient '!$A$3:$B$1004,2,FALSE) -> 100 | R78: J | S78: 5 | T78: =(R78&S78) -> J5 | U78: =VLOOKUP(T78,'Tableau coefficient '!$A$3:$B$1004,2,FALSE) -> 95 | V78: J | W78: 4 | X78: =(V78&W78) -> J4 | Y78: =(VLOOKUP(X78,'Tableau coefficient '!$A$3:$B$1004,2,FALSE))*2 -> 200 | Z78: J | AA78: 2 | AB78: =(Z78&AA78) -> J2 | AC78: =(VLOOKUP(AB78,'Tableau coefficient '!$A$3:$B$1004,2,FALSE))*2 -> 250 | AD78: 0 | AE78: 0 | AF78: =(AD78&AE78) -> 00 | AG78: =VLOOKUP(AF78,'Tableau coefficient '!$A$3:$B$1004,2,FALSE) -> 0 | AH78: 0 | AI78: 0 | AJ78: =(AH78&AI78) -> 00 | AK78: =VLOOKUP(AJ78,'Tableau coefficient '!$A$3:$B$1004,2,FALSE) -> 0 | AL78: 0 | AM78: 0 | AN78: =(AL78&AM78) -> 00 | AO78: =VLOOKUP(AN78,'Tableau coefficient '!$A$3:$B$1004,2,FALSE) -> 0 | AP78: 0 | AQ78: 0 | AR78: =(AP78&AQ78) -> 00 | AS78: =VLOOKUP(AR78,'Tableau coefficient '!$A$3:$B$1004,2,FALSE) -> 0 | AT78: 0 | AU78: 0 | AV78: =(AT78&AU78) -> 00 | AW78: =VLOOKUP(AV78,'Tableau coefficient '!$A$3:$B$1004,2,FALSE) -> 0 | AX78: J | AY78: 3 | AZ78: =(AX78&AY78) -> J3 | BA78: =VLOOKUP(AZ78,'Tableau coefficient '!$A$3:$B$1004,2,FALSE) -> 110 | BB78: J | BC78: 7 | BD78: =(BB78&BC78) -> J7 | BE78: =(VLOOKUP(BD78,'Tableau coefficient '!$A$3:$B$1004,2,FALSE))*2 -> 170 | BF78: 0 | BG78: 0 | BH78: =(BF78&BG78) -> 00 | BI78: =VLOOKUP(BH78,'Tableau coefficient '!$A$3:$B$1004,2,FALSE) -> 0 | BJ78: 0 | BK78: 0 | BL78: =(BJ78&BK78) -> 00 | BM78: =VLOOKUP(BL78,'Tableau coefficient '!$A$3:$B$1004,2,FALSE) -> 0 | BN78: =SUM(M78,I78,Q78,U78,Y78,AC78,AG78,AO78,AS78,BA78,BE78,BI78,BM78) -> 1095 | BO78: =RANK(BN78,$BN$4:$BN$446,0) -> 26
A79: GOBRAIT | B79: Poerani | C79: F | D79: PU 2 | E79: AS TAMARII PUNARUU TRIATHLON | F79: 0 | G79: 0 | H79: =(F79&G79) -> 00 | I79: =VLOOKUP(H79,'Tableau coefficient '!$A$3:$B$1004,2,FALSE) -> 0 | J79: 0 | K79: 0 | L79: =(J79&K79) -> 00 | M79: =VLOOKUP(L79,'Tableau coefficient '!$A$3:$B$1004,2,FALSE) -> 0 | N79: 0 | O79: 0 | P79: =(N79&O79) -> 00 | Q79: =VLOOKUP(P79,'Tableau coefficient '!$A$3:$B$1004,2,FALSE) -> 0 | R79: 0 | S79: 0 | T79: =(R79&S79) -> 00 | U79: =VLOOKUP(T79,'Tableau coefficient '!$A$3:$B$1004,2,FALSE) -> 0 | V79: 0 | W79: 0 | X79: =(V79&W79) -> 00 | Y79: =(VLOOKUP(X79,'Tableau coefficient '!$A$3:$B$1004,2,FALSE))*2 -> 0 | Z79: 0 | AA79: 0 | AB79: =(Z79&AA79) -> 00 | AC79: =(VLOOKUP(AB79,'Tableau coefficient '!$A$3:$B$1004,2,FALSE))*2 -> 0 | AD79: 0 | AE79: 0 | AF79: =(AD79&AE79) -> 00 | AG79: =VLOOKUP(AF79,'Tableau coefficient '!$A$3:$B$1004,2,FALSE) -> 0 | AH79: 0 | AI79: 0 | AJ79: =(AH79&AI79) -> 00 | AK79: =VLOOKUP(AJ79,'Tableau coefficient '!$A$3:$B$1004,2,FALSE) -> 0 | AL79: 0 | AM79: 0 | AN79: =(AL79&AM79) -> 00 | AO79: =VLOOKUP(AN79,'Tableau coefficient '!$A$3:$B$1004,2,FALSE) -> 0 | AP79: 0 | AQ79: 0 | AR79: =(AP79&AQ79) -> 00 | AS79: =VLOOKUP(AR79,'Tableau coefficient '!$A$3:$B$1004,2,FALSE) -> 0 | AT79: 0 | AU79: 0 | AV79: =(AT79&AU79) -> 00 | AW79: =VLOOKUP(AV79,'Tableau coefficient '!$A$3:$B$1004,2,FALSE) -> 0 | AX79: 0 | AY79: 0 | AZ79: =(AX79&AY79) -> 00 | BA79: =VLOOKUP(AZ79,'Tableau coefficient '!$A$3:$B$1004,2,FALSE) -> 0 | BB79: 0 | BC79: 0 | BD79: =(BB79&BC79) -> 00 | BE79: =(VLOOKUP(BD79,'Tableau coefficient '!$A$3:$B$1004,2,FALSE))*2 -> 0 | BF79: 0 | BG79: 0 | BH79: =(BF79&BG79) -> 00 | BI79: =VLOOKUP(BH79,'Tableau coefficient '!$A$3:$B$1004,2,FALSE) -> 0 | BJ79: 0 | BK79: 0 | BL79: =(BJ79&BK79) -> 00 | BM79: =VLOOKUP(BL79,'Tableau coefficient '!$A$3:$B$1004,2,FALSE) -> 0 | BN79: =SUM(M79,I79,Q79,U79,Y79,AC79,AG79,AO79,AS79,BA79,BE79,BI79,BM79) -> 0 | BO79: =RANK(BN79,$BN$4:$BN$446,0) -> 303
A80: ITIER | B80: Eline | C80: F | D80: PU 1 | E80: FEI PI TRIATHLON | F80: J | G80: 22 | H80: =(F80&G80) -> J22 | I80: =VLOOKUP(H80,'Tableau coefficient '!$A$3:$B$1004,2,FALSE) -> 60.5 | J80: J | K80: 22 | L80: =(J80&K80) -> J22 | M80: =VLOOKUP(L80,'Tableau coefficient '!$A$3:$B$1004,2,FALSE) -> 60.5 | N80: 0 | O80: 0 | P80: =(N80&O80) -> 00 | Q80: =VLOOKUP(P80,'Tableau coefficient '!$A$3:$B$1004,2,FALSE) -> 0 | R80: J | S80: 22 | T80: =(R80&S80) -> J22 | U80: =VLOOKUP(T80,'Tableau coefficient '!$A$3:$B$1004,2,FALSE) -> 60.5 | V80: 0 | W80: 0 | X80: =(V80&W80) -> 00 | Y80: =(VLOOKUP(X80,'Tableau coefficient '!$A$3:$B$1004,2,FALSE))*2 -> 0 | Z80: 0 | AA80: 0 | AB80: =(Z80&AA80) -> 00 | AC80: =(VLOOKUP(AB80,'Tableau coefficient '!$A$3:$B$1004,2,FALSE))*2 -> 0 | AD80: J | AE80: 21 | AF80: =(AD80&AE80) -> J21 | AG80: =VLOOKUP(AF80,'Tableau coefficient '!$A$3:$B$1004,2,FALSE) -> 61 | AH80: 0 | AI80: 0 | AJ80: =(AH80&AI80) -> 00 | AK80: =VLOOKUP(AJ80,'Tableau coefficient '!$A$3:$B$1004,2,FALSE) -> 0 | AL80: 0 | AM80: 0 | AN80: =(AL80&AM80) -> 00 | AO80: =VLOOKUP(AN80,'Tableau coefficient '!$A$3:$B$1004,2,FALSE) -> 0 | AP80: J | AQ80: 16 | AR80: =(AP80&AQ80) -> J16 | AS80: =VLOOKUP(AR80,'Tableau coefficient '!$A$3:$B$1004,2,FALSE) -> 63.5 | AT80: 0 | AU80: 0 | AV80: =(AT80&AU80) -> 00 | AW80: =VLOOKUP(AV80,'Tableau coefficient '!$A$3:$B$1004,2,FALSE) -> 0 | AX80: J | AY80: 14 | AZ80: =(AX80&AY80) -> J14 | BA80: =VLOOKUP(AZ80,'Tableau coefficient '!$A$3:$B$1004,2,FALSE) -> 64.5 | BB80: J | BC80: 12 | BD80: =(BB80&BC80) -> J12 | BE80: =(VLOOKUP(BD80,'Tableau coefficient '!$A$3:$B$1004,2,FALSE))*2 -> 135 | BF80: 0 | BG80: 0 | BH80: =(BF80&BG80) -> 00 | BI80: =VLOOKUP(BH80,'Tableau coefficient '!$A$3:$B$1004,2,FALSE) -> 0 | BJ80: 0 | BK80: 0 | BL80: =(BJ80&BK80) -> 00 | BM80: =VLOOKUP(BL80,'Tableau coefficient '!$A$3:$B$1004,2,FALSE) -> 0 | BN80: =SUM(M80,I80,Q80,U80,Y80,AC80,AG80,AO80,AS80,BA80,BE80,BI80,BM80) -> 505.5 | BO80: =RANK(BN80,$BN$4:$BN$446,0) -> 121
A81: CARPENTIER | B81: Eleonore | C81: F | D81: PU 2 | E81: CERCLE DES NAGEURS DE POLYNESIE | F81: 0 | G81: 0 | H81: =(F81&G81) -> 00 | I81: =VLOOKUP(H81,'Tableau coefficient '!$A$3:$B$1004,2,FALSE) -> 0 | J81: 0 | K81: 0 | L81: =(J81&K81) -> 00 | M81: =VLOOKUP(L81,'Tableau coefficient '!$A$3:$B$1004,2,FALSE) -> 0 | N81: 0 | O81: 0 | P81: =(N81&O81) -> 00 | Q81: =VLOOKUP(P81,'Tableau coefficient '!$A$3:$B$1004,2,FALSE) -> 0 | R81: 0 | S81: 0 | T81: =(R81&S81) -> 00 | U81: =VLOOKUP(T81,'Tableau coefficient '!$A$3:$B$1004,2,FALSE) -> 0 | V81: 0 | W81: 0 | X81: =(V81&W81) -> 00 | Y81: =(VLOOKUP(X81,'Tableau coefficient '!$A$3:$B$1004,2,FALSE))*2 -> 0 | Z81: 0 | AA81: 0 | AB81: =(Z81&AA81) -> 00 | AC81: =(VLOOKUP(AB81,'Tableau coefficient '!$A$3:$B$1004,2,FALSE))*2 -> 0 | AD81: 0 | AE81: 0 | AF81: =(AD81&AE81) -> 00 | AG81: =VLOOKUP(AF81,'Tableau coefficient '!$A$3:$B$1004,2,FALSE) -> 0 | AH81: 0 | AI81: 0 | AJ81: =(AH81&AI81) -> 00 | AK81: =VLOOKUP(AJ81,'Tableau coefficient '!$A$3:$B$1004,2,FALSE) -> 0 | AL81: 0 | AM81: 0 | AN81: =(AL81&AM81) -> 00 | AO81: =VLOOKUP(AN81,'Tableau coefficient '!$A$3:$B$1004,2,FALSE) -> 0 | AP81: J | AQ81: 5 | AR81: =(AP81&AQ81) -> J5 | AS81: =VLOOKUP(AR81,'Tableau coefficient '!$A$3:$B$1004,2,FALSE) -> 95 | AT81: 0 | AU81: 0 | AV81: =(AT81&AU81) -> 00 | AW81: =VLOOKUP(AV81,'Tableau coefficient '!$A$3:$B$1004,2,FALSE) -> 0 | AX81: 0 | AY81: 0 | AZ81: =(AX81&AY81) -> 00 | BA81: =VLOOKUP(AZ81,'Tableau coefficient '!$A$3:$B$1004,2,FALSE) -> 0 | BB81: 0 | BC81: 0 | BD81: =(BB81&BC81) -> 00 | BE81: =(VLOOKUP(BD81,'Tableau coefficient '!$A$3:$B$1004,2,FALSE))*2 -> 0 | BF81: 0 | BG81: 0 | BH81: =(BF81&BG81) -> 00 | BI81: =VLOOKUP(BH81,'Tableau coefficient '!$A$3:$B$1004,2,FALSE) -> 0 | BJ81: 0 | BK81: 0 | BL81: =(BJ81&BK81) -> 00 | BM81: =VLOOKUP(BL81,'Tableau coefficient '!$A$3:$B$1004,2,FALSE) -> 0 | BN81: =SUM(M81,I81,Q81,U81,Y81,AC81,AG81,AO81,AS81,BA81,BE81,BI81,BM81) -> 95 | BO81: =RANK(BN81,$BN$4:$BN$446,0) -> 273
A82: SECK MARTEL | B82: Ella | C82: F | D82: PU 1 | E82: CERCLE DES NAGEURS DE POLYNESIE | F82: 0 | G82: 0 | H82: =(F82&G82) -> 00 | I82: =VLOOKUP(H82,'Tableau coefficient '!$A$3:$B$1004,2,FALSE) -> 0 | J82: 0 | K82: 0 | L82: =(J82&K82) -> 00 | M82: =VLOOKUP(L82,'Tableau coefficient '!$A$3:$B$1004,2,FALSE) -> 0 | N82: 0 | O82: 0 | P82: =(N82&O82) -> 00 | Q82: =VLOOKUP(P82,'Tableau coefficient '!$A$3:$B$1004,2,FALSE) -> 0 | R82: 0 | S82: 0 | T82: =(R82&S82) -> 00 | U82: =VLOOKUP(T82,'Tableau coefficient '!$A$3:$B$1004,2,FALSE) -> 0 | V82: 0 | W82: 0 | X82: =(V82&W82) -> 00 | Y82: =(VLOOKUP(X82,'Tableau coefficient '!$A$3:$B$1004,2,FALSE))*2 -> 0 | Z82: 0 | AA82: 0 | AB82: =(Z82&AA82) -> 00 | AC82: =(VLOOKUP(AB82,'Tableau coefficient '!$A$3:$B$1004,2,FALSE))*2 -> 0 | AD82: 0 | AE82: 0 | AF82: =(AD82&AE82) -> 00 | AG82: =VLOOKUP(AF82,'Tableau coefficient '!$A$3:$B$1004,2,FALSE) -> 0 | AH82: 0 | AI82: 0 | AJ82: =(AH82&AI82) -> 00 | AK82: =VLOOKUP(AJ82,'Tableau coefficient '!$A$3:$B$1004,2,FALSE) -> 0 | AL82: 0 | AM82: 0 | AN82: =(AL82&AM82) -> 00 | AO82: =VLOOKUP(AN82,'Tableau coefficient '!$A$3:$B$1004,2,FALSE) -> 0 | AP82: 0 | AQ82: 0 | AR82: =(AP82&AQ82) -> 00 | AS82: =VLOOKUP(AR82,'Tableau coefficient '!$A$3:$B$1004,2,FALSE) -> 0 | AT82: 0 | AU82: 0 | AV82: =(AT82&AU82) -> 00 | AW82: =VLOOKUP(AV82,'Tableau coefficient '!$A$3:$B$1004,2,FALSE) -> 0 | AX82: J | AY82: 25 | AZ82: =(AX82&AY82) -> J25 | BA82: =VLOOKUP(AZ82,'Tableau coefficient '!$A$3:$B$1004,2,FALSE) -> 59 | BB82: J | BC82: 25 | BD82: =(BB82&BC82) -> J25 | BE82: =(VLOOKUP(BD82,'Tableau coefficient '!$A$3:$B$1004,2,FALSE))*2 -> 118 | BF82: 0 | BG82: 0 | BH82: =(BF82&BG82) -> 00 | BI82: =VLOOKUP(BH82,'Tableau coefficient '!$A$3:$B$1004,2,FALSE) -> 0 | BJ82: 0 | BK82: 0 | BL82: =(BJ82&BK82) -> 00 | BM82: =VLOOKUP(BL82,'Tableau coefficient '!$A$3:$B$1004,2,FALSE) -> 0 | BN82: =SUM(M82,I82,Q82,U82,Y82,AC82,AG82,AO82,AS82,BA82,BE82,BI82,BM82) -> 177 | BO82: =RANK(BN82,$BN$4:$BN$446,0) -> 243
A83: ARAKINO | B83: Tehiva | C83: M | D83: BE 2 | E83: FEI PI TRIATHLON | F83: 0 | G83: 0 | H83: =(F83&G83) -> 00 | I83: =VLOOKUP(H83,'Tableau coefficient '!$A$3:$B$1004,2,FALSE) -> 0 | J83: 0 | K83: 0 | L83: =(J83&K83) -> 00 | M83: =VLOOKUP(L83,'Tableau coefficient '!$A$3:$B$1004,2,FALSE) -> 0 | N83: 0 | O83: 0 | P83: =(N83&O83) -> 00 | Q83: =VLOOKUP(P83,'Tableau coefficient '!$A$3:$B$1004,2,FALSE) -> 0 | R83: 0 | S83: 0 | T83: =(R83&S83) -> 00 | U83: =VLOOKUP(T83,'Tableau coefficient '!$A$3:$B$1004,2,FALSE) -> 0 | V83: 0 | W83: 0 | X83: =(V83&W83) -> 00 | Y83: =(VLOOKUP(X83,'Tableau coefficient '!$A$3:$B$1004,2,FALSE))*2 -> 0 | Z83: 0 | AA83: 0 | AB83: =(Z83&AA83) -> 00 | AC83: =(VLOOKUP(AB83,'Tableau coefficient '!$A$3:$B$1004,2,FALSE))*2 -> 0 | AD83: 0 | AE83: 0 | AF83: =(AD83&AE83) -> 00 | AG83: =VLOOKUP(AF83,'Tableau coefficient '!$A$3:$B$1004,2,FALSE) -> 0 | AH83: 0 | AI83: 0 | AJ83: =(AH83&AI83) -> 00 | AK83: =VLOOKUP(AJ83,'Tableau coefficient '!$A$3:$B$1004,2,FALSE) -> 0 | AL83: 0 | AM83: 0 | AN83: =(AL83&AM83) -> 00 | AO83: =VLOOKUP(AN83,'Tableau coefficient '!$A$3:$B$1004,2,FALSE) -> 0 | AP83: 0 | AQ83: 0 | AR83: =(AP83&AQ83) -> 00 | AS83: =VLOOKUP(AR83,'Tableau coefficient '!$A$3:$B$1004,2,FALSE) -> 0 | AT83: 0 | AU83: 0 | AV83: =(AT83&AU83) -> 00 | AW83: =VLOOKUP(AV83,'Tableau coefficient '!$A$3:$B$1004,2,FALSE) -> 0 | AX83: 0 | AY83: 0 | AZ83: =(AX83&AY83) -> 00 | BA83: =VLOOKUP(AZ83,'Tableau coefficient '!$A$3:$B$1004,2,FALSE) -> 0 | BB83: 0 | BC83: 0 | BD83: =(BB83&BC83) -> 00 | BE83: =(VLOOKUP(BD83,'Tableau coefficient '!$A$3:$B$1004,2,FALSE))*2 -> 0 | BF83: 0 | BG83: 0 | BH83: =(BF83&BG83) -> 00 | BI83: =VLOOKUP(BH83,'Tableau coefficient '!$A$3:$B$1004,2,FALSE) -> 0 | BJ83: 0 | BK83: 0 | BL83: =(BJ83&BK83) -> 00 | BM83: =VLOOKUP(BL83,'Tableau coefficient '!$A$3:$B$1004,2,FALSE) -> 0 | BN83: =SUM(M83,I83,Q83,U83,Y83,AC83,AG83,AO83,AS83,BA83,BE83,BI83,BM83) -> 0 | BO83: =RANK(BN83,$BN$4:$BN$446,0) -> 303
A84: BOUNGO | B84: Ruben | C84: M | D84: BE 1 | E84: CERCLE DES NAGEURS DE POLYNESIE | F84: J | G84: 103 | H84: =(F84&G84) -> J103 | I84: =VLOOKUP(H84,'Tableau coefficient '!$A$3:$B$1004,2,FALSE) -> 20 | J84: XS | K84: 26 | L84: =(J84&K84) -> XS26 | M84: =VLOOKUP(L84,'Tableau coefficient '!$A$3:$B$1004,2,FALSE) -> 58.5 | N84: XS | O84: 33 | P84: =(N84&O84) -> XS33 | Q84: =VLOOKUP(P84,'Tableau coefficient '!$A$3:$B$1004,2,FALSE) -> 55 | R84: XS | S84: 32 | T84: =(R84&S84) -> XS32 | U84: =VLOOKUP(T84,'Tableau coefficient '!$A$3:$B$1004,2,FALSE) -> 55.5 | V84: XS | W84: 35 | X84: =(V84&W84) -> XS35 | Y84: =(VLOOKUP(X84,'Tableau coefficient '!$A$3:$B$1004,2,FALSE))*2 -> 108 | Z84: XS | AA84: 23 | AB84: =(Z84&AA84) -> XS23 | AC84: =(VLOOKUP(AB84,'Tableau coefficient '!$A$3:$B$1004,2,FALSE))*2 -> 120 | AD84: 0 | AE84: 0 | AF84: =(AD84&AE84) -> 00 | AG84: =VLOOKUP(AF84,'Tableau coefficient '!$A$3:$B$1004,2,FALSE) -> 0 | AH84: 0 | AI84: 0 | AJ84: =(AH84&AI84) -> 00 | AK84: =VLOOKUP(AJ84,'Tableau coefficient '!$A$3:$B$1004,2,FALSE) -> 0 | AL84: 0 | AM84: 0 | AN84: =(AL84&AM84) -> 00 | AO84: =VLOOKUP(AN84,'Tableau coefficient '!$A$3:$B$1004,2,FALSE) -> 0 | AP84: XS | AQ84: 24 | AR84: =(AP84&AQ84) -> XS24 | AS84: =VLOOKUP(AR84,'Tableau coefficient '!$A$3:$B$1004,2,FALSE) -> 59.5 | AT84: 0 | AU84: 0 | AV84: =(AT84&AU84) -> 00 | AW84: =VLOOKUP(AV84,'Tableau coefficient '!$A$3:$B$1004,2,FALSE) -> 0 | AX84: XS | AY84: 34 | AZ84: =(AX84&AY84) -> XS34 | BA84: =VLOOKUP(AZ84,'Tableau coefficient '!$A$3:$B$1004,2,FALSE) -> 54.5 | BB84: XS | BC84: 25 | BD84: =(BB84&BC84) -> XS25 | BE84: =(VLOOKUP(BD84,'Tableau coefficient '!$A$3:$B$1004,2,FALSE))*2 -> 118 | BF84: 0 | BG84: 0 | BH84: =(BF84&BG84) -> 00 | BI84: =VLOOKUP(BH84,'Tableau coefficient '!$A$3:$B$1004,2,FALSE) -> 0 | BJ84: 0 | BK84: 0 | BL84: =(BJ84&BK84) -> 00 | BM84: =VLOOKUP(BL84,'Tableau coefficient '!$A$3:$B$1004,2,FALSE) -> 0 | BN84: =SUM(M84,I84,Q84,U84,Y84,AC84,AG84,AO84,AS84,BA84,BE84,BI84,BM84) -> 649 | BO84: =RANK(BN84,$BN$4:$BN$446,0) -> 86
A85: CANEVET TOUDJI | B85: Titouan | C85: M | D85: BE 2 | E85: KONA TRI TAHITI | F85: XS | G85: 29 | H85: =(F85&G85) -> XS29 | I85: =VLOOKUP(H85,'Tableau coefficient '!$A$3:$B$1004,2,FALSE) -> 57 | J85: XS | K85: 12 | L85: =(J85&K85) -> XS12 | M85: =VLOOKUP(L85,'Tableau coefficient '!$A$3:$B$1004,2,FALSE) -> 67.5 | N85: 0 | O85: 0 | P85: =(N85&O85) -> 00 | Q85: =VLOOKUP(P85,'Tableau coefficient '!$A$3:$B$1004,2,FALSE) -> 0 | R85: 0 | S85: 0 | T85: =(R85&S85) -> 00 | U85: =VLOOKUP(T85,'Tableau coefficient '!$A$3:$B$1004,2,FALSE) -> 0 | V85: XS | W85: 25 | X85: =(V85&W85) -> XS25 | Y85: =(VLOOKUP(X85,'Tableau coefficient '!$A$3:$B$1004,2,FALSE))*2 -> 118 | Z85: 0 | AA85: 0 | AB85: =(Z85&AA85) -> 00 | AC85: =(VLOOKUP(AB85,'Tableau coefficient '!$A$3:$B$1004,2,FALSE))*2 -> 0 | AD85: XS | AE85: 14 | AF85: =(AD85&AE85) -> XS14 | AG85: =VLOOKUP(AF85,'Tableau coefficient '!$A$3:$B$1004,2,FALSE) -> 64.5 | AH85: 0 | AI85: 0 | AJ85: =(AH85&AI85) -> 00 | AK85: =VLOOKUP(AJ85,'Tableau coefficient '!$A$3:$B$1004,2,FALSE) -> 0 | AL85: XS | AM85: 9 | AN85: =(AL85&AM85) -> XS9 | AO85: =VLOOKUP(AN85,'Tableau coefficient '!$A$3:$B$1004,2,FALSE) -> 75 | AP85: 0 | AQ85: 0 | AR85: =(AP85&AQ85) -> 00 | AS85: =VLOOKUP(AR85,'Tableau coefficient '!$A$3:$B$1004,2,FALSE) -> 0 | AT85: 0 | AU85: 0 | AV85: =(AT85&AU85) -> 00 | AW85: =VLOOKUP(AV85,'Tableau coefficient '!$A$3:$B$1004,2,FALSE) -> 0 | AX85: 0 | AY85: 0 | AZ85: =(AX85&AY85) -> 00 | BA85: =VLOOKUP(AZ85,'Tableau coefficient '!$A$3:$B$1004,2,FALSE) -> 0 | BB85: XS | BC85: 16 | BD85: =(BB85&BC85) -> XS16 | BE85: =(VLOOKUP(BD85,'Tableau coefficient '!$A$3:$B$1004,2,FALSE))*2 -> 127 | BF85: 0 | BG85: 0 | BH85: =(BF85&BG85) -> 00 | BI85: =VLOOKUP(BH85,'Tableau coefficient '!$A$3:$B$1004,2,FALSE) -> 0 | BJ85: 0 | BK85: 0 | BL85: =(BJ85&BK85) -> 00 | BM85: =VLOOKUP(BL85,'Tableau coefficient '!$A$3:$B$1004,2,FALSE) -> 0 | BN85: =SUM(M85,I85,Q85,U85,Y85,AC85,AG85,AO85,AS85,BA85,BE85,BI85,BM85) -> 509 | BO85: =RANK(BN85,$BN$4:$BN$446,0) -> 118
A86: CHASTANG | B86: Gaulthier | C86: M | D86: BE 2 | E86: FEI PI TRIATHLON | F86: XS | G86: 12 | H86: =(F86&G86) -> XS12 | I86: =VLOOKUP(H86,'Tableau coefficient '!$A$3:$B$1004,2,FALSE) -> 67.5 | J86: XS | K86: 5 | L86: =(J86&K86) -> XS5 | M86: =VLOOKUP(L86,'Tableau coefficient '!$A$3:$B$1004,2,FALSE) -> 95 | N86: 0 | O86: 0 | P86: =(N86&O86) -> 00 | Q86: =VLOOKUP(P86,'Tableau coefficient '!$A$3:$B$1004,2,FALSE) -> 0 | R86: XS | S86: 9 | T86: =(R86&S86) -> XS9 | U86: =VLOOKUP(T86,'Tableau coefficient '!$A$3:$B$1004,2,FALSE) -> 75 | V86: XS | W86: 5 | X86: =(V86&W86) -> XS5 | Y86: =(VLOOKUP(X86,'Tableau coefficient '!$A$3:$B$1004,2,FALSE))*2 -> 190 | Z86: XS | AA86: 3 | AB86: =(Z86&AA86) -> XS3 | AC86: =(VLOOKUP(AB86,'Tableau coefficient '!$A$3:$B$1004,2,FALSE))*2 -> 220 | AD86: XS | AE86: 3 | AF86: =(AD86&AE86) -> XS3 | AG86: =VLOOKUP(AF86,'Tableau coefficient '!$A$3:$B$1004,2,FALSE) -> 110 | AH86: 0 | AI86: 0 | AJ86: =(AH86&AI86) -> 00 | AK86: =VLOOKUP(AJ86,'Tableau coefficient '!$A$3:$B$1004,2,FALSE) -> 0 | AL86: XS | AM86: 5 | AN86: =(AL86&AM86) -> XS5 | AO86: =VLOOKUP(AN86,'Tableau coefficient '!$A$3:$B$1004,2,FALSE) -> 95 | AP86: XS | AQ86: 8 | AR86: =(AP86&AQ86) -> XS8 | AS86: =VLOOKUP(AR86,'Tableau coefficient '!$A$3:$B$1004,2,FALSE) -> 80 | AT86: 0 | AU86: 0 | AV86: =(AT86&AU86) -> 00 | AW86: =VLOOKUP(AV86,'Tableau coefficient '!$A$3:$B$1004,2,FALSE) -> 0 | AX86: XS | AY86: 2 | AZ86: =(AX86&AY86) -> XS2 | BA86: =VLOOKUP(AZ86,'Tableau coefficient '!$A$3:$B$1004,2,FALSE) -> 125 | BB86: XS | BC86: 2 | BD86: =(BB86&BC86) -> XS2 | BE86: =(VLOOKUP(BD86,'Tableau coefficient '!$A$3:$B$1004,2,FALSE))*2 -> 250 | BF86: 0 | BG86: 0 | BH86: =(BF86&BG86) -> 00 | BI86: =VLOOKUP(BH86,'Tableau coefficient '!$A$3:$B$1004,2,FALSE) -> 0 | BJ86: 0 | BK86: 0 | BL86: =(BJ86&BK86) -> 00 | BM86: =VLOOKUP(BL86,'Tableau coefficient '!$A$3:$B$1004,2,FALSE) -> 0 | BN86: =SUM(M86,I86,Q86,U86,Y86,AC86,AG86,AO86,AS86,BA86,BE86,BI86,BM86) -> 1307.5 | BO86: =RANK(BN86,$BN$4:$BN$446,0) -> 16
A87: DELVALLET | B87: Tamatea | C87: M | D87: BE 2 | E87: FEI PI TRIATHLON | F87: 0 | G87: 0 | H87: =(F87&G87) -> 00 | I87: =VLOOKUP(H87,'Tableau coefficient '!$A$3:$B$1004,2,FALSE) -> 0 | J87: 0 | K87: 0 | L87: =(J87&K87) -> 00 | M87: =VLOOKUP(L87,'Tableau coefficient '!$A$3:$B$1004,2,FALSE) -> 0 | N87: 0 | O87: 0 | P87: =(N87&O87) -> 00 | Q87: =VLOOKUP(P87,'Tableau coefficient '!$A$3:$B$1004,2,FALSE) -> 0 | R87: 0 | S87: 0 | T87: =(R87&S87) -> 00 | U87: =VLOOKUP(T87,'Tableau coefficient '!$A$3:$B$1004,2,FALSE) -> 0 | V87: 0 | W87: 0 | X87: =(V87&W87) -> 00 | Y87: =(VLOOKUP(X87,'Tableau coefficient '!$A$3:$B$1004,2,FALSE))*2 -> 0 | Z87: 0 | AA87: 0 | AB87: =(Z87&AA87) -> 00 | AC87: =(VLOOKUP(AB87,'Tableau coefficient '!$A$3:$B$1004,2,FALSE))*2 -> 0 | AD87: 0 | AE87: 0 | AF87: =(AD87&AE87) -> 00 | AG87: =VLOOKUP(AF87,'Tableau coefficient '!$A$3:$B$1004,2,FALSE) -> 0 | AH87: 0 | AI87: 0 | AJ87: =(AH87&AI87) -> 00 | AK87: =VLOOKUP(AJ87,'Tableau coefficient '!$A$3:$B$1004,2,FALSE) -> 0 | AL87: 0 | AM87: 0 | AN87: =(AL87&AM87) -> 00 | AO87: =VLOOKUP(AN87,'Tableau coefficient '!$A$3:$B$1004,2,FALSE) -> 0 | AP87: 0 | AQ87: 0 | AR87: =(AP87&AQ87) -> 00 | AS87: =VLOOKUP(AR87,'Tableau coefficient '!$A$3:$B$1004,2,FALSE) -> 0 | AT87: 0 | AU87: 0 | AV87: =(AT87&AU87) -> 00 | AW87: =VLOOKUP(AV87,'Tableau coefficient '!$A$3:$B$1004,2,FALSE) -> 0 | AX87: 0 | AY87: 0 | AZ87: =(AX87&AY87) -> 00 | BA87: =VLOOKUP(AZ87,'Tableau coefficient '!$A$3:$B$1004,2,FALSE) -> 0 | BB87: 0 | BC87: 0 | BD87: =(BB87&BC87) -> 00 | BE87: =(VLOOKUP(BD87,'Tableau coefficient '!$A$3:$B$1004,2,FALSE))*2 -> 0 | BF87: 0 | BG87: 0 | BH87: =(BF87&BG87) -> 00 | BI87: =VLOOKUP(BH87,'Tableau coefficient '!$A$3:$B$1004,2,FALSE) -> 0 | BJ87: 0 | BK87: 0 | BL87: =(BJ87&BK87) -> 00 | BM87: =VLOOKUP(BL87,'Tableau coefficient '!$A$3:$B$1004,2,FALSE) -> 0 | BN87: =SUM(M87,I87,Q87,U87,Y87,AC87,AG87,AO87,AS87,BA87,BE87,BI87,BM87) -> 0 | BO87: =RANK(BN87,$BN$4:$BN$446,0) -> 303
A88: FERRIEUX | B88: ACHILLE | C88: M | D88: BE 2 | E88: KONA TRI TAHITI | F88: XS | G88: 25 | H88: =(F88&G88) -> XS25 | I88: =VLOOKUP(H88,'Tableau coefficient '!$A$3:$B$1004,2,FALSE) -> 59 | J88: XS | K88: 23 | L88: =(J88&K88) -> XS23 | M88: =VLOOKUP(L88,'Tableau coefficient '!$A$3:$B$1004,2,FALSE) -> 60 | N88: 0 | O88: 0 | P88: =(N88&O88) -> 00 | Q88: =VLOOKUP(P88,'Tableau coefficient '!$A$3:$B$1004,2,FALSE) -> 0 | R88: XS | S88: 27 | T88: =(R88&S88) -> XS27 | U88: =VLOOKUP(T88,'Tableau coefficient '!$A$3:$B$1004,2,FALSE) -> 58 | V88: XS | W88: 42 | X88: =(V88&W88) -> XS42 | Y88: =(VLOOKUP(X88,'Tableau coefficient '!$A$3:$B$1004,2,FALSE))*2 -> 101 | Z88: XS | AA88: 22 | AB88: =(Z88&AA88) -> XS22 | AC88: =(VLOOKUP(AB88,'Tableau coefficient '!$A$3:$B$1004,2,FALSE))*2 -> 121 | AD88: XS | AE88: 23 | AF88: =(AD88&AE88) -> XS23 | AG88: =VLOOKUP(AF88,'Tableau coefficient '!$A$3:$B$1004,2,FALSE) -> 60 | AH88: 0 | AI88: 0 | AJ88: =(AH88&AI88) -> 00 | AK88: =VLOOKUP(AJ88,'Tableau coefficient '!$A$3:$B$1004,2,FALSE) -> 0 | AL88: 0 | AM88: 0 | AN88: =(AL88&AM88) -> 00 | AO88: =VLOOKUP(AN88,'Tableau coefficient '!$A$3:$B$1004,2,FALSE) -> 0 | AP88: XS | AQ88: 17 | AR88: =(AP88&AQ88) -> XS17 | AS88: =VLOOKUP(AR88,'Tableau coefficient '!$A$3:$B$1004,2,FALSE) -> 63 | AT88: 0 | AU88: 0 | AV88: =(AT88&AU88) -> 00 | AW88: =VLOOKUP(AV88,'Tableau coefficient '!$A$3:$B$1004,2,FALSE) -> 0 | AX88: XS | AY88: 35 | AZ88: =(AX88&AY88) -> XS35 | BA88: =VLOOKUP(AZ88,'Tableau coefficient '!$A$3:$B$1004,2,FALSE) -> 54 | BB88: XS | BC88: 35 | BD88: =(BB88&BC88) -> XS35 | BE88: =(VLOOKUP(BD88,'Tableau coefficient '!$A$3:$B$1004,2,FALSE))*2 -> 108 | BF88: 0 | BG88: 0 | BH88: =(BF88&BG88) -> 00 | BI88: =VLOOKUP(BH88,'Tableau coefficient '!$A$3:$B$1004,2,FALSE) -> 0 | BJ88: 0 | BK88: 0 | BL88: =(BJ88&BK88) -> 00 | BM88: =VLOOKUP(BL88,'Tableau coefficient '!$A$3:$B$1004,2,FALSE) -> 0 | BN88: =SUM(M88,I88,Q88,U88,Y88,AC88,AG88,AO88,AS88,BA88,BE88,BI88,BM88) -> 684 | BO88: =RANK(BN88,$BN$4:$BN$446,0) -> 78
A89: GLAPSKI | B89: Emmanuel | C89: M | D89: BE 1 | E89: AS TAMARII PUNARUU TRIATHLON | F89: XS | G89: 43 | H89: =(F89&G89) -> XS43 | I89: =VLOOKUP(H89,'Tableau coefficient '!$A$3:$B$1004,2,FALSE) -> 50 | J89: 0 | K89: 0 | L89: =(J89&K89) -> 00 | M89: =VLOOKUP(L89,'Tableau coefficient '!$A$3:$B$1004,2,FALSE) -> 0 | N89: XS | O89: 40 | P89: =(N89&O89) -> XS40 | Q89: =VLOOKUP(P89,'Tableau coefficient '!$A$3:$B$1004,2,FALSE) -> 51.5 | R89: 0 | S89: 0 | T89: =(R89&S89) -> 00 | U89: =VLOOKUP(T89,'Tableau coefficient '!$A$3:$B$1004,2,FALSE) -> 0 | V89: XS | W89: 60 | X89: =(V89&W89) -> XS60 | Y89: =(VLOOKUP(X89,'Tableau coefficient '!$A$3:$B$1004,2,FALSE))*2 -> 83 | Z89: XS | AA89: 52 | AB89: =(Z89&AA89) -> XS52 | AC89: =(VLOOKUP(AB89,'Tableau coefficient '!$A$3:$B$1004,2,FALSE))*2 -> 91 | AD89: XS | AE89: 55 | AF89: =(AD89&AE89) -> XS55 | AG89: =VLOOKUP(AF89,'Tableau coefficient '!$A$3:$B$1004,2,FALSE) -> 44 | AH89: 0 | AI89: 0 | AJ89: =(AH89&AI89) -> 00 | AK89: =VLOOKUP(AJ89,'Tableau coefficient '!$A$3:$B$1004,2,FALSE) -> 0 | AL89: XS | AM89: 96 | AN89: =(AL89&AM89) -> XS96 | AO89: =VLOOKUP(AN89,'Tableau coefficient '!$A$3:$B$1004,2,FALSE) -> 23.5 | AP89: 0 | AQ89: 0 | AR89: =(AP89&AQ89) -> 00 | AS89: =VLOOKUP(AR89,'Tableau coefficient '!$A$3:$B$1004,2,FALSE) -> 0 | AT89: 0 | AU89: 0 | AV89: =(AT89&AU89) -> 00 | AW89: =VLOOKUP(AV89,'Tableau coefficient '!$A$3:$B$1004,2,FALSE) -> 0 | AX89: 0 | AY89: 0 | AZ89: =(AX89&AY89) -> 00 | BA89: =VLOOKUP(AZ89,'Tableau coefficient '!$A$3:$B$1004,2,FALSE) -> 0 | BB89: 0 | BC89: 0 | BD89: =(BB89&BC89) -> 00 | BE89: =(VLOOKUP(BD89,'Tableau coefficient '!$A$3:$B$1004,2,FALSE))*2 -> 0 | BF89: 0 | BG89: 0 | BH89: =(BF89&BG89) -> 00 | BI89: =VLOOKUP(BH89,'Tableau coefficient '!$A$3:$B$1004,2,FALSE) -> 0 | BJ89: 0 | BK89: 0 | BL89: =(BJ89&BK89) -> 00 | BM89: =VLOOKUP(BL89,'Tableau coefficient '!$A$3:$B$1004,2,FALSE) -> 0 | BN89: =SUM(M89,I89,Q89,U89,Y89,AC89,AG89,AO89,AS89,BA89,BE89,BI89,BM89) -> 343 | BO89: =RANK(BN89,$BN$4:$BN$446,0) -> 168
A90: HUGONY | B90: Gregory | C90: M | D90: BE 1 | E90: CERCLE DES NAGEURS DE POLYNESIE | F90: J | G90: 103 | H90: =(F90&G90) -> J103 | I90: =VLOOKUP(H90,'Tableau coefficient '!$A$3:$B$1004,2,FALSE) -> 20 | J90: XS | K90: 20 | L90: =(J90&K90) -> XS20 | M90: =VLOOKUP(L90,'Tableau coefficient '!$A$3:$B$1004,2,FALSE) -> 61.5 | N90: XS | O90: 26 | P90: =(N90&O90) -> XS26 | Q90: =VLOOKUP(P90,'Tableau coefficient '!$A$3:$B$1004,2,FALSE) -> 58.5 | R90: XS | S90: 40 | T90: =(R90&S90) -> XS40 | U90: =VLOOKUP(T90,'Tableau coefficient '!$A$3:$B$1004,2,FALSE) -> 51.5 | V90: XS | W90: 36 | X90: =(V90&W90) -> XS36 | Y90: =(VLOOKUP(X90,'Tableau coefficient '!$A$3:$B$1004,2,FALSE))*2 -> 107 | Z90: XS | AA90: 16 | AB90: =(Z90&AA90) -> XS16 | AC90: =(VLOOKUP(AB90,'Tableau coefficient '!$A$3:$B$1004,2,FALSE))*2 -> 127 | AD90: XS | AE90: 29 | AF90: =(AD90&AE90) -> XS29 | AG90: =VLOOKUP(AF90,'Tableau coefficient '!$A$3:$B$1004,2,FALSE) -> 57 | AH90: 0 | AI90: 0 | AJ90: =(AH90&AI90) -> 00 | AK90: =VLOOKUP(AJ90,'Tableau coefficient '!$A$3:$B$1004,2,FALSE) -> 0 | AL90: 0 | AM90: 0 | AN90: =(AL90&AM90) -> 00 | AO90: =VLOOKUP(AN90,'Tableau coefficient '!$A$3:$B$1004,2,FALSE) -> 0 | AP90: XS | AQ90: 31 | AR90: =(AP90&AQ90) -> XS31 | AS90: =VLOOKUP(AR90,'Tableau coefficient '!$A$3:$B$1004,2,FALSE) -> 56 | AT90: 0 | AU90: 0 | AV90: =(AT90&AU90) -> 00 | AW90: =VLOOKUP(AV90,'Tableau coefficient '!$A$3:$B$1004,2,FALSE) -> 0 | AX90: XS | AY90: 20 | AZ90: =(AX90&AY90) -> XS20 | BA90: =VLOOKUP(AZ90,'Tableau coefficient '!$A$3:$B$1004,2,FALSE) -> 61.5 | BB90: 0 | BC90: 0 | BD90: =(BB90&BC90) -> 00 | BE90: =(VLOOKUP(BD90,'Tableau coefficient '!$A$3:$B$1004,2,FALSE))*2 -> 0 | BF90: 0 | BG90: 0 | BH90: =(BF90&BG90) -> 00 | BI90: =VLOOKUP(BH90,'Tableau coefficient '!$A$3:$B$1004,2,FALSE) -> 0 | BJ90: 0 | BK90: 0 | BL90: =(BJ90&BK90) -> 00 | BM90: =VLOOKUP(BL90,'Tableau coefficient '!$A$3:$B$1004,2,FALSE) -> 0 | BN90: =SUM(M90,I90,Q90,U90,Y90,AC90,AG90,AO90,AS90,BA90,BE90,BI90,BM90) -> 600 | BO90: =RANK(BN90,$BN$4:$BN$446,0) -> 101
A91: RIVAUD | B91: Volodia | C91: M | D91: BE 1 | E91: KONA TRI TAHITI | F91: 0 | G91: 0 | H91: =(F91&G91) -> 00 | I91: =VLOOKUP(H91,'Tableau coefficient '!$A$3:$B$1004,2,FALSE) -> 0 | J91: 0 | K91: 0 | L91: =(J91&K91) -> 00 | M91: =VLOOKUP(L91,'Tableau coefficient '!$A$3:$B$1004,2,FALSE) -> 0 | N91: XS | O91: 31 | P91: =(N91&O91) -> XS31 | Q91: =VLOOKUP(P91,'Tableau coefficient '!$A$3:$B$1004,2,FALSE) -> 56 | R91: XS | S91: 50 | T91: =(R91&S91) -> XS50 | U91: =VLOOKUP(T91,'Tableau coefficient '!$A$3:$B$1004,2,FALSE) -> 46.5 | V91: XS | W91: 46 | X91: =(V91&W91) -> XS46 | Y91: =(VLOOKUP(X91,'Tableau coefficient '!$A$3:$B$1004,2,FALSE))*2 -> 97 | Z91: 0 | AA91: 0 | AB91: =(Z91&AA91) -> 00 | AC91: =(VLOOKUP(AB91,'Tableau coefficient '!$A$3:$B$1004,2,FALSE))*2 -> 0 | AD91: 0 | AE91: 0 | AF91: =(AD91&AE91) -> 00 | AG91: =VLOOKUP(AF91,'Tableau coefficient '!$A$3:$B$1004,2,FALSE) -> 0 | AH91: 0 | AI91: 0 | AJ91: =(AH91&AI91) -> 00 | AK91: =VLOOKUP(AJ91,'Tableau coefficient '!$A$3:$B$1004,2,FALSE) -> 0 | AL91: 0 | AM91: 0 | AN91: =(AL91&AM91) -> 00 | AO91: =VLOOKUP(AN91,'Tableau coefficient '!$A$3:$B$1004,2,FALSE) -> 0 | AP91: 0 | AQ91: 0 | AR91: =(AP91&AQ91) -> 00 | AS91: =VLOOKUP(AR91,'Tableau coefficient '!$A$3:$B$1004,2,FALSE) -> 0 | AT91: 0 | AU91: 0 | AV91: =(AT91&AU91) -> 00 | AW91: =VLOOKUP(AV91,'Tableau coefficient '!$A$3:$B$1004,2,FALSE) -> 0 | AX91: 0 | AY91: 0 | AZ91: =(AX91&AY91) -> 00 | BA91: =VLOOKUP(AZ91,'Tableau coefficient '!$A$3:$B$1004,2,FALSE) -> 0 | BB91: 0 | BC91: 0 | BD91: =(BB91&BC91) -> 00 | BE91: =(VLOOKUP(BD91,'Tableau coefficient '!$A$3:$B$1004,2,FALSE))*2 -> 0 | BF91: 0 | BG91: 0 | BH91: =(BF91&BG91) -> 00 | BI91: =VLOOKUP(BH91,'Tableau coefficient '!$A$3:$B$1004,2,FALSE) -> 0 | BJ91: 0 | BK91: 0 | BL91: =(BJ91&BK91) -> 00 | BM91: =VLOOKUP(BL91,'Tableau coefficient '!$A$3:$B$1004,2,FALSE) -> 0 | BN91: =SUM(M91,I91,Q91,U91,Y91,AC91,AG91,AO91,AS91,BA91,BE91,BI91,BM91) -> 199.5 | BO91: =RANK(BN91,$BN$4:$BN$446,0) -> 226
A92: ROTTIER | B92: Rama | C92: M | D92: BE 1 | E92: KONA TRI TAHITI | F92: XS | G92: 14 | H92: =(F92&G92) -> XS14 | I92: =VLOOKUP(H92,'Tableau coefficient '!$A$3:$B$1004,2,FALSE) -> 64.5 | J92: XS | K92: 8 | L92: =(J92&K92) -> XS8 | M92: =VLOOKUP(L92,'Tableau coefficient '!$A$3:$B$1004,2,FALSE) -> 80 | N92: XS | O92: 15 | P92: =(N92&O92) -> XS15 | Q92: =VLOOKUP(P92,'Tableau coefficient '!$A$3:$B$1004,2,FALSE) -> 64 | R92: XS | S92: 18 | T92: =(R92&S92) -> XS18 | U92: =VLOOKUP(T92,'Tableau coefficient '!$A$3:$B$1004,2,FALSE) -> 62.5 | V92: XS | W92: 24 | X92: =(V92&W92) -> XS24 | Y92: =(VLOOKUP(X92,'Tableau coefficient '!$A$3:$B$1004,2,FALSE))*2 -> 119 | Z92: 0 | AA92: 0 | AB92: =(Z92&AA92) -> 00 | AC92: =(VLOOKUP(AB92,'Tableau coefficient '!$A$3:$B$1004,2,FALSE))*2 -> 0 | AD92: XS | AE92: 11 | AF92: =(AD92&AE92) -> XS11 | AG92: =VLOOKUP(AF92,'Tableau coefficient '!$A$3:$B$1004,2,FALSE) -> 70 | AH92: 0 | AI92: 0 | AJ92: =(AH92&AI92) -> 00 | AK92: =VLOOKUP(AJ92,'Tableau coefficient '!$A$3:$B$1004,2,FALSE) -> 0 | AL92: 0 | AM92: 0 | AN92: =(AL92&AM92) -> 00 | AO92: =VLOOKUP(AN92,'Tableau coefficient '!$A$3:$B$1004,2,FALSE) -> 0 | AP92: 0 | AQ92: 0 | AR92: =(AP92&AQ92) -> 00 | AS92: =VLOOKUP(AR92,'Tableau coefficient '!$A$3:$B$1004,2,FALSE) -> 0 | AT92: 0 | AU92: 0 | AV92: =(AT92&AU92) -> 00 | AW92: =VLOOKUP(AV92,'Tableau coefficient '!$A$3:$B$1004,2,FALSE) -> 0 | AX92: XS | AY92: 21 | AZ92: =(AX92&AY92) -> XS21 | BA92: =VLOOKUP(AZ92,'Tableau coefficient '!$A$3:$B$1004,2,FALSE) -> 61 | BB92: XS | BC92: 9 | BD92: =(BB92&BC92) -> XS9 | BE92: =(VLOOKUP(BD92,'Tableau coefficient '!$A$3:$B$1004,2,FALSE))*2 -> 150 | BF92: 0 | BG92: 0 | BH92: =(BF92&BG92) -> 00 | BI92: =VLOOKUP(BH92,'Tableau coefficient '!$A$3:$B$1004,2,FALSE) -> 0 | BJ92: 0 | BK92: 0 | BL92: =(BJ92&BK92) -> 00 | BM92: =VLOOKUP(BL92,'Tableau coefficient '!$A$3:$B$1004,2,FALSE) -> 0 | BN92: =SUM(M92,I92,Q92,U92,Y92,AC92,AG92,AO92,AS92,BA92,BE92,BI92,BM92) -> 671 | BO92: =RANK(BN92,$BN$4:$BN$446,0) -> 81
A93: TANETOA | B93: Toanui | C93: M | D93: BE 2 | E93: KONA TRI TAHITI | F93: 0 | G93: 0 | H93: =(F93&G93) -> 00 | I93: =VLOOKUP(H93,'Tableau coefficient '!$A$3:$B$1004,2,FALSE) -> 0 | J93: XS | K93: 2 | L93: =(J93&K93) -> XS2 | M93: =VLOOKUP(L93,'Tableau coefficient '!$A$3:$B$1004,2,FALSE) -> 125 | N93: XS | O93: 4 | P93: =(N93&O93) -> XS4 | Q93: =VLOOKUP(P93,'Tableau coefficient '!$A$3:$B$1004,2,FALSE) -> 100 | R93: XS | S93: 3 | T93: =(R93&S93) -> XS3 | U93: =VLOOKUP(T93,'Tableau coefficient '!$A$3:$B$1004,2,FALSE) -> 110 | V93: XS | W93: 4 | X93: =(V93&W93) -> XS4 | Y93: =(VLOOKUP(X93,'Tableau coefficient '!$A$3:$B$1004,2,FALSE))*2 -> 200 | Z93: XS | AA93: 2 | AB93: =(Z93&AA93) -> XS2 | AC93: =(VLOOKUP(AB93,'Tableau coefficient '!$A$3:$B$1004,2,FALSE))*2 -> 250 | AD93: XS | AE93: 2 | AF93: =(AD93&AE93) -> XS2 | AG93: =VLOOKUP(AF93,'Tableau coefficient '!$A$3:$B$1004,2,FALSE) -> 125 | AH93: 0 | AI93: 0 | AJ93: =(AH93&AI93) -> 00 | AK93: =VLOOKUP(AJ93,'Tableau coefficient '!$A$3:$B$1004,2,FALSE) -> 0 | AL93: XS | AM93: 3 | AN93: =(AL93&AM93) -> XS3 | AO93: =VLOOKUP(AN93,'Tableau coefficient '!$A$3:$B$1004,2,FALSE) -> 110 | AP93: XS | AQ93: 3 | AR93: =(AP93&AQ93) -> XS3 | AS93: =VLOOKUP(AR93,'Tableau coefficient '!$A$3:$B$1004,2,FALSE) -> 110 | AT93: 0 | AU93: 0 | AV93: =(AT93&AU93) -> 00 | AW93: =VLOOKUP(AV93,'Tableau coefficient '!$A$3:$B$1004,2,FALSE) -> 0 | AX93: XS | AY93: 4 | AZ93: =(AX93&AY93) -> XS4 | BA93: =VLOOKUP(AZ93,'Tableau coefficient '!$A$3:$B$1004,2,FALSE) -> 100 | BB93: XS | BC93: 3 | BD93: =(BB93&BC93) -> XS3 | BE93: =(VLOOKUP(BD93,'Tableau coefficient '!$A$3:$B$1004,2,FALSE))*2 -> 220 | BF93: 0 | BG93: 0 | BH93: =(BF93&BG93) -> 00 | BI93: =VLOOKUP(BH93,'Tableau coefficient '!$A$3:$B$1004,2,FALSE) -> 0 | BJ93: 0 | BK93: 0 | BL93: =(BJ93&BK93) -> 00 | BM93: =VLOOKUP(BL93,'Tableau coefficient '!$A$3:$B$1004,2,FALSE) -> 0 | BN93: =SUM(M93,I93,Q93,U93,Y93,AC93,AG93,AO93,AS93,BA93,BE93,BI93,BM93) -> 1450 | BO93: =RANK(BN93,$BN$4:$BN$446,0) -> 12
A94: VINCENTI | B94: Manea | C94: M | D94: BE 1 | E94: AS TAMARII PUNARUU TRIATHLON | F94: XS | G94: 13 | H94: =(F94&G94) -> XS13 | I94: =VLOOKUP(H94,'Tableau coefficient '!$A$3:$B$1004,2,FALSE) -> 65 | J94: XS | K94: 18 | L94: =(J94&K94) -> XS18 | M94: =VLOOKUP(L94,'Tableau coefficient '!$A$3:$B$1004,2,FALSE) -> 62.5 | N94: XS | O94: 19 | P94: =(N94&O94) -> XS19 | Q94: =VLOOKUP(P94,'Tableau coefficient '!$A$3:$B$1004,2,FALSE) -> 62 | R94: XS | S94: 15 | T94: =(R94&S94) -> XS15 | U94: =VLOOKUP(T94,'Tableau coefficient '!$A$3:$B$1004,2,FALSE) -> 64 | V94: XS | W94: 16 | X94: =(V94&W94) -> XS16 | Y94: =(VLOOKUP(X94,'Tableau coefficient '!$A$3:$B$1004,2,FALSE))*2 -> 127 | Z94: XS | AA94: 9 | AB94: =(Z94&AA94) -> XS9 | AC94: =(VLOOKUP(AB94,'Tableau coefficient '!$A$3:$B$1004,2,FALSE))*2 -> 150 | AD94: XS | AE94: 13 | AF94: =(AD94&AE94) -> XS13 | AG94: =VLOOKUP(AF94,'Tableau coefficient '!$A$3:$B$1004,2,FALSE) -> 65 | AH94: 0 | AI94: 0 | AJ94: =(AH94&AI94) -> 00 | AK94: =VLOOKUP(AJ94,'Tableau coefficient '!$A$3:$B$1004,2,FALSE) -> 0 | AL94: XS | AM94: 13 | AN94: =(AL94&AM94) -> XS13 | AO94: =VLOOKUP(AN94,'Tableau coefficient '!$A$3:$B$1004,2,FALSE) -> 65 | AP94: XS | AQ94: 15 | AR94: =(AP94&AQ94) -> XS15 | AS94: =VLOOKUP(AR94,'Tableau coefficient '!$A$3:$B$1004,2,FALSE) -> 64 | AT94: 0 | AU94: 0 | AV94: =(AT94&AU94) -> 00 | AW94: =VLOOKUP(AV94,'Tableau coefficient '!$A$3:$B$1004,2,FALSE) -> 0 | AX94: XS | AY94: 6 | AZ94: =(AX94&AY94) -> XS6 | BA94: =VLOOKUP(AZ94,'Tableau coefficient '!$A$3:$B$1004,2,FALSE) -> 90 | BB94: XS | BC94: 7 | BD94: =(BB94&BC94) -> XS7 | BE94: =(VLOOKUP(BD94,'Tableau coefficient '!$A$3:$B$1004,2,FALSE))*2 -> 170 | BF94: 0 | BG94: 0 | BH94: =(BF94&BG94) -> 00 | BI94: =VLOOKUP(BH94,'Tableau coefficient '!$A$3:$B$1004,2,FALSE) -> 0 | BJ94: 0 | BK94: 0 | BL94: =(BJ94&BK94) -> 00 | BM94: =VLOOKUP(BL94,'Tableau coefficient '!$A$3:$B$1004,2,FALSE) -> 0 | BN94: =SUM(M94,I94,Q94,U94,Y94,AC94,AG94,AO94,AS94,BA94,BE94,BI94,BM94) -> 984.5 | BO94: =RANK(BN94,$BN$4:$BN$446,0) -> 39
A95: ZIJP | B95: Natimeo | C95: M | D95: BE 1 | E95: KONA TRI TAHITI | F95: XS | G95: 10 | H95: =(F95&G95) -> XS10 | I95: =VLOOKUP(H95,'Tableau coefficient '!$A$3:$B$1004,2,FALSE) -> 72.5 | J95: XS | K95: 6 | L95: =(J95&K95) -> XS6 | M95: =VLOOKUP(L95,'Tableau coefficient '!$A$3:$B$1004,2,FALSE) -> 90 | N95: XS | O95: 10 | P95: =(N95&O95) -> XS10 | Q95: =VLOOKUP(P95,'Tableau coefficient '!$A$3:$B$1004,2,FALSE) -> 72.5 | R95: XS | S95: 23 | T95: =(R95&S95) -> XS23 | U95: =VLOOKUP(T95,'Tableau coefficient '!$A$3:$B$1004,2,FALSE) -> 60 | V95: XS | W95: 18 | X95: =(V95&W95) -> XS18 | Y95: =(VLOOKUP(X95,'Tableau coefficient '!$A$3:$B$1004,2,FALSE))*2 -> 125 | Z95: XS | AA95: 12 | AB95: =(Z95&AA95) -> XS12 | AC95: =(VLOOKUP(AB95,'Tableau coefficient '!$A$3:$B$1004,2,FALSE))*2 -> 135 | AD95: XS | AE95: 31 | AF95: =(AD95&AE95) -> XS31 | AG95: =VLOOKUP(AF95,'Tableau coefficient '!$A$3:$B$1004,2,FALSE) -> 56 | AH95: 0 | AI95: 0 | AJ95: =(AH95&AI95) -> 00 | AK95: =VLOOKUP(AJ95,'Tableau coefficient '!$A$3:$B$1004,2,FALSE) -> 0 | AL95: XS | AM95: 14 | AN95: =(AL95&AM95) -> XS14 | AO95: =VLOOKUP(AN95,'Tableau coefficient '!$A$3:$B$1004,2,FALSE) -> 64.5 | AP95: 0 | AQ95: 0 | AR95: =(AP95&AQ95) -> 00 | AS95: =VLOOKUP(AR95,'Tableau coefficient '!$A$3:$B$1004,2,FALSE) -> 0 | AT95: 0 | AU95: 0 | AV95: =(AT95&AU95) -> 00 | AW95: =VLOOKUP(AV95,'Tableau coefficient '!$A$3:$B$1004,2,FALSE) -> 0 | AX95: XS | AY95: 10 | AZ95: =(AX95&AY95) -> XS10 | BA95: =VLOOKUP(AZ95,'Tableau coefficient '!$A$3:$B$1004,2,FALSE) -> 72.5 | BB95: XS | BC95: 18 | BD95: =(BB95&BC95) -> XS18 | BE95: =(VLOOKUP(BD95,'Tableau coefficient '!$A$3:$B$1004,2,FALSE))*2 -> 125 | BF95: 0 | BG95: 0 | BH95: =(BF95&BG95) -> 00 | BI95: =VLOOKUP(BH95,'Tableau coefficient '!$A$3:$B$1004,2,FALSE) -> 0 | BJ95: 0 | BK95: 0 | BL95: =(BJ95&BK95) -> 00 | BM95: =VLOOKUP(BL95,'Tableau coefficient '!$A$3:$B$1004,2,FALSE) -> 0 | BN95: =SUM(M95,I95,Q95,U95,Y95,AC95,AG95,AO95,AS95,BA95,BE95,BI95,BM95) -> 873 | BO95: =RANK(BN95,$BN$4:$BN$446,0) -> 50
A96: LE SCAVAREC | B96: Elouan | C96: M | D96: BE 2 | E96: KONA TRI TAHITI | F96: 0 | G96: 0 | H96: =(F96&G96) -> 00 | I96: =VLOOKUP(H96,'Tableau coefficient '!$A$3:$B$1004,2,FALSE) -> 0 | J96: 0 | K96: 0 | L96: =(J96&K96) -> 00 | M96: =VLOOKUP(L96,'Tableau coefficient '!$A$3:$B$1004,2,FALSE) -> 0 | N96: 0 | O96: 0 | P96: =(N96&O96) -> 00 | Q96: =VLOOKUP(P96,'Tableau coefficient '!$A$3:$B$1004,2,FALSE) -> 0 | R96: 0 | S96: 0 | T96: =(R96&S96) -> 00 | U96: =VLOOKUP(T96,'Tableau coefficient '!$A$3:$B$1004,2,FALSE) -> 0 | V96: 0 | W96: 0 | X96: =(V96&W96) -> 00 | Y96: =(VLOOKUP(X96,'Tableau coefficient '!$A$3:$B$1004,2,FALSE))*2 -> 0 | Z96: 0 | AA96: 0 | AB96: =(Z96&AA96) -> 00 | AC96: =(VLOOKUP(AB96,'Tableau coefficient '!$A$3:$B$1004,2,FALSE))*2 -> 0 | AD96: XS | AE96: 25 | AF96: =(AD96&AE96) -> XS25 | AG96: =VLOOKUP(AF96,'Tableau coefficient '!$A$3:$B$1004,2,FALSE) -> 59 | AH96: 0 | AI96: 0 | AJ96: =(AH96&AI96) -> 00 | AK96: =VLOOKUP(AJ96,'Tableau coefficient '!$A$3:$B$1004,2,FALSE) -> 0 | AL96: XS | AM96: 26 | AN96: =(AL96&AM96) -> XS26 | AO96: =VLOOKUP(AN96,'Tableau coefficient '!$A$3:$B$1004,2,FALSE) -> 58.5 | AP96: 0 | AQ96: 0 | AR96: =(AP96&AQ96) -> 00 | AS96: =VLOOKUP(AR96,'Tableau coefficient '!$A$3:$B$1004,2,FALSE) -> 0 | AT96: 0 | AU96: 0 | AV96: =(AT96&AU96) -> 00 | AW96: =VLOOKUP(AV96,'Tableau coefficient '!$A$3:$B$1004,2,FALSE) -> 0 | AX96: XS | AY96: 26 | AZ96: =(AX96&AY96) -> XS26 | BA96: =VLOOKUP(AZ96,'Tableau coefficient '!$A$3:$B$1004,2,FALSE) -> 58.5 | BB96: XS | BC96: 29 | BD96: =(BB96&BC96) -> XS29 | BE96: =(VLOOKUP(BD96,'Tableau coefficient '!$A$3:$B$1004,2,FALSE))*2 -> 114 | BF96: 0 | BG96: 0 | BH96: =(BF96&BG96) -> 00 | BI96: =VLOOKUP(BH96,'Tableau coefficient '!$A$3:$B$1004,2,FALSE) -> 0 | BJ96: 0 | BK96: 0 | BL96: =(BJ96&BK96) -> 00 | BM96: =VLOOKUP(BL96,'Tableau coefficient '!$A$3:$B$1004,2,FALSE) -> 0 | BN96: =SUM(M96,I96,Q96,U96,Y96,AC96,AG96,AO96,AS96,BA96,BE96,BI96,BM96) -> 290 | BO96: =RANK(BN96,$BN$4:$BN$446,0) -> 186
A97: VIVIER | B97: Mathis | C97: M | D97: BE 2 | E97: KONA TRI TAHITI | F97: 0 | G97: 0 | H97: =(F97&G97) -> 00 | I97: =VLOOKUP(H97,'Tableau coefficient '!$A$3:$B$1004,2,FALSE) -> 0 | J97: 0 | K97: 0 | L97: =(J97&K97) -> 00 | M97: =VLOOKUP(L97,'Tableau coefficient '!$A$3:$B$1004,2,FALSE) -> 0 | N97: 0 | O97: 0 | P97: =(N97&O97) -> 00 | Q97: =VLOOKUP(P97,'Tableau coefficient '!$A$3:$B$1004,2,FALSE) -> 0 | R97: 0 | S97: 0 | T97: =(R97&S97) -> 00 | U97: =VLOOKUP(T97,'Tableau coefficient '!$A$3:$B$1004,2,FALSE) -> 0 | V97: 0 | W97: 0 | X97: =(V97&W97) -> 00 | Y97: =(VLOOKUP(X97,'Tableau coefficient '!$A$3:$B$1004,2,FALSE))*2 -> 0 | Z97: 0 | AA97: 0 | AB97: =(Z97&AA97) -> 00 | AC97: =(VLOOKUP(AB97,'Tableau coefficient '!$A$3:$B$1004,2,FALSE))*2 -> 0 | AD97: XS | AE97: 30 | AF97: =(AD97&AE97) -> XS30 | AG97: =VLOOKUP(AF97,'Tableau coefficient '!$A$3:$B$1004,2,FALSE) -> 56.5 | AH97: 0 | AI97: 0 | AJ97: =(AH97&AI97) -> 00 | AK97: =VLOOKUP(AJ97,'Tableau coefficient '!$A$3:$B$1004,2,FALSE) -> 0 | AL97: XS | AM97: 21 | AN97: =(AL97&AM97) -> XS21 | AO97: =VLOOKUP(AN97,'Tableau coefficient '!$A$3:$B$1004,2,FALSE) -> 61 | AP97: XS | AQ97: 28 | AR97: =(AP97&AQ97) -> XS28 | AS97: =VLOOKUP(AR97,'Tableau coefficient '!$A$3:$B$1004,2,FALSE) -> 57.5 | AT97: 0 | AU97: 0 | AV97: =(AT97&AU97) -> 00 | AW97: =VLOOKUP(AV97,'Tableau coefficient '!$A$3:$B$1004,2,FALSE) -> 0 | AX97: XS | AY97: 22 | AZ97: =(AX97&AY97) -> XS22 | BA97: =VLOOKUP(AZ97,'Tableau coefficient '!$A$3:$B$1004,2,FALSE) -> 60.5 | BB97: XS | BC97: 19 | BD97: =(BB97&BC97) -> XS19 | BE97: =(VLOOKUP(BD97,'Tableau coefficient '!$A$3:$B$1004,2,FALSE))*2 -> 124 | BF97: 0 | BG97: 0 | BH97: =(BF97&BG97) -> 00 | BI97: =VLOOKUP(BH97,'Tableau coefficient '!$A$3:$B$1004,2,FALSE) -> 0 | BJ97: 0 | BK97: 0 | BL97: =(BJ97&BK97) -> 00 | BM97: =VLOOKUP(BL97,'Tableau coefficient '!$A$3:$B$1004,2,FALSE) -> 0 | BN97: =SUM(M97,I97,Q97,U97,Y97,AC97,AG97,AO97,AS97,BA97,BE97,BI97,BM97) -> 359.5 | BO97: =RANK(BN97,$BN$4:$BN$446,0) -> 163
A98: SERRY | B98: Theophile | C98: M | D98: BE 2 | E98: CERCLE DES NAGEURS DE POLYNESIE | F98: 0 | G98: 0 | H98: =(F98&G98) -> 00 | I98: =VLOOKUP(H98,'Tableau coefficient '!$A$3:$B$1004,2,FALSE) -> 0 | J98: 0 | K98: 0 | L98: =(J98&K98) -> 00 | M98: =VLOOKUP(L98,'Tableau coefficient '!$A$3:$B$1004,2,FALSE) -> 0 | N98: 0 | O98: 0 | P98: =(N98&O98) -> 00 | Q98: =VLOOKUP(P98,'Tableau coefficient '!$A$3:$B$1004,2,FALSE) -> 0 | R98: 0 | S98: 0 | T98: =(R98&S98) -> 00 | U98: =VLOOKUP(T98,'Tableau coefficient '!$A$3:$B$1004,2,FALSE) -> 0 | V98: 0 | W98: 0 | X98: =(V98&W98) -> 00 | Y98: =(VLOOKUP(X98,'Tableau coefficient '!$A$3:$B$1004,2,FALSE))*2 -> 0 | Z98: 0 | AA98: 0 | AB98: =(Z98&AA98) -> 00 | AC98: =(VLOOKUP(AB98,'Tableau coefficient '!$A$3:$B$1004,2,FALSE))*2 -> 0 | AD98: 0 | AE98: 0 | AF98: =(AD98&AE98) -> 00 | AG98: =VLOOKUP(AF98,'Tableau coefficient '!$A$3:$B$1004,2,FALSE) -> 0 | AH98: 0 | AI98: 0 | AJ98: =(AH98&AI98) -> 00 | AK98: =VLOOKUP(AJ98,'Tableau coefficient '!$A$3:$B$1004,2,FALSE) -> 0 | AL98: 0 | AM98: 0 | AN98: =(AL98&AM98) -> 00 | AO98: =VLOOKUP(AN98,'Tableau coefficient '!$A$3:$B$1004,2,FALSE) -> 0 | AP98: 0 | AQ98: 0 | AR98: =(AP98&AQ98) -> 00 | AS98: =VLOOKUP(AR98,'Tableau coefficient '!$A$3:$B$1004,2,FALSE) -> 0 | AT98: 0 | AU98: 0 | AV98: =(AT98&AU98) -> 00 | AW98: =VLOOKUP(AV98,'Tableau coefficient '!$A$3:$B$1004,2,FALSE) -> 0 | AX98: 0 | AY98: 0 | AZ98: =(AX98&AY98) -> 00 | BA98: =VLOOKUP(AZ98,'Tableau coefficient '!$A$3:$B$1004,2,FALSE) -> 0 | BB98: XS | BC98: 37 | BD98: =(BB98&BC98) -> XS37 | BE98: =(VLOOKUP(BD98,'Tableau coefficient '!$A$3:$B$1004,2,FALSE))*2 -> 106 | BF98: 0 | BG98: 0 | BH98: =(BF98&BG98) -> 00 | BI98: =VLOOKUP(BH98,'Tableau coefficient '!$A$3:$B$1004,2,FALSE) -> 0 | BJ98: 0 | BK98: 0 | BL98: =(BJ98&BK98) -> 00 | BM98: =VLOOKUP(BL98,'Tableau coefficient '!$A$3:$B$1004,2,FALSE) -> 0 | BN98: =SUM(M98,I98,Q98,U98,Y98,AC98,AG98,AO98,AS98,BA98,BE98,BI98,BM98) -> 106 | BO98: =RANK(BN98,$BN$4:$BN$446,0) -> 270
A99: ROULIN | B99: Sacha | C99: M | D99: BE 1 | E99: KONA TRI TAHITI | F99: 0 | G99: 0 | H99: =(F99&G99) -> 00 | I99: =VLOOKUP(H99,'Tableau coefficient '!$A$3:$B$1004,2,FALSE) -> 0 | J99: 0 | K99: 0 | L99: =(J99&K99) -> 00 | M99: =VLOOKUP(L99,'Tableau coefficient '!$A$3:$B$1004,2,FALSE) -> 0 | N99: 0 | O99: 0 | P99: =(N99&O99) -> 00 | Q99: =VLOOKUP(P99,'Tableau coefficient '!$A$3:$B$1004,2,FALSE) -> 0 | R99: 0 | S99: 0 | T99: =(R99&S99) -> 00 | U99: =VLOOKUP(T99,'Tableau coefficient '!$A$3:$B$1004,2,FALSE) -> 0 | V99: 0 | W99: 0 | X99: =(V99&W99) -> 00 | Y99: =(VLOOKUP(X99,'Tableau coefficient '!$A$3:$B$1004,2,FALSE))*2 -> 0 | Z99: 0 | AA99: 0 | AB99: =(Z99&AA99) -> 00 | AC99: =(VLOOKUP(AB99,'Tableau coefficient '!$A$3:$B$1004,2,FALSE))*2 -> 0 | AD99: 0 | AE99: 0 | AF99: =(AD99&AE99) -> 00 | AG99: =VLOOKUP(AF99,'Tableau coefficient '!$A$3:$B$1004,2,FALSE) -> 0 | AH99: 0 | AI99: 0 | AJ99: =(AH99&AI99) -> 00 | AK99: =VLOOKUP(AJ99,'Tableau coefficient '!$A$3:$B$1004,2,FALSE) -> 0 | AL99: 0 | AM99: 0 | AN99: =(AL99&AM99) -> 00 | AO99: =VLOOKUP(AN99,'Tableau coefficient '!$A$3:$B$1004,2,FALSE) -> 0 | AP99: 0 | AQ99: 0 | AR99: =(AP99&AQ99) -> 00 | AS99: =VLOOKUP(AR99,'Tableau coefficient '!$A$3:$B$1004,2,FALSE) -> 0 | AT99: 0 | AU99: 0 | AV99: =(AT99&AU99) -> 00 | AW99: =VLOOKUP(AV99,'Tableau coefficient '!$A$3:$B$1004,2,FALSE) -> 0 | AX99: 0 | AY99: 0 | AZ99: =(AX99&AY99) -> 00 | BA99: =VLOOKUP(AZ99,'Tableau coefficient '!$A$3:$B$1004,2,FALSE) -> 0 | BB99: XS | BC99: 52 | BD99: =(BB99&BC99) -> XS52 | BE99: =(VLOOKUP(BD99,'Tableau coefficient '!$A$3:$B$1004,2,FALSE))*2 -> 91 | BF99: 0 | BG99: 0 | BH99: =(BF99&BG99) -> 00 | BI99: =VLOOKUP(BH99,'Tableau coefficient '!$A$3:$B$1004,2,FALSE) -> 0 | BJ99: 0 | BK99: 0 | BL99: =(BJ99&BK99) -> 00 | BM99: =VLOOKUP(BL99,'Tableau coefficient '!$A$3:$B$1004,2,FALSE) -> 0 | BN99: =SUM(M99,I99,Q99,U99,Y99,AC99,AG99,AO99,AS99,BA99,BE99,BI99,BM99) -> 91 | BO99: =RANK(BN99,$BN$4:$BN$446,0) -> 275
A100: BAIGTS | B100: Camille | C100: F | D100: BE 1 | E100: CERCLE DES NAGEURS DE POLYNESIE | F100: 0 | G100: 0 | H100: =(F100&G100) -> 00 | I100: =VLOOKUP(H100,'Tableau coefficient '!$A$3:$B$1004,2,FALSE) -> 0 | J100: 0 | K100: 0 | L100: =(J100&K100) -> 00 | M100: =VLOOKUP(L100,'Tableau coefficient '!$A$3:$B$1004,2,FALSE) -> 0 | N100: 0 | O100: 0 | P100: =(N100&O100) -> 00 | Q100: =VLOOKUP(P100,'Tableau coefficient '!$A$3:$B$1004,2,FALSE) -> 0 | R100: 0 | S100: 0 | T100: =(R100&S100) -> 00 | U100: =VLOOKUP(T100,'Tableau coefficient '!$A$3:$B$1004,2,FALSE) -> 0 | V100: 0 | W100: 0 | X100: =(V100&W100) -> 00 | Y100: =(VLOOKUP(X100,'Tableau coefficient '!$A$3:$B$1004,2,FALSE))*2 -> 0 | Z100: 0 | AA100: 0 | AB100: =(Z100&AA100) -> 00 | AC100: =(VLOOKUP(AB100,'Tableau coefficient '!$A$3:$B$1004,2,FALSE))*2 -> 0 | AD100: 0 | AE100: 0 | AF100: =(AD100&AE100) -> 00 | AG100: =VLOOKUP(AF100,'Tableau coefficient '!$A$3:$B$1004,2,FALSE) -> 0 | AH100: 0 | AI100: 0 | AJ100: =(AH100&AI100) -> 00 | AK100: =VLOOKUP(AJ100,'Tableau coefficient '!$A$3:$B$1004,2,FALSE) -> 0 | AL100: 0 | AM100: 0 | AN100: =(AL100&AM100) -> 00 | AO100: =VLOOKUP(AN100,'Tableau coefficient '!$A$3:$B$1004,2,FALSE) -> 0 | AP100: 0 | AQ100: 0 | AR100: =(AP100&AQ100) -> 00 | AS100: =VLOOKUP(AR100,'Tableau coefficient '!$A$3:$B$1004,2,FALSE) -> 0 | AT100: 0 | AU100: 0 | AV100: =(AT100&AU100) -> 00 | AW100: =VLOOKUP(AV100,'Tableau coefficient '!$A$3:$B$1004,2,FALSE) -> 0 | AX100: 0 | AY100: 0 | AZ100: =(AX100&AY100) -> 00 | BA100: =VLOOKUP(AZ100,'Tableau coefficient '!$A$3:$B$1004,2,FALSE) -> 0 | BB100: 0 | BC100: 0 | BD100: =(BB100&BC100) -> 00 | BE100: =(VLOOKUP(BD100,'Tableau coefficient '!$A$3:$B$1004,2,FALSE))*2 -> 0 | BF100: 0 | BG100: 0 | BH100: =(BF100&BG100) -> 00 | BI100: =VLOOKUP(BH100,'Tableau coefficient '!$A$3:$B$1004,2,FALSE) -> 0 | BJ100: 0 | BK100: 0 | BL100: =(BJ100&BK100) -> 00 | BM100: =VLOOKUP(BL100,'Tableau coefficient '!$A$3:$B$1004,2,FALSE) -> 0 | BN100: =SUM(M100,I100,Q100,U100,Y100,AC100,AG100,AO100,AS100,BA100,BE100,BI100,BM100) -> 0 | BO100: =RANK(BN100,$BN$4:$BN$446,0) -> 303
A101: CHAMPS | B101: Kyra Vai | C101: F | D101: BE 1 | E101: AS TAMARII PUNARUU TRIATHLON | F101: XS | G101: 36 | H101: =(F101&G101) -> XS36 | I101: =VLOOKUP(H101,'Tableau coefficient '!$A$3:$B$1004,2,FALSE) -> 53.5 | J101: XS | K101: 35 | L101: =(J101&K101) -> XS35 | M101: =VLOOKUP(L101,'Tableau coefficient '!$A$3:$B$1004,2,FALSE) -> 54 | N101: XS | O101: 28 | P101: =(N101&O101) -> XS28 | Q101: =VLOOKUP(P101,'Tableau coefficient '!$A$3:$B$1004,2,FALSE) -> 57.5 | R101: 0 | S101: 0 | T101: =(R101&S101) -> 00 | U101: =VLOOKUP(T101,'Tableau coefficient '!$A$3:$B$1004,2,FALSE) -> 0 | V101: 0 | W101: 0 | X101: =(V101&W101) -> 00 | Y101: =(VLOOKUP(X101,'Tableau coefficient '!$A$3:$B$1004,2,FALSE))*2 -> 0 | Z101: XS | AA101: 38 | AB101: =(Z101&AA101) -> XS38 | AC101: =(VLOOKUP(AB101,'Tableau coefficient '!$A$3:$B$1004,2,FALSE))*2 -> 105 | AD101: XS | AE101: 47 | AF101: =(AD101&AE101) -> XS47 | AG101: =VLOOKUP(AF101,'Tableau coefficient '!$A$3:$B$1004,2,FALSE) -> 48 | AH101: 0 | AI101: 0 | AJ101: =(AH101&AI101) -> 00 | AK101: =VLOOKUP(AJ101,'Tableau coefficient '!$A$3:$B$1004,2,FALSE) -> 0 | AL101: XS | AM101: 71 | AN101: =(AL101&AM101) -> XS71 | AO101: =VLOOKUP(AN101,'Tableau coefficient '!$A$3:$B$1004,2,FALSE) -> 36 | AP101: 0 | AQ101: 0 | AR101: =(AP101&AQ101) -> 00 | AS101: =VLOOKUP(AR101,'Tableau coefficient '!$A$3:$B$1004,2,FALSE) -> 0 | AT101: 0 | AU101: 0 | AV101: =(AT101&AU101) -> 00 | AW101: =VLOOKUP(AV101,'Tableau coefficient '!$A$3:$B$1004,2,FALSE) -> 0 | AX101: 0 | AY101: 0 | AZ101: =(AX101&AY101) -> 00 | BA101: =VLOOKUP(AZ101,'Tableau coefficient '!$A$3:$B$1004,2,FALSE) -> 0 | BB101: XS | BC101: 44 | BD101: =(BB101&BC101) -> XS44 | BE101: =(VLOOKUP(BD101,'Tableau coefficient '!$A$3:$B$1004,2,FALSE))*2 -> 99 | BF101: 0 | BG101: 0 | BH101: =(BF101&BG101) -> 00 | BI101: =VLOOKUP(BH101,'Tableau coefficient '!$A$3:$B$1004,2,FALSE) -> 0 | BJ101: 0 | BK101: 0 | BL101: =(BJ101&BK101) -> 00 | BM101: =VLOOKUP(BL101,'Tableau coefficient '!$A$3:$B$1004,2,FALSE) -> 0 | BN101: =SUM(M101,I101,Q101,U101,Y101,AC101,AG101,AO101,AS101,BA101,BE101,BI101,BM101) -> 453 | BO101: =RANK(BN101,$BN$4:$BN$446,0) -> 136
...

Sheet Feuil2
A1: Nom | B1: Prénom | C1: Sexe | D1: Catégorie
A3: ='Challenge 2022'!A4 -> BOURDELON | B3: ='Challenge 2022'!B4 -> Evans | C3: ='Challenge 2022'!C4 -> M | D3: ='Challenge 2022'!D4 -> MPO 2 | E3: ='Challenge 2022'!BN4 -> 542.5 | F3: =RANK(E3,$E$3:$E$271,0) -> #REF! | G3: ='Challenge 2022'!A29 -> OHIU | H3: ='Challenge 2022'!B29 -> Arava | I3: ='Challenge 2022'!C29 -> M | J3: ='Challenge 2022'!D29 -> PO 2 | K3: ='Challenge 2022'!BN29 -> 0 | L3: =RANK(K3,$K$3:$K$272,0) -> #REF!
A4: ='Challenge 2022'!A5 -> ROCHE | B4: ='Challenge 2022'!B5 -> Manatea | C4: ='Challenge 2022'!C5 -> M | D4: ='Challenge 2022'!D5 -> MPO 2 | E4: ='Challenge 2022'!BN5 -> 380 | F4: =RANK(E4,$E$3:$E$271,0) -> #REF! | G4: ='Challenge 2022'!A30 -> SERRE | H4: ='Challenge 2022'!B30 -> Mirco | I4: ='Challenge 2022'!C30 -> M | J4: ='Challenge 2022'!D30 -> PO 1 | K4: ='Challenge 2022'!BN30 -> 725 | L4: =RANK(K4,$K$3:$K$272,0) -> #REF!
A5: ='Challenge 2022'!A6 -> DIGONNET | B5: ='Challenge 2022'!B6 -> Naea | C5: ='Challenge 2022'!C6 -> M | D5: ='Challenge 2022'!D6 -> MPO 2 | E5: ='Challenge 2022'!BN6 -> 70 | F5: =RANK(E5,$E$3:$E$271,0) -> #REF! | G5: ='Challenge 2022'!A31 -> TEAE | H5: ='Challenge 2022'!B31 -> Manua | I5: ='Challenge 2022'!C31 -> M | J5: ='Challenge 2022'!D31 -> PO 1 | K5: ='Challenge 2022'!BN31 -> 295 | L5: =RANK(K5,$K$3:$K$272,0) -> #REF!
A6: ='Challenge 2022'!A7 -> PECUSSEAU | B6: ='Challenge 2022'!B7 -> Noa | C6: ='Challenge 2022'!C7 -> M | D6: ='Challenge 2022'!D7 -> MPO 2 | E6: ='Challenge 2022'!BN7 -> 342.5 | F6: =RANK(E6,$E$3:$E$271,0) -> #REF! | G6: ='Challenge 2022'!A32 -> TEURU | H6: ='Challenge 2022'!B32 -> Kay | I6: ='Challenge 2022'!C32 -> M | J6: ='Challenge 2022'!D32 -> PO 2 | K6: ='Challenge 2022'!BN32 -> 708.5 | L6: =RANK(K6,$K$3:$K$272,0) -> #REF!
A7: ='Challenge 2022'!A8 -> ROGUES | B7: ='Challenge 2022'!B8 -> Marcelo | C7: ='Challenge 2022'!C8 -> M | D7: ='Challenge 2022'!D8 -> MPO 2 | E7: ='Challenge 2022'!BN8 -> 270 | F7: =RANK(E7,$E$3:$E$271,0) -> #REF! | G7: ='Challenge 2022'!A33 -> VAIRAAROA | H7: ='Challenge 2022'!B33 -> Vaihauarii | I7: ='Challenge 2022'!C33 -> M | J7: ='Challenge 2022'!D33 -> PO 2 | K7: ='Challenge 2022'!BN33 -> 62 | L7: =RANK(K7,$K$3:$K$272,0) -> #REF!
A8: ='Challenge 2022'!A10 -> POULAIN | B8: ='Challenge 2022'!B10 -> Toakai | C8: ='Challenge 2022'!C10 -> M | D8: ='Challenge 2022'!D10 -> MPO 2 | E8: ='Challenge 2022'!BN10 -> 85 | F8: =RANK(E8,$E$3:$E$271,0) -> #REF! | G8: ='Challenge 2022'!A34 -> VINCENTI | H8: ='Challenge 2022'!B34 -> Torea | I8: ='Challenge 2022'!C34 -> M | J8: ='Challenge 2022'!D34 -> PO 1 | K8: ='Challenge 2022'!BN34 -> 1950 | L8: =RANK(K8,$K$3:$K$272,0) -> #REF!
A9: ='Challenge 2022'!A11 -> FOUCAULD | B9: ='Challenge 2022'!B11 -> Nicolas | C9: ='Challenge 2022'!C11 -> M | D9: ='Challenge 2022'!D11 -> MPO 1 | E9: ='Challenge 2022'!BN11 -> 127 | F9: =RANK(E9,$E$3:$E$271,0) -> #REF! | G9: ='Challenge 2022'!A35 -> CHASTANG | H9: ='Challenge 2022'!B35 -> Leonid | I9: ='Challenge 2022'!C35 -> M | J9: ='Challenge 2022'!D35 -> PO 1 | K9: ='Challenge 2022'!BN35 -> 545 | L9: =RANK(K9,$K$3:$K$272,0) -> #REF!
A10: ='Challenge 2022'!A12 -> MIKOU | B10: ='Challenge 2022'!B12 -> Maia | C10: ='Challenge 2022'!C12 -> F | D10: ='Challenge 2022'!D12 -> MPO 2 | E10: ='Challenge 2022'!BN12 -> 261.5 | F10: =RANK(E10,$E$3:$E$271,0) -> #REF! | G10: ='Challenge 2022'!A36 -> WONG | H10: ='Challenge 2022'!B36 -> Keivanui | I10: ='Challenge 2022'!C36 -> M | J10: ='Challenge 2022'!D36 -> PO 1 | K10: ='Challenge 2022'!BN36 -> 207.5 | L10: =RANK(K10,$K$3:$K$272,0) -> #REF!
A11: ='Challenge 2022'!A13 -> TENIARAHI | B11: ='Challenge 2022'!B13 -> Ravahau | C11: ='Challenge 2022'!C13 -> F | D11: ='Challenge 2022'!D13 -> MPO 1 | E11: ='Challenge 2022'!BN13 -> 130.5 | F11: =RANK(E11,$E$3:$E$271,0) -> #REF! | G11: ='Challenge 2022'!A37 -> LAPIERRE | H11: ='Challenge 2022'!B37 -> Timoty | I11: ='Challenge 2022'!C37 -> M | J11: ='Challenge 2022'!D37 -> PO 2 | K11: ='Challenge 2022'!BN37 -> 126 | L11: =RANK(K11,$K$3:$K$272,0) -> #REF!
A12: ='Challenge 2022'!A14 -> BOURDELON | B12: ='Challenge 2022'!B14 -> Alixia | C12: ='Challenge 2022'!C14 -> F | D12: ='Challenge 2022'!D14 -> MPO 1 | E12: ='Challenge 2022'!BN14 -> 245.5 | F12: =RANK(E12,$E$3:$E$271,0) -> #REF! | G12: ='Challenge 2022'!A38 -> ARAKINO | H12: ='Challenge 2022'!B38 -> Tenati | I12: ='Challenge 2022'!C38 -> M | J12: ='Challenge 2022'!D38 -> PO 2 | K12: ='Challenge 2022'!BN38 -> 61.5 | L12: =RANK(K12,$K$3:$K$272,0) -> #REF!
A13: ='Challenge 2022'!A15 -> LE GUISQUET | B13: ='Challenge 2022'!B15 -> Elea | C13: ='Challenge 2022'!C15 -> F | D13: ='Challenge 2022'!D15 -> MPO 2 | E13: ='Challenge 2022'!BN15 -> 186 | F13: =RANK(E13,$E$3:$E$271,0) -> #REF! | G13: ='Challenge 2022'!A39 -> VETTIER | H13: ='Challenge 2022'!B39 -> Maui | I13: ='Challenge 2022'!C39 -> M | J13: ='Challenge 2022'!D39 -> PO 1 | K13: ='Challenge 2022'!BN39 -> 395 | L13: =RANK(K13,$K$3:$K$272,0) -> #REF!
A14: ='Challenge 2022'!A16 -> GUYOT | B14: ='Challenge 2022'!B16 -> Shane | C14: ='Challenge 2022'!C16 -> M | D14: ='Challenge 2022'!D16 -> PO 2 | E14: ='Challenge 2022'!BN16 -> 181.5 | F14: =RANK(E14,$E$3:$E$271,0) -> #REF! | G14: ='Challenge 2022'!A40 -> RICHMOND | H14: ='Challenge 2022'!B40 -> Hirama | I14: ='Challenge 2022'!C40 -> M | J14: ='Challenge 2022'!D40 -> PO 2 | K14: ='Challenge 2022'!BN40 -> 116 | L14: =RANK(K14,$K$3:$K$272,0) -> #REF!
A15: ='Challenge 2022'!A17 -> CHAN UHRIG | B15: ='Challenge 2022'!B17 -> Mahainui | C15: ='Challenge 2022'!C17 -> M | D15: ='Challenge 2022'!D17 -> PO 1 | E15: ='Challenge 2022'!BN17 -> 63.5 | F15: =RANK(E15,$E$3:$E$271,0) -> #REF! | G15: ='Challenge 2022'!A41 -> GLAPSKI | H15: ='Challenge 2022'!B41 -> Melodie | I15: ='Challenge 2022'!C41 -> F | J15: ='Challenge 2022'!D41 -> PO 2 | K15: ='Challenge 2022'!BN41 -> 540.5 | L15: =RANK(K15,$K$3:$K$272,0) -> #REF!
A16: ='Challenge 2022'!A18 -> RICHMOND | B16: ='Challenge 2022'!B18 -> Nautai | C16: ='Challenge 2022'!C18 -> M | D16: ='Challenge 2022'!D18 -> PO 1 | E16: ='Challenge 2022'!BN18 -> 220 | F16: =RANK(E16,$E$3:$E$271,0) -> #REF! | G16: ='Challenge 2022'!A42 -> JOCAILLE CHAPLAIN | H16: ='Challenge 2022'!B42 -> Naia | I16: ='Challenge 2022'!C42 -> F | J16: ='Challenge 2022'!D42 -> PO 2 | K16: ='Challenge 2022'!BN42 -> 473 | L16: =RANK(K16,$K$3:$K$272,0) -> #REF!
