Workbook

Sheet Challenge 2022
A2: Nom | B2: Prénom | C2: Sexe | D2: Cat | E2: Club | F2: Triathlon de Haapiti 06/03/22 | J2: Duathlon de Kona 20/03/22 | N2: Triathlon de Puunui 03/04/22 | R2: Triathlon de Punaauia 15/05/22 | V2: Championnat Aquathlon 26/05/22. (coeff 2) | Z2: Coupe de Polynésie 26/06/22. (coeff 2) | AD2: Triathlon Gauguin 18/09/22 | AL2: Xterra Triathlon 22-23/10/22 | AP2: Aquathlon & Trikid's du CNP 29/10/22 | AT2: Triathlon des Vahinés 06/11/22 | AX2: Triathlon de Tiarei 20/11/22 | BB2: Championnat Triathlon 04/12/22. (coeff 2) | BN2: Total pts | BO2: Scra
F3: For | G3: Pla | I3: Pts | J3: For | K3: Pla | M3: Pts | N3: For | O3: Pla | Q3: Pts | R3: For | S3: Pla | U3: Pts | V3: For | W3: Pla | Y3: Pts | Z3: For | AA3: Pla | AC3: Pts | AD3: For | AE3: Pla | AG3: Pts | AH3: For | AI3: Pla | AK3: Pts | AL3: For | AM3: Pla | AO3: Pts | AP3: For | AQ3: Pla | AS3: Pts | AT3: For | AU3: Pla | AW3: Pts | AX3: For | AY3: Pla | BA3: Pts | BB3: For | BC3: Pla | BE3: Pts | BF3: Formats | BG3: Place | BH3: x | BI3: Points | BJ3: Formats | BK3: Place | BM3: Points
A4: BOURDELON | B4: Evans | C4: M | D4: MPO 2 | E4: KONA TRI TAHITI | F4: 0 | G4: 0 | H4: =(F4&G4) -> 00 | I4: =VLOOKUP(H4,'Tableau coefficient '!$A$3:$B$1004,2,FALSE) -> 0 | J4: J | K4: 10 | L4: =(J4&K4) -> J10 | M4: =VLOOKUP(L4,'Tableau coefficient '!$A$3:$B$1004,2,FALSE) -> 72.5 | N4: J | O4: 8 | P4: =(N4&O4) -> J8 | Q4: =VLOOKUP(P4,'Tableau coefficient '!$A$3:$B$1004,2,FALSE) -> 80 | R4: J | S4: 8 | T4: =(R4&S4) -> J8 | U4: =VLOOKUP(T4,'Tableau coefficient '!$A$3:$B$1004,2,FALSE) -> 80 | V4: 0 | W4: 0 | X4: =(V4&W4) -> 00 | Y4: =(VLOOKUP(X4,'Tableau coefficient '!$A$3:$B$1004,2,FALSE))*2 -> 0 | Z4: 0 | AA4: 0 | AB4: =(Z4&AA4) -> 00 | AC4: =(VLOOKUP(AB4,'Tableau coefficient '!$A$3:$B$1004,2,FALSE))*2 -> 0 | AD4: J | AE4: 13 | AF4: =(AD4&AE4) -> J13 | AG4: =VLOOKUP(AF4,'Tableau coefficient '!$A$3:$B$1004,2,FALSE) -> 65 | AH4: 0 | AI4: 0 | AJ4: =(AH4&AI4) -> 00 | AK4: =VLOOKUP(AJ4,'Tableau coefficient '!$A$3:$B$1004,2,FALSE) -> 0 | AL4: 0 | AM4: 0 | AN4: =(AL4&AM4) -> 00 | AO4: =VLOOKUP(AN4,'Tableau coefficient '!$A$3:$B$1004,2,FALSE) -> 0 | AP4: J | AQ4: 5 | AR4: =(AP4&AQ4) -> J5 | AS4: =VLOOKUP(AR4,'Tableau coefficient '!$A$3:$B$1004,2,FALSE) -> 95 | AT4: 0 | AU4: 0 | AV4: =(AT4&AU4) -> 00 | AW4: =VLOOKUP(AV4,'Tableau coefficient '!$A$3:$B$1004,2,FALSE) -> 0 | AX4: 0 | AY4: 0 | AZ4: =(AX4&AY4) -> 00 | BA4: =VLOOKUP(AZ4,'Tableau coefficient '!$A$3:$B$1004,2,FALSE) -> 0 | BB4: J | BC4: 9 | BD4: =(BB4&BC4) -> J9 | BE4: =(VLOOKUP(BD4,'Tableau coefficient '!$A$3:$B$1004,2,FALSE))*2 -> 150 | BF4: 0 | BG4: 0 | BH4: =(BF4&BG4) -> 00 | BI4: =VLOOKUP(BH4,'Tableau coefficient '!$A$3:$B$1004,2,FALSE) -> 0 | BJ4: 0 | BK4: 0 | BL4: =(BJ4&BK4) -> 00 | BM4: =VLOOKUP(BL4,'Tableau coefficient '!$A$3:$B$1004,2,FALSE) -> 0 | BN4: =SUM(M4,I4,Q4,U4,Y4,AC4,AG4,AO4,AS4,BA4,BE4,BI4,BM4) -> 542.5 | BO4: =RANK(BN4,$BN$4:$BN$446,0) -> 112
A5: ROCHE | B5: Manatea | C5: M | D5: MPO 2 | E5: AS TAMARII PUNARUU TRIATHLON | F5: 0 | G5: 0 | H5: =(F5&G5) -> 00 | I5: =VLOOKUP(H5,'Tableau coefficient '!$A$3:$B$1004,2,FALSE) -> 0 | J5: 0 | K5: 0 | L5: =(J5&K5) -> 00 | M5: =VLOOKUP(L5,'Tableau coefficient '!$A$3:$B$1004,2,FALSE) -> 0 | N5: 0 | O5: 0 | P5: =(N5&O5) -> 00 | Q5: =VLOOKUP(P5,'Tableau coefficient '!$A$3:$B$1004,2,FALSE) -> 0 | R5: 0 | S5: 0 | T5: =(R5&S5) -> 00 | U5: =VLOOKUP(T5,'Tableau coefficient '!$A$3:$B$1004,2,FALSE) -> 0 | V5: 0 | W5: 0 | X5: =(V5&W5) -> 00 | Y5: =(VLOOKUP(X5,'Tableau coefficient '!$A$3:$B$1004,2,FALSE))*2 -> 0 | Z5: 0 | AA5: 0 | AB5: =(Z5&AA5) -> 00 | AC5: =(VLOOKUP(AB5,'Tableau coefficient '!$A$3:$B$1004,2,FALSE))*2 -> 0 | AD5: J | AE5: 5 | AF5: =(AD5&AE5) -> J5 | AG5: =VLOOKUP(AF5,'Tableau coefficient '!$A$3:$B$1004,2,FALSE) -> 95 | AH5: 0 | AI5: 0 | AJ5: =(AH5&AI5) -> 00 | AK5: =VLOOKUP(AJ5,'Tableau coefficient '!$A$3:$B$1004,2,FALSE) -> 0 | AL5: 0 | AM5: 0 | AN5: =(AL5&AM5) -> 00 | AO5: =VLOOKUP(AN5,'Tableau coefficient '!$A$3:$B$1004,2,FALSE) -> 0 | AP5: J | AQ5: 7 | AR5: =(AP5&AQ5) -> J7 | AS5: =VLOOKUP(AR5,'Tableau coefficient '!$A$3:$B$1004,2,FALSE) -> 85 | AT5: 0 | AU5: 0 | AV5: =(AT5&AU5) -> 00 | AW5: =VLOOKUP(AV5,'Tableau coefficient '!$A$3:$B$1004,2,FALSE) -> 0 | AX5: 0 | AY5: 0 | AZ5: =(AX5&AY5) -> 00 | BA5: =VLOOKUP(AZ5,'Tableau coefficient '!$A$3:$B$1004,2,FALSE) -> 0 | BB5: J | BC5: 4 | BD5: =(BB5&BC5) -> J4 | BE5: =(VLOOKUP(BD5,'Tableau coefficient '!$A$3:$B$1004,2,FALSE))*2 -> 200 | BF5: 0 | BG5: 0 | BH5: =(BF5&BG5) -> 00 | BI5: =VLOOKUP(BH5,'Tableau coefficient '!$A$3:$B$1004,2,FALSE) -> 0 | BJ5: 0 | BK5: 0 | BL5: =(BJ5&BK5) -> 00 | BM5: =VLOOKUP(BL5,'Tableau coefficient '!$A$3:$B$1004,2,FALSE) -> 0 | BN5: =SUM(M5,I5,Q5,U5,Y5,AC5,AG5,AO5,AS5,BA5,BE5,BI5,BM5) -> 380 | BO5: =RANK(BN5,$BN$4:$BN$446,0) -> 162
A6: DIGONNET | B6: Naea | C6: M | D6: MPO 2 | E6: AS TAMARII PUNARUU TRIATHLON | F6: 0 | G6: 0 | H6: =(F6&G6) -> 00 | I6: =VLOOKUP(H6,'Tableau coefficient '!$A$3:$B$1004,2,FALSE) -> 0 | J6: 0 | K6: 0 | L6: =(J6&K6) -> 00 | M6: =VLOOKUP(L6,'Tableau coefficient '!$A$3:$B$1004,2,FALSE) -> 0 | N6: 0 | O6: 0 | P6: =(N6&O6) -> 00 | Q6: =VLOOKUP(P6,'Tableau coefficient '!$A$3:$B$1004,2,FALSE) -> 0 | R6: 0 | S6: 0 | T6: =(R6&S6) -> 00 | U6: =VLOOKUP(T6,'Tableau coefficient '!$A$3:$B$1004,2,FALSE) -> 0 | V6: 0 | W6: 0 | X6: =(V6&W6) -> 00 | Y6: =(VLOOKUP(X6,'Tableau coefficient '!$A$3:$B$1004,2,FALSE))*2 -> 0 | Z6: 0 | AA6: 0 | AB6: =(Z6&AA6) -> 00 | AC6: =(VLOOKUP(AB6,'Tableau coefficient '!$A$3:$B$1004,2,FALSE))*2 -> 0 | AD6: J | AE6: 11 | AF6: =(AD6&AE6) -> J11 | AG6: =VLOOKUP(AF6,'Tableau coefficient '!$A$3:$B$1004,2,FALSE) -> 70 | AH6: 0 | AI6: 0 | AJ6: =(AH6&AI6) -> 00 | AK6: =VLOOKUP(AJ6,'Tableau coefficient '!$A$3:$B$1004,2,FALSE) -> 0 | AL6: 0 | AM6: 0 | AN6: =(AL6&AM6) -> 00 | AO6: =VLOOKUP(AN6,'Tableau coefficient '!$A$3:$B$1004,2,FALSE) -> 0 | AP6: 0 | AQ6: 0 | AR6: =(AP6&AQ6) -> 00 | AS6: =VLOOKUP(AR6,'Tableau coefficient '!$A$3:$B$1004,2,FALSE) -> 0 | AT6: 0 | AU6: 0 | AV6: =(AT6&AU6) -> 00 | AW6: =VLOOKUP(AV6,'Tableau coefficient '!$A$3:$B$1004,2,FALSE) -> 0 | AX6: 0 | AY6: 0 | AZ6: =(AX6&AY6) -> 00 | BA6: =VLOOKUP(AZ6,'Tableau coefficient '!$A$3:$B$1004,2,FALSE) -> 0 | BB6: 0 | BC6: 0 | BD6: =(BB6&BC6) -> 00 | BE6: =(VLOOKUP(BD6,'Tableau coefficient '!$A$3:$B$1004,2,FALSE))*2 -> 0 | BF6: 0 | BG6: 0 | BH6: =(BF6&BG6) -> 00 | BI6: =VLOOKUP(BH6,'Tableau coefficient '!$A$3:$B$1004,2,FALSE) -> 0 | BJ6: 0 | BK6: 0 | BL6: =(BJ6&BK6) -> 00 | BM6: =VLOOKUP(BL6,'Tableau coefficient '!$A$3:$B$1004,2,FALSE) -> 0 | BN6: =SUM(M6,I6,Q6,U6,Y6,AC6,AG6,AO6,AS6,BA6,BE6,BI6,BM6) -> 70 | BO6: =RANK(BN6,$BN$4:$BN$446,0) -> 285
A7: PECUSSEAU | B7: Noa | C7: M | D7: MPO 2 | E7: CERCLE DES NAGEURS DE POLYNESIE | F7: 0 | G7: 0 | H7: =(F7&G7) -> 00 | I7: =VLOOKUP(H7,'Tableau coefficient '!$A$3:$B$1004,2,FALSE) -> 0 | J7: 0 | K7: 0 | L7: =(J7&K7) -> 00 | M7: =VLOOKUP(L7,'Tableau coefficient '!$A$3:$B$1004,2,FALSE) -> 0 | N7: 0 | O7: 0 | P7: =(N7&O7) -> 00 | Q7: =VLOOKUP(P7,'Tableau coefficient '!$A$3:$B$1004,2,FALSE) -> 0 | R7: 0 | S7: 0 | T7: =(R7&S7) -> 00 | U7: =VLOOKUP(T7,'Tableau coefficient '!$A$3:$B$1004,2,FALSE) -> 0 | V7: 0 | W7: 0 | X7: =(V7&W7) -> 00 | Y7: =(VLOOKUP(X7,'Tableau coefficient '!$A$3:$B$1004,2,FALSE))*2 -> 0 | Z7: 0 | AA7: 0 | AB7: =(Z7&AA7) -> 00 | AC7: =(VLOOKUP(AB7,'Tableau coefficient '!$A$3:$B$1004,2,FALSE))*2 -> 0 | AD7: 0 | AE7: 0 | AF7: =(AD7&AE7) -> 00 | AG7: =VLOOKUP(AF7,'Tableau coefficient '!$A$3:$B$1004,2,FALSE) -> 0 | AH7: 0 | AI7: 0 | AJ7: =(AH7&AI7) -> 00 | AK7: =VLOOKUP(AJ7,'Tableau coefficient '!$A$3:$B$1004,2,FALSE) -> 0 | AL7: 0 | AM7: 0 | AN7: =(AL7&AM7) -> 00 | AO7: =VLOOKUP(AN7,'Tableau coefficient '!$A$3:$B$1004,2,FALSE) -> 0 | AP7: J | AQ7: 10 | AR7: =(AP7&AQ7) -> J10 | AS7: =VLOOKUP(AR7,'Tableau coefficient '!$A$3:$B$1004,2,FALSE) -> 72.5 | AT7: 0 | AU7: 0 | AV7: =(AT7&AU7) -> 00 | AW7: =VLOOKUP(AV7,'Tableau coefficient '!$A$3:$B$1004,2,FALSE) -> 0 | AX7: J | AY7: 3 | AZ7: =(AX7&AY7) -> J3 | BA7: =VLOOKUP(AZ7,'Tableau coefficient '!$A$3:$B$1004,2,FALSE) -> 110 | BB7: J | BC7: 8 | BD7: =(BB7&BC7) -> J8 | BE7: =(VLOOKUP(BD7,'Tableau coefficient '!$A$3:$B$1004,2,FALSE))*2 -> 160 | BF7: 0 | BG7: 0 | BH7: =(BF7&BG7) -> 00 | BI7: =VLOOKUP(BH7,'Tableau coefficient '!$A$3:$B$1004,2,FALSE) -> 0 | BJ7: 0 | BK7: 0 | BL7: =(BJ7&BK7) -> 00 | BM7: =VLOOKUP(BL7,'Tableau coefficient '!$A$3:$B$1004,2,FALSE) -> 0 | BN7: =SUM(M7,I7,Q7,U7,Y7,AC7,AG7,AO7,AS7,BA7,BE7,BI7,BM7) -> 342.5 | BO7: =RANK(BN7,$BN$4:$BN$446,0) -> 169
A8: ROGUES | B8: Marcelo | C8: M | D8: MPO 2 | E8: FEI PI TRIATHLON | F8: 0 | G8: 0 | H8: =(F8&G8) -> 00 | I8: =VLOOKUP(H8,'Tableau coefficient '!$A$3:$B$1004,2,FALSE) -> 0 | J8: 0 | K8: 0 | L8: =(J8&K8) -> 00 | M8: =VLOOKUP(L8,'Tableau coefficient '!$A$3:$B$1004,2,FALSE) -> 0 | N8: 0 | O8: 0 | P8: =(N8&O8) -> 00 | Q8: =VLOOKUP(P8,'Tableau coefficient '!$A$3:$B$1004,2,FALSE) -> 0 | R8: 0 | S8: 0 | T8: =(R8&S8) -> 00 | U8: =VLOOKUP(T8,'Tableau coefficient '!$A$3:$B$1004,2,FALSE) -> 0 | V8: 0 | W8: 0 | X8: =(V8&W8) -> 00 | Y8: =(VLOOKUP(X8,'Tableau coefficient '!$A$3:$B$1004,2,FALSE))*2 -> 0 | Z8: 0 | AA8: 0 | AB8: =(Z8&AA8) -> 00 | AC8: =(VLOOKUP(AB8,'Tableau coefficient '!$A$3:$B$1004,2,FALSE))*2 -> 0 | AD8: 0 | AE8: 0 | AF8: =(AD8&AE8) -> 00 | AG8: =VLOOKUP(AF8,'Tableau coefficient '!$A$3:$B$1004,2,FALSE) -> 0 | AH8: 0 | AI8: 0 | AJ8: =(AH8&AI8) -> 00 | AK8: =VLOOKUP(AJ8,'Tableau coefficient '!$A$3:$B$1004,2,FALSE) -> 0 | AL8: 0 | AM8: 0 | AN8: =(AL8&AM8) -> 00 | AO8: =VLOOKUP(AN8,'Tableau coefficient '!$A$3:$B$1004,2,FALSE) -> 0 | AP8: J | AQ8: 15 | AR8: =(AP8&AQ8) -> J15 | AS8: =VLOOKUP(AR8,'Tableau coefficient '!$A$3:$B$1004,2,FALSE) -> 64 | AT8: 0 | AU8: 0 | AV8: =(AT8&AU8) -> 00 | AW8: =VLOOKUP(AV8,'Tableau coefficient '!$A$3:$B$1004,2,FALSE) -> 0 | AX8: J | AY8: 8 | AZ8: =(AX8&AY8) -> J8 | BA8: =VLOOKUP(AZ8,'Tableau coefficient '!$A$3:$B$1004,2,FALSE) -> 80 | BB8: J | BC8: 17 | BD8: =(BB8&BC8) -> J17 | BE8: =(VLOOKUP(BD8,'Tableau coefficient '!$A$3:$B$1004,2,FALSE))*2 -> 126 | BF8: 0 | BG8: 0 | BH8: =(BF8&BG8) -> 00 | BI8: =VLOOKUP(BH8,'Tableau coefficient '!$A$3:$B$1004,2,FALSE) -> 0 | BJ8: 0 | BK8: 0 | BL8: =(BJ8&BK8) -> 00 | BM8: =VLOOKUP(BL8,'Tableau coefficient '!$A$3:$B$1004,2,FALSE) -> 0 | BN8: =SUM(M8,I8,Q8,U8,Y8,AC8,AG8,AO8,AS8,BA8,BE8,BI8,BM8) -> 270 | BO8: =RANK(BN8,$BN$4:$BN$446,0) -> 193
A9: PICARD | B9: Lilian | C9: M | D9: MPO 1 | E9: AS TAMARII PUNARUU TRIATHLON | F9: 0 | G9: 0 | H9: =(F9&G9) -> 00 | I9: =VLOOKUP(H9,'Tableau coefficient '!$A$3:$B$1004,2,FALSE) -> 0 | J9: 0 | K9: 0 | L9: =(J9&K9) -> 00 | M9: =VLOOKUP(L9,'Tableau coefficient '!$A$3:$B$1004,2,FALSE) -> 0 | N9: 0 | O9: 0 | P9: =(N9&O9) -> 00 | Q9: =VLOOKUP(P9,'Tableau coefficient '!$A$3:$B$1004,2,FALSE) -> 0 | R9: 0 | S9: 0 | T9: =(R9&S9) -> 00 | U9: =VLOOKUP(T9,'Tableau coefficient '!$A$3:$B$1004,2,FALSE) -> 0 | V9: 0 | W9: 0 | X9: =(V9&W9) -> 00 | Y9: =(VLOOKUP(X9,'Tableau coefficient '!$A$3:$B$1004,2,FALSE))*2 -> 0 | Z9: 0 | AA9: 0 | AB9: =(Z9&AA9) -> 00 | AC9: =(VLOOKUP(AB9,'Tableau coefficient '!$A$3:$B$1004,2,FALSE))*2 -> 0 | AD9: 0 | AE9: 0 | AF9: =(AD9&AE9) -> 00 | AG9: =VLOOKUP(AF9,'Tableau coefficient '!$A$3:$B$1004,2,FALSE) -> 0 | AH9: 0 | AI9: 0 | AJ9: =(AH9&AI9) -> 00 | AK9: =VLOOKUP(AJ9,'Tableau coefficient '!$A$3:$B$1004,2,FALSE) -> 0 | AL9: 0 | AM9: 0 | AN9: =(AL9&AM9) -> 00 | AO9: =VLOOKUP(AN9,'Tableau coefficient '!$A$3:$B$1004,2,FALSE) -> 0 | AP9: 0 | AQ9: 0 | AR9: =(AP9&AQ9) -> 00 | AS9: =VLOOKUP(AR9,'Tableau coefficient '!$A$3:$B$1004,2,FALSE) -> 0 | AT9: 0 | AU9: 0 | AV9: =(AT9&AU9) -> 00 | AW9: =VLOOKUP(AV9,'Tableau coefficient '!$A$3:$B$1004,2,FALSE) -> 0 | AX9: 0 | AY9: 0 | AZ9: =(AX9&AY9) -> 00 | BA9: =VLOOKUP(AZ9,'Tableau coefficient '!$A$3:$B$1004,2,FALSE) -> 0 | BB9: J | BC9: 19 | BD9: =(BB9&BC9) -> J19 | BE9: =(VLOOKUP(BD9,'Tableau coefficient '!$A$3:$B$1004,2,FALSE))*2 -> 124 | BF9: 0 | BG9: 0 | BH9: =(BF9&BG9) -> 00 | BI9: =VLOOKUP(BH9,'Tableau coefficient '!$A$3:$B$1004,2,FALSE) -> 0 | BJ9: 0 | BK9: 0 | BL9: =(BJ9&BK9) -> 00 | BM9: =VLOOKUP(BL9,'Tableau coefficient '!$A$3:$B$1004,2,FALSE) -> 0 | BN9: =SUM(M9,I9,Q9,U9,Y9,AC9,AG9,AO9,AS9,BA9,BE9,BI9,BM9) -> 124 | BO9: =RANK(BN9,$BN$4:$BN$446,0) -> 266
A10: POULAIN | B10: Toakai | C10: M | D10: MPO 2 | E10: MARARA TRI | F10: 0 | G10: 0 | H10: =(F10&G10) -> 00 | I10: =VLOOKUP(H10,'Tableau coefficient '!$A$3:$B$1004,2,FALSE) -> 0 | J10: 0 | K10: 0 | L10: =(J10&K10) -> 00 | M10: =VLOOKUP(L10,'Tableau coefficient '!$A$3:$B$1004,2,FALSE) -> 0 | N10: 0 | O10: 0 | P10: =(N10&O10) -> 00 | Q10: =VLOOKUP(P10,'Tableau coefficient '!$A$3:$B$1004,2,FALSE) -> 0 | R10: 0 | S10: 0 | T10: =(R10&S10) -> 00 | U10: =VLOOKUP(T10,'Tableau coefficient '!$A$3:$B$1004,2,FALSE) -> 0 | V10: 0 | W10: 0 | X10: =(V10&W10) -> 00 | Y10: =(VLOOKUP(X10,'Tableau coefficient '!$A$3:$B$1004,2,FALSE))*2 -> 0 | Z10: 0 | AA10: 0 | AB10: =(Z10&AA10) -> 00 | AC10: =(VLOOKUP(AB10,'Tableau coefficient '!$A$3:$B$1004,2,FALSE))*2 -> 0 | AD10: 0 | AE10: 0 | AF10: =(AD10&AE10) -> 00 | AG10: =VLOOKUP(AF10,'Tableau coefficient '!$A$3:$B$1004,2,FALSE) -> 0 | AH10: 0 | AI10: 0 | AJ10: =(AH10&AI10) -> 00 | AK10: =VLOOKUP(AJ10,'Tableau coefficient '!$A$3:$B$1004,2,FALSE) -> 0 | AL10: 0 | AM10: 0 | AN10: =(AL10&AM10) -> 00 | AO10: =VLOOKUP(AN10,'Tableau coefficient '!$A$3:$B$1004,2,FALSE) -> 0 | AP10: 0 | AQ10: 0 | AR10: =(AP10&AQ10) -> 00 | AS10: =VLOOKUP(AR10,'Tableau coefficient '!$A$3:$B$1004,2,FALSE) -> 0 | AT10: 0 | AU10: 0 | AV10: =(AT10&AU10) -> 00 | AW10: =VLOOKUP(AV10,'Tableau coefficient '!$A$3:$B$1004,2,FALSE) -> 0 | AX10: J | AY10: 7 | AZ10: =(AX10&AY10) -> J7 | BA10: =VLOOKUP(AZ10,'Tableau coefficient '!$A$3:$B$1004,2,FALSE) -> 85 | BB10: 0 | BC10: 0 | BD10: =(BB10&BC10) -> 00 | BE10: =(VLOOKUP(BD10,'Tableau coefficient '!$A$3:$B$1004,2,FALSE))*2 -> 0 | BF10: 0 | BG10: 0 | BH10: =(BF10&BG10) -> 00 | BI10: =VLOOKUP(BH10,'Tableau coefficient '!$A$3:$B$1004,2,FALSE) -> 0 | BJ10: 0 | BK10: 0 | BL10: =(BJ10&BK10) -> 00 | BM10: =VLOOKUP(BL10,'Tableau coefficient '!$A$3:$B$1004,2,FALSE) -> 0 | BN10: =SUM(M10,I10,Q10,U10,Y10,AC10,AG10,AO10,AS10,BA10,BE10,BI10,BM10) -> 85 | BO10: =RANK(BN10,$BN$4:$BN$446,0) -> 276
A11: FOUCAULD | B11: Nicolas | C11: M | D11: MPO 1 | E11: FEI PI TRIATHLON | F11: 0 | G11: 0 | H11: =(F11&G11) -> 00 | I11: =VLOOKUP(H11,'Tableau coefficient '!$A$3:$B$1004,2,FALSE) -> 0 | J11: 0 | K11: 0 | L11: =(J11&K11) -> 00 | M11: =VLOOKUP(L11,'Tableau coefficient '!$A$3:$B$1004,2,FALSE) -> 0 | N11: 0 | O11: 0 | P11: =(N11&O11) -> 00 | Q11: =VLOOKUP(P11,'Tableau coefficient '!$A$3:$B$1004,2,FALSE) -> 0 | R11: 0 | S11: 0 | T11: =(R11&S11) -> 00 | U11: =VLOOKUP(T11,'Tableau coefficient '!$A$3:$B$1004,2,FALSE) -> 0 | V11: 0 | W11: 0 | X11: =(V11&W11) -> 00 | Y11: =(VLOOKUP(X11,'Tableau coefficient '!$A$3:$B$1004,2,FALSE))*2 -> 0 | Z11: 0 | AA11: 0 | AB11: =(Z11&AA11) -> 00 | AC11: =(VLOOKUP(AB11,'Tableau coefficient '!$A$3:$B$1004,2,FALSE))*2 -> 0 | AD11: 0 | AE11: 0 | AF11: =(AD11&AE11) -> 00 | AG11: =VLOOKUP(AF11,'Tableau coefficient '!$A$3:$B$1004,2,FALSE) -> 0 | AH11: 0 | AI11: 0 | AJ11: =(AH11&AI11) -> 00 | AK11: =VLOOKUP(AJ11,'Tableau coefficient '!$A$3:$B$1004,2,FALSE) -> 0 | AL11: 0 | AM11: 0 | AN11: =(AL11&AM11) -> 00 | AO11: =VLOOKUP(AN11,'Tableau coefficient '!$A$3:$B$1004,2,FALSE) -> 0 | AP11: 0 | AQ11: 0 | AR11: =(AP11&AQ11) -> 00 | AS11: =VLOOKUP(AR11,'Tableau coefficient '!$A$3:$B$1004,2,FALSE) -> 0 | AT11: 0 | AU11: 0 | AV11: =(AT11&AU11) -> 00 | AW11: =VLOOKUP(AV11,'Tableau coefficient '!$A$3:$B$1004,2,FALSE) -> 0 | AX11: 0 | AY11: 0 | AZ11: =(AX11&AY11) -> 00 | BA11: =VLOOKUP(AZ11,'Tableau coefficient '!$A$3:$B$1004,2,FALSE) -> 0 | BB11: J | BC11: 16 | BD11: =(BB11&BC11) -> J16 | BE11: =(VLOOKUP(BD11,'Tableau coefficient '!$A$3:$B$1004,2,FALSE))*2 -> 127 | BF11: 0 | BG11: 0 | BH11: =(BF11&BG11) -> 00 | BI11: =VLOOKUP(BH11,'Tableau coefficient '!$A$3:$B$1004,2,FALSE) -> 0 | BJ11: 0 | BK11: 0 | BL11: =(BJ11&BK11) -> 00 | BM11: =VLOOKUP(BL11,'Tableau coefficient '!$A$3:$B$1004,2,FALSE) -> 0 | BN11: =SUM(M11,I11,Q11,U11,Y11,AC11,AG11,AO11,AS11,BA11,BE11,BI11,BM11) -> 127 | BO11: =RANK(BN11,$BN$4:$BN$446,0) -> 264
A12: MIKOU | B12: Maia | C12: F | D12: MPO 2 | E12: KONA TRI TAHITI | F12: 0 | G12: 0 | H12: =(F12&G12) -> 00 | I12: =VLOOKUP(H12,'Tableau coefficient '!$A$3:$B$1004,2,FALSE) -> 0 | J12: 0 | K12: 0 | L12: =(J12&K12) -> 00 | M12: =VLOOKUP(L12,'Tableau coefficient '!$A$3:$B$1004,2,FALSE) -> 0 | N12: 0 | O12: 0 | P12: =(N12&O12) -> 00 | Q12: =VLOOKUP(P12,'Tableau coefficient '!$A$3:$B$1004,2,FALSE) -> 0 | R12: 0 | S12: 0 | T12: =(R12&S12) -> 00 | U12: =VLOOKUP(T12,'Tableau coefficient '!$A$3:$B$1004,2,FALSE) -> 0 | V12: 0 | W12: 0 | X12: =(V12&W12) -> 00 | Y12: =(VLOOKUP(X12,'Tableau coefficient '!$A$3:$B$1004,2,FALSE))*2 -> 0 | Z12: 0 | AA12: 0 | AB12: =(Z12&AA12) -> 00 | AC12: =(VLOOKUP(AB12,'Tableau coefficient '!$A$3:$B$1004,2,FALSE))*2 -> 0 | AD12: J | AE12: 15 | AF12: =(AD12&AE12) -> J15 | AG12: =VLOOKUP(AF12,'Tableau coefficient '!$A$3:$B$1004,2,FALSE) -> 64 | AH12: 0 | AI12: 0 | AJ12: =(AH12&AI12) -> 00 | AK12: =VLOOKUP(AJ12,'Tableau coefficient '!$A$3:$B$1004,2,FALSE) -> 0 | AL12: 0 | AM12: 0 | AN12: =(AL12&AM12) -> 00 | AO12: =VLOOKUP(AN12,'Tableau coefficient '!$A$3:$B$1004,2,FALSE) -> 0 | AP12: 0 | AQ12: 0 | AR12: =(AP12&AQ12) -> 00 | AS12: =VLOOKUP(AR12,'Tableau coefficient '!$A$3:$B$1004,2,FALSE) -> 0 | AT12: 0 | AU12: 0 | AV12: =(AT12&AU12) -> 00 | AW12: =VLOOKUP(AV12,'Tableau coefficient '!$A$3:$B$1004,2,FALSE) -> 0 | AX12: J | AY12: 10 | AZ12: =(AX12&AY12) -> J10 | BA12: =VLOOKUP(AZ12,'Tableau coefficient '!$A$3:$B$1004,2,FALSE) -> 72.5 | BB12: J | BC12: 18 | BD12: =(BB12&BC12) -> J18 | BE12: =(VLOOKUP(BD12,'Tableau coefficient '!$A$3:$B$1004,2,FALSE))*2 -> 125 | BF12: 0 | BG12: 0 | BH12: =(BF12&BG12) -> 00 | BI12: =VLOOKUP(BH12,'Tableau coefficient '!$A$3:$B$1004,2,FALSE) -> 0 | BJ12: 0 | BK12: 0 | BL12: =(BJ12&BK12) -> 00 | BM12: =VLOOKUP(BL12,'Tableau coefficient '!$A$3:$B$1004,2,FALSE) -> 0 | BN12: =SUM(M12,I12,Q12,U12,Y12,AC12,AG12,AO12,AS12,BA12,BE12,BI12,BM12) -> 261.5 | BO12: =RANK(BN12,$BN$4:$BN$446,0) -> 198
A13: TENIARAHI | B13: Ravahau | C13: F | D13: MPO 1 | E13: VSOP MOZTEAM | F13: 0 | G13: 0 | H13: =(F13&G13) -> 00 | I13: =VLOOKUP(H13,'Tableau coefficient '!$A$3:$B$1004,2,FALSE) -> 0 | J13: 0 | K13: 0 | L13: =(J13&K13) -> 00 | M13: =VLOOKUP(L13,'Tableau coefficient '!$A$3:$B$1004,2,FALSE) -> 0 | N13: 0 | O13: 0 | P13: =(N13&O13) -> 00 | Q13: =VLOOKUP(P13,'Tableau coefficient '!$A$3:$B$1004,2,FALSE) -> 0 | R13: 0 | S13: 0 | T13: =(R13&S13) -> 00 | U13: =VLOOKUP(T13,'Tableau coefficient '!$A$3:$B$1004,2,FALSE) -> 0 | V13: 0 | W13: 0 | X13: =(V13&W13) -> 00 | Y13: =(VLOOKUP(X13,'Tableau coefficient '!$A$3:$B$1004,2,FALSE))*2 -> 0 | Z13: 0 | AA13: 0 | AB13: =(Z13&AA13) -> 00 | AC13: =(VLOOKUP(AB13,'Tableau coefficient '!$A$3:$B$1004,2,FALSE))*2 -> 0 | AD13: J | AE13: 17 | AF13: =(AD13&AE13) -> J17 | AG13: =VLOOKUP(AF13,'Tableau coefficient '!$A$3:$B$1004,2,FALSE) -> 63 | AH13: 0 | AI13: 0 | AJ13: =(AH13&AI13) -> 00 | AK13: =VLOOKUP(AJ13,'Tableau coefficient '!$A$3:$B$1004,2,FALSE) -> 0 | AL13: 0 | AM13: 0 | AN13: =(AL13&AM13) -> 00 | AO13: =VLOOKUP(AN13,'Tableau coefficient '!$A$3:$B$1004,2,FALSE) -> 0 | AP13: 0 | AQ13: 0 | AR13: =(AP13&AQ13) -> 00 | AS13: =VLOOKUP(AR13,'Tableau coefficient '!$A$3:$B$1004,2,FALSE) -> 0 | AT13: 0 | AU13: 0 | AV13: =(AT13&AU13) -> 00 | AW13: =VLOOKUP(AV13,'Tableau coefficient '!$A$3:$B$1004,2,FALSE) -> 0 | AX13: J | AY13: 12 | AZ13: =(AX13&AY13) -> J12 | BA13: =VLOOKUP(AZ13,'Tableau coefficient '!$A$3:$B$1004,2,FALSE) -> 67.5 | BB13: 0 | BC13: 0 | BD13: =(BB13&BC13) -> 00 | BE13: =(VLOOKUP(BD13,'Tableau coefficient '!$A$3:$B$1004,2,FALSE))*2 -> 0 | BF13: 0 | BG13: 0 | BH13: =(BF13&BG13) -> 00 | BI13: =VLOOKUP(BH13,'Tableau coefficient '!$A$3:$B$1004,2,FALSE) -> 0 | BJ13: 0 | BK13: 0 | BL13: =(BJ13&BK13) -> 00 | BM13: =VLOOKUP(BL13,'Tableau coefficient '!$A$3:$B$1004,2,FALSE) -> 0 | BN13: =SUM(M13,I13,Q13,U13,Y13,AC13,AG13,AO13,AS13,BA13,BE13,BI13,BM13) -> 130.5 | BO13: =RANK(BN13,$BN$4:$BN$446,0) -> 261
A14: BOURDELON | B14: Alixia | C14: F | D14: MPO 1 | E14: KONA TRI TAHITI | F14: 0 | G14: 0 | H14: =(F14&G14) -> 00 | I14: =VLOOKUP(H14,'Tableau coefficient '!$A$3:$B$1004,2,FALSE) -> 0 | J14: 0 | K14: 0 | L14: =(J14&K14) -> 00 | M14: =VLOOKUP(L14,'Tableau coefficient '!$A$3:$B$1004,2,FALSE) -> 0 | N14: 0 | O14: 0 | P14: =(N14&O14) -> 00 | Q14: =VLOOKUP(P14,'Tableau coefficient '!$A$3:$B$1004,2,FALSE) -> 0 | R14: 0 | S14: 0 | T14: =(R14&S14) -> 00 | U14: =VLOOKUP(T14,'Tableau coefficient '!$A$3:$B$1004,2,FALSE) -> 0 | V14: 0 | W14: 0 | X14: =(V14&W14) -> 00 | Y14: =(VLOOKUP(X14,'Tableau coefficient '!$A$3:$B$1004,2,FALSE))*2 -> 0 | Z14: 0 | AA14: 0 | AB14: =(Z14&AA14) -> 00 | AC14: =(VLOOKUP(AB14,'Tableau coefficient '!$A$3:$B$1004,2,FALSE))*2 -> 0 | AD14: J | AE14: 19 | AF14: =(AD14&AE14) -> J19 | AG14: =VLOOKUP(AF14,'Tableau coefficient '!$A$3:$B$1004,2,FALSE) -> 62 | AH14: 0 | AI14: 0 | AJ14: =(AH14&AI14) -> 00 | AK14: =VLOOKUP(AJ14,'Tableau coefficient '!$A$3:$B$1004,2,FALSE) -> 0 | AL14: 0 | AM14: 0 | AN14: =(AL14&AM14) -> 00 | AO14: =VLOOKUP(AN14,'Tableau coefficient '!$A$3:$B$1004,2,FALSE) -> 0 | AP14: J | AQ14: 18 | AR14: =(AP14&AQ14) -> J18 | AS14: =VLOOKUP(AR14,'Tableau coefficient '!$A$3:$B$1004,2,FALSE) -> 62.5 | AT14: 0 | AU14: 0 | AV14: =(AT14&AU14) -> 00 | AW14: =VLOOKUP(AV14,'Tableau coefficient '!$A$3:$B$1004,2,FALSE) -> 0 | AX14: 0 | AY14: 0 | AZ14: =(AX14&AY14) -> 00 | BA14: =VLOOKUP(AZ14,'Tableau coefficient '!$A$3:$B$1004,2,FALSE) -> 0 | BB14: J | BC14: 22 | BD14: =(BB14&BC14) -> J22 | BE14: =(VLOOKUP(BD14,'Tableau coefficient '!$A$3:$B$1004,2,FALSE))*2 -> 121 | BF14: 0 | BG14: 0 | BH14: =(BF14&BG14) -> 00 | BI14: =VLOOKUP(BH14,'Tableau coefficient '!$A$3:$B$1004,2,FALSE) -> 0 | BJ14: 0 | BK14: 0 | BL14: =(BJ14&BK14) -> 00 | BM14: =VLOOKUP(BL14,'Tableau coefficient '!$A$3:$B$1004,2,FALSE) -> 0 | BN14: =SUM(M14,I14,Q14,U14,Y14,AC14,AG14,AO14,AS14,BA14,BE14,BI14,BM14) -> 245.5 | BO14: =RANK(BN14,$BN$4:$BN$446,0) -> 211
A15: LE GUISQUET | B15: Elea | C15: F | D15: MPO 2 | E15: MARARA TRI | F15: 0 | G15: 0 | H15: =(F15&G15) -> 00 | I15: =VLOOKUP(H15,'Tableau coefficient '!$A$3:$B$1004,2,FALSE) -> 0 | J15: 0 | K15: 0 | L15: =(J15&K15) -> 00 | M15: =VLOOKUP(L15,'Tableau coefficient '!$A$3:$B$1004,2,FALSE) -> 0 | N15: 0 | O15: 0 | P15: =(N15&O15) -> 00 | Q15: =VLOOKUP(P15,'Tableau coefficient '!$A$3:$B$1004,2,FALSE) -> 0 | R15: 0 | S15: 0 | T15: =(R15&S15) -> 00 | U15: =VLOOKUP(T15,'Tableau coefficient '!$A$3:$B$1004,2,FALSE) -> 0 | V15: 0 | W15: 0 | X15: =(V15&W15) -> 00 | Y15: =(VLOOKUP(X15,'Tableau coefficient '!$A$3:$B$1004,2,FALSE))*2 -> 0 | Z15: 0 | AA15: 0 | AB15: =(Z15&AA15) -> 00 | AC15: =(VLOOKUP(AB15,'Tableau coefficient '!$A$3:$B$1004,2,FALSE))*2 -> 0 | AD15: 0 | AE15: 0 | AF15: =(AD15&AE15) -> 00 | AG15: =VLOOKUP(AF15,'Tableau coefficient '!$A$3:$B$1004,2,FALSE) -> 0 | AH15: 0 | AI15: 0 | AJ15: =(AH15&AI15) -> 00 | AK15: =VLOOKUP(AJ15,'Tableau coefficient '!$A$3:$B$1004,2,FALSE) -> 0 | AL15: 0 | AM15: 0 | AN15: =(AL15&AM15) -> 00 | AO15: =VLOOKUP(AN15,'Tableau coefficient '!$A$3:$B$1004,2,FALSE) -> 0 | AP15: J | AQ15: 17 | AR15: =(AP15&AQ15) -> J17 | AS15: =VLOOKUP(AR15,'Tableau coefficient '!$A$3:$B$1004,2,FALSE) -> 63 | AT15: 0 | AU15: 0 | AV15: =(AT15&AU15) -> 00 | AW15: =VLOOKUP(AV15,'Tableau coefficient '!$A$3:$B$1004,2,FALSE) -> 0 | AX15: 0 | AY15: 0 | AZ15: =(AX15&AY15) -> 00 | BA15: =VLOOKUP(AZ15,'Tableau coefficient '!$A$3:$B$1004,2,FALSE) -> 0 | BB15: J | BC15: 20 | BD15: =(BB15&BC15) -> J20 | BE15: =(VLOOKUP(BD15,'Tableau coefficient '!$A$3:$B$1004,2,FALSE))*2 -> 123 | BF15: 0 | BG15: 0 | BH15: =(BF15&BG15) -> 00 | BI15: =VLOOKUP(BH15,'Tableau coefficient '!$A$3:$B$1004,2,FALSE) -> 0 | BJ15: 0 | BK15: 0 | BL15: =(BJ15&BK15) -> 00 | BM15: =VLOOKUP(BL15,'Tableau coefficient '!$A$3:$B$1004,2,FALSE) -> 0 | BN15: =SUM(M15,I15,Q15,U15,Y15,AC15,AG15,AO15,AS15,BA15,BE15,BI15,BM15) -> 186 | BO15: =RANK(BN15,$BN$4:$BN$446,0) -> 236
A16: GUYOT | B16: Shane | C16: M | D16: PO 2 | E16: CERCLE DES NAGEURS DE POLYNESIE | F16: 0 | G16: 0 | H16: =(F16&G16) -> 00 | I16: =VLOOKUP(H16,'Tableau coefficient '!$A$3:$B$1004,2,FALSE) -> 0 | J16: 0 | K16: 0 | L16: =(J16&K16) -> 00 | M16: =VLOOKUP(L16,'Tableau coefficient '!$A$3:$B$1004,2,FALSE) -> 0 | N16: 0 | O16: 0 | P16: =(N16&O16) -> 00 | Q16: =VLOOKUP(P16,'Tableau coefficient '!$A$3:$B$1004,2,FALSE) -> 0 | R16: 0 | S16: 0 | T16: =(R16&S16) -> 00 | U16: =VLOOKUP(T16,'Tableau coefficient '!$A$3:$B$1004,2,FALSE) -> 0 | V16: 0 | W16: 0 | X16: =(V16&W16) -> 00 | Y16: =(VLOOKUP(X16,'Tableau coefficient '!$A$3:$B$1004,2,FALSE))*2 -> 0 | Z16: 0 | AA16: 0 | AB16: =(Z16&AA16) -> 00 | AC16: =(VLOOKUP(AB16,'Tableau coefficient '!$A$3:$B$1004,2,FALSE))*2 -> 0 | AD16: 0 | AE16: 0 | AF16: =(AD16&AE16) -> 00 | AG16: =VLOOKUP(AF16,'Tableau coefficient '!$A$3:$B$1004,2,FALSE) -> 0 | AH16: 0 | AI16: 0 | AJ16: =(AH16&AI16) -> 00 | AK16: =VLOOKUP(AJ16,'Tableau coefficient '!$A$3:$B$1004,2,FALSE) -> 0 | AL16: 0 | AM16: 0 | AN16: =(AL16&AM16) -> 00 | AO16: =VLOOKUP(AN16,'Tableau coefficient '!$A$3:$B$1004,2,FALSE) -> 0 | AP16: 0 | AQ16: 0 | AR16: =(AP16&AQ16) -> 00 | AS16: =VLOOKUP(AR16,'Tableau coefficient '!$A$3:$B$1004,2,FALSE) -> 0 | AT16: 0 | AU16: 0 | AV16: =(AT16&AU16) -> 00 | AW16: =VLOOKUP(AV16,'Tableau coefficient '!$A$3:$B$1004,2,FALSE) -> 0 | AX16: J | AY16: 26 | AZ16: =(AX16&AY16) -> J26 | BA16: =VLOOKUP(AZ16,'Tableau coefficient '!$A$3:$B$1004,2,FALSE) -> 58.5 | BB16: J | BC16: 20 | BD16: =(BB16&BC16) -> J20 | BE16: =(VLOOKUP(BD16,'Tableau coefficient '!$A$3:$B$1004,2,FALSE))*2 -> 123 | BF16: 0 | BG16: 0 | BH16: =(BF16&BG16) -> 00 | BI16: =VLOOKUP(BH16,'Tableau coefficient '!$A$3:$B$1004,2,FALSE) -> 0 | BJ16: 0 | BK16: 0 | BL16: =(BJ16&BK16) -> 00 | BM16: =VLOOKUP(BL16,'Tableau coefficient '!$A$3:$B$1004,2,FALSE) -> 0 | BN16: =SUM(M16,I16,Q16,U16,Y16,AC16,AG16,AO16,AS16,BA16,BE16,BI16,BM16) -> 181.5 | BO16: =RANK(BN16,$BN$4:$BN$446,0) -> 239
A17: CHAN UHRIG | B17: Mahainui | C17: M | D17: PO 1 | E17: KONA TRI TAHITI | F17: 0 | G17: 0 | H17: =(F17&G17) -> 00 | I17: =VLOOKUP(H17,'Tableau coefficient '!$A$3:$B$1004,2,FALSE) -> 0 | J17: 0 | K17: 0 | L17: =(J17&K17) -> 00 | M17: =VLOOKUP(L17,'Tableau coefficient '!$A$3:$B$1004,2,FALSE) -> 0 | N17: 0 | O17: 0 | P17: =(N17&O17) -> 00 | Q17: =VLOOKUP(P17,'Tableau coefficient '!$A$3:$B$1004,2,FALSE) -> 0 | R17: 0 | S17: 0 | T17: =(R17&S17) -> 00 | U17: =VLOOKUP(T17,'Tableau coefficient '!$A$3:$B$1004,2,FALSE) -> 0 | V17: 0 | W17: 0 | X17: =(V17&W17) -> 00 | Y17: =(VLOOKUP(X17,'Tableau coefficient '!$A$3:$B$1004,2,FALSE))*2 -> 0 | Z17: 0 | AA17: 0 | AB17: =(Z17&AA17) -> 00 | AC17: =(VLOOKUP(AB17,'Tableau coefficient '!$A$3:$B$1004,2,FALSE))*2 -> 0 | AD17: 0 | AE17: 0 | AF17: =(AD17&AE17) -> 00 | AG17: =VLOOKUP(AF17,'Tableau coefficient '!$A$3:$B$1004,2,FALSE) -> 0 | AH17: 0 | AI17: 0 | AJ17: =(AH17&AI17) -> 00 | AK17: =VLOOKUP(AJ17,'Tableau coefficient '!$A$3:$B$1004,2,FALSE) -> 0 | AL17: 0 | AM17: 0 | AN17: =(AL17&AM17) -> 00 | AO17: =VLOOKUP(AN17,'Tableau coefficient '!$A$3:$B$1004,2,FALSE) -> 0 | AP17: J | AQ17: 16 | AR17: =(AP17&AQ17) -> J16 | AS17: =VLOOKUP(AR17,'Tableau coefficient '!$A$3:$B$1004,2,FALSE) -> 63.5 | AT17: 0 | AU17: 0 | AV17: =(AT17&AU17) -> 00 | AW17: =VLOOKUP(AV17,'Tableau coefficient '!$A$3:$B$1004,2,FALSE) -> 0 | AX17: 0 | AY17: 0 | AZ17: =(AX17&AY17) -> 00 | BA17: =VLOOKUP(AZ17,'Tableau coefficient '!$A$3:$B$1004,2,FALSE) -> 0 | BB17: 0 | BC17: 0 | BD17: =(BB17&BC17) -> 00 | BE17: =(VLOOKUP(BD17,'Tableau coefficient '!$A$3:$B$1004,2,FALSE))*2 -> 0 | BF17: 0 | BG17: 0 | BH17: =(BF17&BG17) -> 00 | BI17: =VLOOKUP(BH17,'Tableau coefficient '!$A$3:$B$1004,2,FALSE) -> 0 | BJ17: 0 | BK17: 0 | BL17: =(BJ17&BK17) -> 00 | BM17: =VLOOKUP(BL17,'Tableau coefficient '!$A$3:$B$1004,2,FALSE) -> 0 | BN17: =SUM(M17,I17,Q17,U17,Y17,AC17,AG17,AO17,AS17,BA17,BE17,BI17,BM17) -> 63.5 | BO17: =RANK(BN17,$BN$4:$BN$446,0) -> 288
A18: RICHMOND | B18: Nautai | C18: M | D18: PO 1 | E18: MARARA TRI | F18: 0 | G18: 0 | H18: =(F18&G18) -> 00 | I18: =VLOOKUP(H18,'Tableau coefficient '!$A$3:$B$1004,2,FALSE) -> 0 | J18: 0 | K18: 0 | L18: =(J18&K18) -> 00 | M18: =VLOOKUP(L18,'Tableau coefficient '!$A$3:$B$1004,2,FALSE) -> 0 | N18: 0 | O18: 0 | P18: =(N18&O18) -> 00 | Q18: =VLOOKUP(P18,'Tableau coefficient '!$A$3:$B$1004,2,FALSE) -> 0 | R18: 0 | S18: 0 | T18: =(R18&S18) -> 00 | U18: =VLOOKUP(T18,'Tableau coefficient '!$A$3:$B$1004,2,FALSE) -> 0 | V18: 0 | W18: 0 | X18: =(V18&W18) -> 00 | Y18: =(VLOOKUP(X18,'Tableau coefficient '!$A$3:$B$1004,2,FALSE))*2 -> 0 | Z18: 0 | AA18: 0 | AB18: =(Z18&AA18) -> 00 | AC18: =(VLOOKUP(AB18,'Tableau coefficient '!$A$3:$B$1004,2,FALSE))*2 -> 0 | AD18: 0 | AE18: 0 | AF18: =(AD18&AE18) -> 00 | AG18: =VLOOKUP(AF18,'Tableau coefficient '!$A$3:$B$1004,2,FALSE) -> 0 | AH18: 0 | AI18: 0 | AJ18: =(AH18&AI18) -> 00 | AK18: =VLOOKUP(AJ18,'Tableau coefficient '!$A$3:$B$1004,2,FALSE) -> 0 | AL18: 0 | AM18: 0 | AN18: =(AL18&AM18) -> 00 | AO18: =VLOOKUP(AN18,'Tableau coefficient '!$A$3:$B$1004,2,FALSE) -> 0 | AP18: J | AQ18: 9 | AR18: =(AP18&AQ18) -> J9 | AS18: =VLOOKUP(AR18,'Tableau coefficient '!$A$3:$B$1004,2,FALSE) -> 75 | AT18: 0 | AU18: 0 | AV18: =(AT18&AU18) -> 00 | AW18: =VLOOKUP(AV18,'Tableau coefficient '!$A$3:$B$1004,2,FALSE) -> 0 | AX18: 0 | AY18: 0 | AZ18: =(AX18&AY18) -> 00 | BA18: =VLOOKUP(AZ18,'Tableau coefficient '!$A$3:$B$1004,2,FALSE) -> 0 | BB18: J | BC18: 10 | BD18: =(BB18&BC18) -> J10 | BE18: =(VLOOKUP(BD18,'Tableau coefficient '!$A$3:$B$1004,2,FALSE))*2 -> 145 | BF18: 0 | BG18: 0 | BH18: =(BF18&BG18) -> 00 | BI18: =VLOOKUP(BH18,'Tableau coefficient '!$A$3:$B$1004,2,FALSE) -> 0 | BJ18: 0 | BK18: 0 | BL18: =(BJ18&BK18) -> 00 | BM18: =VLOOKUP(BL18,'Tableau coefficient '!$A$3:$B$1004,2,FALSE) -> 0 | BN18: =SUM(M18,I18,Q18,U18,Y18,AC18,AG18,AO18,AS18,BA18,BE18,BI18,BM18) -> 220 | BO18: =RANK(BN18,$BN$4:$BN$446,0) -> 215
A19: ANDRE | B19: Tematairau | C19: M | D19: PO 2 | E19: CERCLE DES NAGEURS DE POLYNESIE | F19: J | G19: 21 | H19: =(F19&G19) -> J21 | I19: =VLOOKUP(H19,'Tableau coefficient '!$A$3:$B$1004,2,FALSE) -> 61 | J19: J | K19: 14 | L19: =(J19&K19) -> J14 | M19: =VLOOKUP(L19,'Tableau coefficient '!$A$3:$B$1004,2,FALSE) -> 64.5 | N19: J | O19: 15 | P19: =(N19&O19) -> J15 | Q19: =VLOOKUP(P19,'Tableau coefficient '!$A$3:$B$1004,2,FALSE) -> 64 | R19: J | S19: 27 | T19: =(R19&S19) -> J27 | U19: =VLOOKUP(T19,'Tableau coefficient '!$A$3:$B$1004,2,FALSE) -> 58 | V19: J | W19: 30 | X19: =(V19&W19) -> J30 | Y19: =(VLOOKUP(X19,'Tableau coefficient '!$A$3:$B$1004,2,FALSE))*2 -> 113 | Z19: J | AA19: 17 | AB19: =(Z19&AA19) -> J17 | AC19: =(VLOOKUP(AB19,'Tableau coefficient '!$A$3:$B$1004,2,FALSE))*2 -> 126 | AD19: 0 | AE19: 0 | AF19: =(AD19&AE19) -> 00 | AG19: =VLOOKUP(AF19,'Tableau coefficient '!$A$3:$B$1004,2,FALSE) -> 0 | AH19: 0 | AI19: 0 | AJ19: =(AH19&AI19) -> 00 | AK19: =VLOOKUP(AJ19,'Tableau coefficient '!$A$3:$B$1004,2,FALSE) -> 0 | AL19: 0 | AM19: 0 | AN19: =(AL19&AM19) -> 00 | AO19: =VLOOKUP(AN19,'Tableau coefficient '!$A$3:$B$1004,2,FALSE) -> 0 | AP19: J | AQ19: 22 | AR19: =(AP19&AQ19) -> J22 | AS19: =VLOOKUP(AR19,'Tableau coefficient '!$A$3:$B$1004,2,FALSE) -> 60.5 | AT19: 0 | AU19: 0 | AV19: =(AT19&AU19) -> 00 | AW19: =VLOOKUP(AV19,'Tableau coefficient '!$A$3:$B$1004,2,FALSE) -> 0 | AX19: J | AY19: 31 | AZ19: =(AX19&AY19) -> J31 | BA19: =VLOOKUP(AZ19,'Tableau coefficient '!$A$3:$B$1004,2,FALSE) -> 56 | BB19: 0 | BC19: 0 | BD19: =(BB19&BC19) -> 00 | BE19: =(VLOOKUP(BD19,'Tableau coefficient '!$A$3:$B$1004,2,FALSE))*2 -> 0 | BF19: 0 | BG19: 0 | BH19: =(BF19&BG19) -> 00 | BI19: =VLOOKUP(BH19,'Tableau coefficient '!$A$3:$B$1004,2,FALSE) -> 0 | BJ19: 0 | BK19: 0 | BL19: =(BJ19&BK19) -> 00 | BM19: =VLOOKUP(BL19,'Tableau coefficient '!$A$3:$B$1004,2,FALSE) -> 0 | BN19: =SUM(M19,I19,Q19,U19,Y19,AC19,AG19,AO19,AS19,BA19,BE19,BI19,BM19) -> 603 | BO19: =RANK(BN19,$BN$4:$BN$446,0) -> 99
A20: BOURGNON DE LAYRE | B20: Ferdinand | C20: M | D20: PO 2 | E20: FEI PI TRIATHLON | F20: 0 | G20: 0 | H20: =(F20&G20) -> 00 | I20: =VLOOKUP(H20,'Tableau coefficient '!$A$3:$B$1004,2,FALSE) -> 0 | J20: 0 | K20: 0 | L20: =(J20&K20) -> 00 | M20: =VLOOKUP(L20,'Tableau coefficient '!$A$3:$B$1004,2,FALSE) -> 0 | N20: 0 | O20: 0 | P20: =(N20&O20) -> 00 | Q20: =VLOOKUP(P20,'Tableau coefficient '!$A$3:$B$1004,2,FALSE) -> 0 | R20: J | S20: 9 | T20: =(R20&S20) -> J9 | U20: =VLOOKUP(T20,'Tableau coefficient '!$A$3:$B$1004,2,FALSE) -> 75 | V20: 0 | W20: 0 | X20: =(V20&W20) -> 00 | Y20: =(VLOOKUP(X20,'Tableau coefficient '!$A$3:$B$1004,2,FALSE))*2 -> 0 | Z20: 0 | AA20: 0 | AB20: =(Z20&AA20) -> 00 | AC20: =(VLOOKUP(AB20,'Tableau coefficient '!$A$3:$B$1004,2,FALSE))*2 -> 0 | AD20: 0 | AE20: 0 | AF20: =(AD20&AE20) -> 00 | AG20: =VLOOKUP(AF20,'Tableau coefficient '!$A$3:$B$1004,2,FALSE) -> 0 | AH20: 0 | AI20: 0 | AJ20: =(AH20&AI20) -> 00 | AK20: =VLOOKUP(AJ20,'Tableau coefficient '!$A$3:$B$1004,2,FALSE) -> 0 | AL20: 0 | AM20: 0 | AN20: =(AL20&AM20) -> 00 | AO20: =VLOOKUP(AN20,'Tableau coefficient '!$A$3:$B$1004,2,FALSE) -> 0 | AP20: 0 | AQ20: 0 | AR20: =(AP20&AQ20) -> 00 | AS20: =VLOOKUP(AR20,'Tableau coefficient '!$A$3:$B$1004,2,FALSE) -> 0 | AT20: 0 | AU20: 0 | AV20: =(AT20&AU20) -> 00 | AW20: =VLOOKUP(AV20,'Tableau coefficient '!$A$3:$B$1004,2,FALSE) -> 0 | AX20: 0 | AY20: 0 | AZ20: =(AX20&AY20) -> 00 | BA20: =VLOOKUP(AZ20,'Tableau coefficient '!$A$3:$B$1004,2,FALSE) -> 0 | BB20: 0 | BC20: 0 | BD20: =(BB20&BC20) -> 00 | BE20: =(VLOOKUP(BD20,'Tableau coefficient '!$A$3:$B$1004,2,FALSE))*2 -> 0 | BF20: 0 | BG20: 0 | BH20: =(BF20&BG20) -> 00 | BI20: =VLOOKUP(BH20,'Tableau coefficient '!$A$3:$B$1004,2,FALSE) -> 0 | BJ20: 0 | BK20: 0 | BL20: =(BJ20&BK20) -> 00 | BM20: =VLOOKUP(BL20,'Tableau coefficient '!$A$3:$B$1004,2,FALSE) -> 0 | BN20: =SUM(M20,I20,Q20,U20,Y20,AC20,AG20,AO20,AS20,BA20,BE20,BI20,BM20) -> 75 | BO20: =RANK(BN20,$BN$4:$BN$446,0) -> 281
A21: BOUTY | B21: Emile | C21: M | D21: PO 2 | E21: FEI PI TRIATHLON | F21: 0 | G21: 0 | H21: =(F21&G21) -> 00 | I21: =VLOOKUP(H21,'Tableau coefficient '!$A$3:$B$1004,2,FALSE) -> 0 | J21: J | K21: 6 | L21: =(J21&K21) -> J6 | M21: =VLOOKUP(L21,'Tableau coefficient '!$A$3:$B$1004,2,FALSE) -> 90 | N21: 0 | O21: 0 | P21: =(N21&O21) -> 00 | Q21: =VLOOKUP(P21,'Tableau coefficient '!$A$3:$B$1004,2,FALSE) -> 0 | R21: J | S21: 10 | T21: =(R21&S21) -> J10 | U21: =VLOOKUP(T21,'Tableau coefficient '!$A$3:$B$1004,2,FALSE) -> 72.5 | V21: J | W21: 13 | X21: =(V21&W21) -> J13 | Y21: =(VLOOKUP(X21,'Tableau coefficient '!$A$3:$B$1004,2,FALSE))*2 -> 130 | Z21: 0 | AA21: 0 | AB21: =(Z21&AA21) -> 00 | AC21: =(VLOOKUP(AB21,'Tableau coefficient '!$A$3:$B$1004,2,FALSE))*2 -> 0 | AD21: 0 | AE21: 0 | AF21: =(AD21&AE21) -> 00 | AG21: =VLOOKUP(AF21,'Tableau coefficient '!$A$3:$B$1004,2,FALSE) -> 0 | AH21: 0 | AI21: 0 | AJ21: =(AH21&AI21) -> 00 | AK21: =VLOOKUP(AJ21,'Tableau coefficient '!$A$3:$B$1004,2,FALSE) -> 0 | AL21: 0 | AM21: 0 | AN21: =(AL21&AM21) -> 00 | AO21: =VLOOKUP(AN21,'Tableau coefficient '!$A$3:$B$1004,2,FALSE) -> 0 | AP21: 0 | AQ21: 0 | AR21: =(AP21&AQ21) -> 00 | AS21: =VLOOKUP(AR21,'Tableau coefficient '!$A$3:$B$1004,2,FALSE) -> 0 | AT21: 0 | AU21: 0 | AV21: =(AT21&AU21) -> 00 | AW21: =VLOOKUP(AV21,'Tableau coefficient '!$A$3:$B$1004,2,FALSE) -> 0 | AX21: 0 | AY21: 0 | AZ21: =(AX21&AY21) -> 00 | BA21: =VLOOKUP(AZ21,'Tableau coefficient '!$A$3:$B$1004,2,FALSE) -> 0 | BB21: 0 | BC21: 0 | BD21: =(BB21&BC21) -> 00 | BE21: =(VLOOKUP(BD21,'Tableau coefficient '!$A$3:$B$1004,2,FALSE))*2 -> 0 | BF21: 0 | BG21: 0 | BH21: =(BF21&BG21) -> 00 | BI21: =VLOOKUP(BH21,'Tableau coefficient '!$A$3:$B$1004,2,FALSE) -> 0 | BJ21: 0 | BK21: 0 | BL21: =(BJ21&BK21) -> 00 | BM21: =VLOOKUP(BL21,'Tableau coefficient '!$A$3:$B$1004,2,FALSE) -> 0 | BN21: =SUM(M21,I21,Q21,U21,Y21,AC21,AG21,AO21,AS21,BA21,BE21,BI21,BM21) -> 292.5 | BO21: =RANK(BN21,$BN$4:$BN$446,0) -> 184
A22: COVIC | B22: Kenan | C22: M | D22: PO 1 | E22: AS TAMARII PUNARUU TRIATHLON | F22: J | G22: 3 | H22: =(F22&G22) -> J3 | I22: =VLOOKUP(H22,'Tableau coefficient '!$A$3:$B$1004,2,FALSE) -> 110 | J22: J | K22: 3 | L22: =(J22&K22) -> J3 | M22: =VLOOKUP(L22,'Tableau coefficient '!$A$3:$B$1004,2,FALSE) -> 110 | N22: J | O22: 3 | P22: =(N22&O22) -> J3 | Q22: =VLOOKUP(P22,'Tableau coefficient '!$A$3:$B$1004,2,FALSE) -> 110 | R22: J | S22: 2 | T22: =(R22&S22) -> J2 | U22: =VLOOKUP(T22,'Tableau coefficient '!$A$3:$B$1004,2,FALSE) -> 125 | V22: 0 | W22: 0 | X22: =(V22&W22) -> 00 | Y22: =(VLOOKUP(X22,'Tableau coefficient '!$A$3:$B$1004,2,FALSE))*2 -> 0 | Z22: J | AA22: 2 | AB22: =(Z22&AA22) -> J2 | AC22: =(VLOOKUP(AB22,'Tableau coefficient '!$A$3:$B$1004,2,FALSE))*2 -> 250 | AD22: J | AE22: 2 | AF22: =(AD22&AE22) -> J2 | AG22: =VLOOKUP(AF22,'Tableau coefficient '!$A$3:$B$1004,2,FALSE) -> 125 | AH22: 0 | AI22: 0 | AJ22: =(AH22&AI22) -> 00 | AK22: =VLOOKUP(AJ22,'Tableau coefficient '!$A$3:$B$1004,2,FALSE) -> 0 | AL22: 0 | AM22: 0 | AN22: =(AL22&AM22) -> 00 | AO22: =VLOOKUP(AN22,'Tableau coefficient '!$A$3:$B$1004,2,FALSE) -> 0 | AP22: 0 | AQ22: 0 | AR22: =(AP22&AQ22) -> 00 | AS22: =VLOOKUP(AR22,'Tableau coefficient '!$A$3:$B$1004,2,FALSE) -> 0 | AT22: 0 | AU22: 0 | AV22: =(AT22&AU22) -> 00 | AW22: =VLOOKUP(AV22,'Tableau coefficient '!$A$3:$B$1004,2,FALSE) -> 0 | AX22: 0 | AY22: 0 | AZ22: =(AX22&AY22) -> 00 | BA22: =VLOOKUP(AZ22,'Tableau coefficient '!$A$3:$B$1004,2,FALSE) -> 0 | BB22: J | BC22: 6 | BD22: =(BB22&BC22) -> J6 | BE22: =(VLOOKUP(BD22,'Tableau coefficient '!$A$3:$B$1004,2,FALSE))*2 -> 180 | BF22: 0 | BG22: 0 | BH22: =(BF22&BG22) -> 00 | BI22: =VLOOKUP(BH22,'Tableau coefficient '!$A$3:$B$1004,2,FALSE) -> 0 | BJ22: 0 | BK22: 0 | BL22: =(BJ22&BK22) -> 00 | BM22: =VLOOKUP(BL22,'Tableau coefficient '!$A$3:$B$1004,2,FALSE) -> 0 | BN22: =SUM(M22,I22,Q22,U22,Y22,AC22,AG22,AO22,AS22,BA22,BE22,BI22,BM22) -> 1010 | BO22: =RANK(BN22,$BN$4:$BN$446,0) -> 35
A23: DA COL | B23: Clement Moana | C23: M | D23: PO 2 | E23: CERCLE DES NAGEURS DE POLYNESIE | F23: 0 | G23: 0 | H23: =(F23&G23) -> 00 | I23: =VLOOKUP(H23,'Tableau coefficient '!$A$3:$B$1004,2,FALSE) -> 0 | J23: 0 | K23: 0 | L23: =(J23&K23) -> 00 | M23: =VLOOKUP(L23,'Tableau coefficient '!$A$3:$B$1004,2,FALSE) -> 0 | N23: 0 | O23: 0 | P23: =(N23&O23) -> 00 | Q23: =VLOOKUP(P23,'Tableau coefficient '!$A$3:$B$1004,2,FALSE) -> 0 | R23: 0 | S23: 0 | T23: =(R23&S23) -> 00 | U23: =VLOOKUP(T23,'Tableau coefficient '!$A$3:$B$1004,2,FALSE) -> 0 | V23: 0 | W23: 0 | X23: =(V23&W23) -> 00 | Y23: =(VLOOKUP(X23,'Tableau coefficient '!$A$3:$B$1004,2,FALSE))*2 -> 0 | Z23: 0 | AA23: 0 | AB23: =(Z23&AA23) -> 00 | AC23: =(VLOOKUP(AB23,'Tableau coefficient '!$A$3:$B$1004,2,FALSE))*2 -> 0 | AD23: 0 | AE23: 0 | AF23: =(AD23&AE23) -> 00 | AG23: =VLOOKUP(AF23,'Tableau coefficient '!$A$3:$B$1004,2,FALSE) -> 0 | AH23: 0 | AI23: 0 | AJ23: =(AH23&AI23) -> 00 | AK23: =VLOOKUP(AJ23,'Tableau coefficient '!$A$3:$B$1004,2,FALSE) -> 0 | AL23: 0 | AM23: 0 | AN23: =(AL23&AM23) -> 00 | AO23: =VLOOKUP(AN23,'Tableau coefficient '!$A$3:$B$1004,2,FALSE) -> 0 | AP23: 0 | AQ23: 0 | AR23: =(AP23&AQ23) -> 00 | AS23: =VLOOKUP(AR23,'Tableau coefficient '!$A$3:$B$1004,2,FALSE) -> 0 | AT23: 0 | AU23: 0 | AV23: =(AT23&AU23) -> 00 | AW23: =VLOOKUP(AV23,'Tableau coefficient '!$A$3:$B$1004,2,FALSE) -> 0 | AX23: 0 | AY23: 0 | AZ23: =(AX23&AY23) -> 00 | BA23: =VLOOKUP(AZ23,'Tableau coefficient '!$A$3:$B$1004,2,FALSE) -> 0 | BB23: 0 | BC23: 0 | BD23: =(BB23&BC23) -> 00 | BE23: =(VLOOKUP(BD23,'Tableau coefficient '!$A$3:$B$1004,2,FALSE))*2 -> 0 | BF23: 0 | BG23: 0 | BH23: =(BF23&BG23) -> 00 | BI23: =VLOOKUP(BH23,'Tableau coefficient '!$A$3:$B$1004,2,FALSE) -> 0 | BJ23: 0 | BK23: 0 | BL23: =(BJ23&BK23) -> 00 | BM23: =VLOOKUP(BL23,'Tableau coefficient '!$A$3:$B$1004,2,FALSE) -> 0 | BN23: =SUM(M23,I23,Q23,U23,Y23,AC23,AG23,AO23,AS23,BA23,BE23,BI23,BM23) -> 0 | BO23: =RANK(BN23,$BN$4:$BN$446,0) -> 303
A24: DUBOUSQUET | B24: Manotea | C24: M | D24: PO 2 | E24: FEI PI TRIATHLON | F24: J | G24: 28 | H24: =(F24&G24) -> J28 | I24: =VLOOKUP(H24,'Tableau coefficient '!$A$3:$B$1004,2,FALSE) -> 57.5 | J24: J | K24: 25 | L24: =(J24&K24) -> J25 | M24: =VLOOKUP(L24,'Tableau coefficient '!$A$3:$B$1004,2,FALSE) -> 59 | N24: 0 | O24: 0 | P24: =(N24&O24) -> 00 | Q24: =VLOOKUP(P24,'Tableau coefficient '!$A$3:$B$1004,2,FALSE) -> 0 | R24: J | S24: 29 | T24: =(R24&S24) -> J29 | U24: =VLOOKUP(T24,'Tableau coefficient '!$A$3:$B$1004,2,FALSE) -> 57 | V24: 0 | W24: 0 | X24: =(V24&W24) -> 00 | Y24: =(VLOOKUP(X24,'Tableau coefficient '!$A$3:$B$1004,2,FALSE))*2 -> 0 | Z24: 0 | AA24: 0 | AB24: =(Z24&AA24) -> 00 | AC24: =(VLOOKUP(AB24,'Tableau coefficient '!$A$3:$B$1004,2,FALSE))*2 -> 0 | AD24: 0 | AE24: 0 | AF24: =(AD24&AE24) -> 00 | AG24: =VLOOKUP(AF24,'Tableau coefficient '!$A$3:$B$1004,2,FALSE) -> 0 | AH24: 0 | AI24: 0 | AJ24: =(AH24&AI24) -> 00 | AK24: =VLOOKUP(AJ24,'Tableau coefficient '!$A$3:$B$1004,2,FALSE) -> 0 | AL24: 0 | AM24: 0 | AN24: =(AL24&AM24) -> 00 | AO24: =VLOOKUP(AN24,'Tableau coefficient '!$A$3:$B$1004,2,FALSE) -> 0 | AP24: 0 | AQ24: 0 | AR24: =(AP24&AQ24) -> 00 | AS24: =VLOOKUP(AR24,'Tableau coefficient '!$A$3:$B$1004,2,FALSE) -> 0 | AT24: 0 | AU24: 0 | AV24: =(AT24&AU24) -> 00 | AW24: =VLOOKUP(AV24,'Tableau coefficient '!$A$3:$B$1004,2,FALSE) -> 0 | AX24: 0 | AY24: 0 | AZ24: =(AX24&AY24) -> 00 | BA24: =VLOOKUP(AZ24,'Tableau coefficient '!$A$3:$B$1004,2,FALSE) -> 0 | BB24: 0 | BC24: 0 | BD24: =(BB24&BC24) -> 00 | BE24: =(VLOOKUP(BD24,'Tableau coefficient '!$A$3:$B$1004,2,FALSE))*2 -> 0 | BF24: 0 | BG24: 0 | BH24: =(BF24&BG24) -> 00 | BI24: =VLOOKUP(BH24,'Tableau coefficient '!$A$3:$B$1004,2,FALSE) -> 0 | BJ24: 0 | BK24: 0 | BL24: =(BJ24&BK24) -> 00 | BM24: =VLOOKUP(BL24,'Tableau coefficient '!$A$3:$B$1004,2,FALSE) -> 0 | BN24: =SUM(M24,I24,Q24,U24,Y24,AC24,AG24,AO24,AS24,BA24,BE24,BI24,BM24) -> 173.5 | BO24: =RANK(BN24,$BN$4:$BN$446,0) -> 246
A25: GOBRAIT | B25: Bradley | C25: M | D25: PO 2 | E25: AS TAMARII PUNARUU TRIATHLON | F25: J | G25: 27 | H25: =(F25&G25) -> J27 | I25: =VLOOKUP(H25,'Tableau coefficient '!$A$3:$B$1004,2,FALSE) -> 58 | J25: J | K25: 20 | L25: =(J25&K25) -> J20 | M25: =VLOOKUP(L25,'Tableau coefficient '!$A$3:$B$1004,2,FALSE) -> 61.5 | N25: J | O25: 14 | P25: =(N25&O25) -> J14 | Q25: =VLOOKUP(P25,'Tableau coefficient '!$A$3:$B$1004,2,FALSE) -> 64.5 | R25: J | S25: 31 | T25: =(R25&S25) -> J31 | U25: =VLOOKUP(T25,'Tableau coefficient '!$A$3:$B$1004,2,FALSE) -> 56 | V25: J | W25: 28 | X25: =(V25&W25) -> J28 | Y25: =(VLOOKUP(X25,'Tableau coefficient '!$A$3:$B$1004,2,FALSE))*2 -> 115 | Z25: 0 | AA25: 0 | AB25: =(Z25&AA25) -> 00 | AC25: =(VLOOKUP(AB25,'Tableau coefficient '!$A$3:$B$1004,2,FALSE))*2 -> 0 | AD25: 0 | AE25: 0 | AF25: =(AD25&AE25) -> 00 | AH25: 0 | AI25: 0 | AJ25: =(AH25&AI25) -> 00 | AL25: 0 | AM25: 0 | AN25: =(AL25&AM25) -> 00 | AO25: =VLOOKUP(AN25,'Tableau coefficient '!$A$3:$B$1004,2,FALSE) -> 0 | AP25: J | AQ25: 19 | AR25: =(AP25&AQ25) -> J19 | AS25: =VLOOKUP(AR25,'Tableau coefficient '!$A$3:$B$1004,2,FALSE) -> 62 | AT25: 0 | AU25: 0 | AV25: =(AT25&AU25) -> 00 | AX25: J | AY25: 29 | AZ25: =(AX25&AY25) -> J29 | BA25: =VLOOKUP(AZ25,'Tableau coefficient '!$A$3:$B$1004,2,FALSE) -> 57 | BB25: J | BC25: 26 | BD25: =(BB25&BC25) -> J26 | BE25: =(VLOOKUP(BD25,'Tableau coefficient '!$A$3:$B$1004,2,FALSE))*2 -> 117 | BF25: 0 | BG25: 0 | BH25: =(BF25&BG25) -> 00 | BI25: =VLOOKUP(BH25,'Tableau coefficient '!$A$3:$B$1004,2,FALSE) -> 0 | BJ25: 0 | BK25: 0 | BL25: =(BJ25&BK25) -> 00 | BN25: =SUM(M25,I25,Q25,U25,Y25,AC25,AG25,AO25,AS25,BA25,BE25,BI25,BM25) -> 591 | BO25: =RANK(BN25,$BN$4:$BN$446,0) -> 104
A26: HANSSLER | B26: Leo | C26: M | D26: PO 1 | E26: FEI PI TRIATHLON | F26: 0 | G26: 0 | H26: =(F26&G26) -> 00 | J26: 0 | K26: 0 | L26: =(J26&K26) -> 00 | N26: J | O26: 11 | P26: =(N26&O26) -> J11 | Q26: =VLOOKUP(P26,'Tableau coefficient '!$A$3:$B$1004,2,FALSE) -> 70 | R26: J | S26: 12 | T26: =(R26&S26) -> J12 | U26: =VLOOKUP(T26,'Tableau coefficient '!$A$3:$B$1004,2,FALSE) -> 67.5 | V26: J | W26: 7 | X26: =(V26&W26) -> J7 | Y26: =(VLOOKUP(X26,'Tableau coefficient '!$A$3:$B$1004,2,FALSE))*2 -> 170 | Z26: J | AA26: 9 | AB26: =(Z26&AA26) -> J9 | AC26: =(VLOOKUP(AB26,'Tableau coefficient '!$A$3:$B$1004,2,FALSE))*2 -> 150 | AD26: 0 | AE26: 0 | AF26: =(AD26&AE26) -> 00 | AH26: 0 | AI26: 0 | AJ26: =(AH26&AI26) -> 00 | AL26: 0 | AM26: 0 | AN26: =(AL26&AM26) -> 00 | AO26: =VLOOKUP(AN26,'Tableau coefficient '!$A$3:$B$1004,2,FALSE) -> 0 | AP26: 0 | AQ26: 0 | AR26: =(AP26&AQ26) -> 00 | AS26: =VLOOKUP(AR26,'Tableau coefficient '!$A$3:$B$1004,2,FALSE) -> 0 | AT26: 0 | AU26: 0 | AV26: =(AT26&AU26) -> 00 | AX26: 0 | AY26: 0 | AZ26: =(AX26&AY26) -> 00 | BA26: =VLOOKUP(AZ26,'Tableau coefficient '!$A$3:$B$1004,2,FALSE) -> 0 | BB26: 0 | BC26: 0 | BD26: =(BB26&BC26) -> 00 | BE26: =(VLOOKUP(BD26,'Tableau coefficient '!$A$3:$B$1004,2,FALSE))*2 -> 0 | BF26: 0 | BG26: 0 | BH26: =(BF26&BG26) -> 00 | BI26: =VLOOKUP(BH26,'Tableau coefficient '!$A$3:$B$1004,2,FALSE) -> 0 | BJ26: 0 | BK26: 0 | BL26: =(BJ26&BK26) -> 00 | BN26: =SUM(M26,I26,Q26,U26,Y26,AC26,AG26,AO26,AS26,BA26,BE26,BI26,BM26) -> 457.5 | BO26: =RANK(BN26,$BN$4:$BN$446,0) -> 133
A27: IRO | B27: Nuuroa | C27: M | D27: PO 1 | E27: AS TAMARII PUNARUU TRIATHLON | F27: J | G27: 2 | H27: =(F27&G27) -> J2 | I27: =VLOOKUP(H27,'Tableau coefficient '!$A$3:$B$1004,2,FALSE) -> 125 | J27: J | K27: 2 | L27: =(J27&K27) -> J2 | M27: =VLOOKUP(L27,'Tableau coefficient '!$A$3:$B$1004,2,FALSE) -> 125 | N27: J | O27: 2 | P27: =(N27&O27) -> J2 | Q27: =VLOOKUP(P27,'Tableau coefficient '!$A$3:$B$1004,2,FALSE) -> 125 | R27: J | S27: 3 | T27: =(R27&S27) -> J3 | U27: =VLOOKUP(T27,'Tableau coefficient '!$A$3:$B$1004,2,FALSE) -> 110 | V27: J | W27: 2 | X27: =(V27&W27) -> J2 | Y27: =(VLOOKUP(X27,'Tableau coefficient '!$A$3:$B$1004,2,FALSE))*2 -> 250 | Z27: J | AA27: 3 | AB27: =(Z27&AA27) -> J3 | AC27: =(VLOOKUP(AB27,'Tableau coefficient '!$A$3:$B$1004,2,FALSE))*2 -> 220 | AD27: J | AE27: 3 | AF27: =(AD27&AE27) -> J3 | AG27: =VLOOKUP(AF27,'Tableau coefficient '!$A$3:$B$1004,2,FALSE) -> 110 | AH27: 0 | AI27: 0 | AJ27: =(AH27&AI27) -> 00 | AK27: =VLOOKUP(AJ27,'Tableau coefficient '!$A$3:$B$1004,2,FALSE) -> 0 | AL27: 0 | AM27: 0 | AN27: =(AL27&AM27) -> 00 | AO27: =VLOOKUP(AN27,'Tableau coefficient '!$A$3:$B$1004,2,FALSE) -> 0 | AP27: 0 | AQ27: 0 | AR27: =(AP27&AQ27) -> 00 | AS27: =VLOOKUP(AR27,'Tableau coefficient '!$A$3:$B$1004,2,FALSE) -> 0 | AT27: 0 | AU27: 0 | AV27: =(AT27&AU27) -> 00 | AW27: =VLOOKUP(AV27,'Tableau coefficient '!$A$3:$B$1004,2,FALSE) -> 0 | AX27: 0 | AY27: 0 | AZ27: =(AX27&AY27) -> 00 | BA27: =VLOOKUP(AZ27,'Tableau coefficient '!$A$3:$B$1004,2,FALSE) -> 0 | BB27: J | BC27: 2 | BD27: =(BB27&BC27) -> J2 | BE27: =(VLOOKUP(BD27,'Tableau coefficient '!$A$3:$B$1004,2,FALSE))*2 -> 250 | BF27: 0 | BG27: 0 | BH27: =(BF27&BG27) -> 00 | BI27: =VLOOKUP(BH27,'Tableau coefficient '!$A$3:$B$1004,2,FALSE) -> 0 | BJ27: 0 | BK27: 0 | BL27: =(BJ27&BK27) -> 00 | BM27: =VLOOKUP(BL27,'Tableau coefficient '!$A$3:$B$1004,2,FALSE) -> 0 | BN27: =SUM(M27,I27,Q27,U27,Y27,AC27,AG27,AO27,AS27,BA27,BE27,BI27,BM27) -> 1315 | BO27: =RANK(BN27,$BN$4:$BN$446,0) -> 15
A28: MAI | B28: Raitua | C28: M | D28: PO 2 | E28: FEI PI TRIATHLON | F28: 0 | G28: 0 | H28: =(F28&G28) -> 00 | I28: =VLOOKUP(H28,'Tableau coefficient '!$A$3:$B$1004,2,FALSE) -> 0 | J28: J | K28: 8 | L28: =(J28&K28) -> J8 | M28: =VLOOKUP(L28,'Tableau coefficient '!$A$3:$B$1004,2,FALSE) -> 80 | N28: J | O28: 6 | P28: =(N28&O28) -> J6 | Q28: =VLOOKUP(P28,'Tableau coefficient '!$A$3:$B$1004,2,FALSE) -> 90 | R28: 0 | S28: 0 | T28: =(R28&S28) -> 00 | U28: =VLOOKUP(T28,'Tableau coefficient '!$A$3:$B$1004,2,FALSE) -> 0 | V28: J | W28: 12 | X28: =(V28&W28) -> J12 | Y28: =(VLOOKUP(X28,'Tableau coefficient '!$A$3:$B$1004,2,FALSE))*2 -> 135 | Z28: 0 | AA28: 0 | AB28: =(Z28&AA28) -> 00 | AC28: =(VLOOKUP(AB28,'Tableau coefficient '!$A$3:$B$1004,2,FALSE))*2 -> 0 | AD28: 0 | AE28: 0 | AF28: =(AD28&AE28) -> 00 | AG28: =VLOOKUP(AF28,'Tableau coefficient '!$A$3:$B$1004,2,FALSE) -> 0 | AH28: 0 | AI28: 0 | AJ28: =(AH28&AI28) -> 00 | AK28: =VLOOKUP(AJ28,'Tableau coefficient '!$A$3:$B$1004,2,FALSE) -> 0 | AL28: 0 | AM28: 0 | AN28: =(AL28&AM28) -> 00 | AO28: =VLOOKUP(AN28,'Tableau coefficient '!$A$3:$B$1004,2,FALSE) -> 0 | AP28: 0 | AQ28: 0 | AR28: =(AP28&AQ28) -> 00 | AS28: =VLOOKUP(AR28,'Tableau coefficient '!$A$3:$B$1004,2,FALSE) -> 0 | AT28: 0 | AU28: 0 | AV28: =(AT28&AU28) -> 00 | AW28: =VLOOKUP(AV28,'Tableau coefficient '!$A$3:$B$1004,2,FALSE) -> 0 | AX28: 0 | AY28: 0 | AZ28: =(AX28&AY28) -> 00 | BA28: =VLOOKUP(AZ28,'Tableau coefficient '!$A$3:$B$1004,2,FALSE) -> 0 | BB28: 0 | BC28: 0 | BD28: =(BB28&BC28) -> 00 | BE28: =(VLOOKUP(BD28,'Tableau coefficient '!$A$3:$B$1004,2,FALSE))*2 -> 0 | BF28: 0 | BG28: 0 | BH28: =(BF28&BG28) -> 00 | BI28: =VLOOKUP(BH28,'Tableau coefficient '!$A$3:$B$1004,2,FALSE) -> 0 | BJ28: 0 | BK28: 0 | BL28: =(BJ28&BK28) -> 00 | BM28: =VLOOKUP(BL28,'Tableau coefficient '!$A$3:$B$1004,2,FALSE) -> 0 | BN28: =SUM(M28,I28,Q28,U28,Y28,AC28,AG28,AO28,AS28,BA28,BE28,BI28,BM28) -> 305 | BO28: =RANK(BN28,$BN$4:$BN$446,0) -> 180
A29: OHIU | B29: Arava | C29: M | D29: PO 2 | E29: FEI PI TRIATHLON | F29: 0 | G29: 0 | H29: =(F29&G29) -> 00 | I29: =VLOOKUP(H29,'Tableau coefficient '!$A$3:$B$1004,2,FALSE) -> 0 | J29: 0 | K29: 0 | L29: =(J29&K29) -> 00 | M29: =VLOOKUP(L29,'Tableau coefficient '!$A$3:$B$1004,2,FALSE) -> 0 | N29: 0 | O29: 0 | P29: =(N29&O29) -> 00 | Q29: =VLOOKUP(P29,'Tableau coefficient '!$A$3:$B$1004,2,FALSE) -> 0 | R29: 0 | S29: 0 | T29: =(R29&S29) -> 00 | U29: =VLOOKUP(T29,'Tableau coefficient '!$A$3:$B$1004,2,FALSE) -> 0 | V29: 0 | W29: 0 | X29: =(V29&W29) -> 00 | Y29: =(VLOOKUP(X29,'Tableau coefficient '!$A$3:$B$1004,2,FALSE))*2 -> 0 | Z29: 0 | AA29: 0 | AB29: =(Z29&AA29) -> 00 | AC29: =(VLOOKUP(AB29,'Tableau coefficient '!$A$3:$B$1004,2,FALSE))*2 -> 0 | AD29: 0 | AE29: 0 | AF29: =(AD29&AE29) -> 00 | AG29: =VLOOKUP(AF29,'Tableau coefficient '!$A$3:$B$1004,2,FALSE) -> 0 | AH29: 0 | AI29: 0 | AJ29: =(AH29&AI29) -> 00 | AK29: =VLOOKUP(AJ29,'Tableau coefficient '!$A$3:$B$1004,2,FALSE) -> 0 | AL29: 0 | AM29: 0 | AN29: =(AL29&AM29) -> 00 | AO29: =VLOOKUP(AN29,'Tableau coefficient '!$A$3:$B$1004,2,FALSE) -> 0 | AP29: 0 | AQ29: 0 | AR29: =(AP29&AQ29) -> 00 | AS29: =VLOOKUP(AR29,'Tableau coefficient '!$A$3:$B$1004,2,FALSE) -> 0 | AT29: 0 | AU29: 0 | AV29: =(AT29&AU29) -> 00 | AW29: =VLOOKUP(AV29,'Tableau coefficient '!$A$3:$B$1004,2,FALSE) -> 0 | AX29: 0 | AY29: 0 | AZ29: =(AX29&AY29) -> 00 | BA29: =VLOOKUP(AZ29,'Tableau coefficient '!$A$3:$B$1004,2,FALSE) -> 0 | BB29: 0 | BC29: 0 | BD29: =(BB29&BC29) -> 00 | BE29: =(VLOOKUP(BD29,'Tableau coefficient '!$A$3:$B$1004,2,FALSE))*2 -> 0 | BF29: 0 | BG29: 0 | BH29: =(BF29&BG29) -> 00 | BI29: =VLOOKUP(BH29,'Tableau coefficient '!$A$3:$B$1004,2,FALSE) -> 0 | BJ29: 0 | BK29: 0 | BL29: =(BJ29&BK29) -> 00 | BM29: =VLOOKUP(BL29,'Tableau coefficient '!$A$3:$B$1004,2,FALSE) -> 0 | BN29: =SUM(M29,I29,Q29,U29,Y29,AC29,AG29,AO29,AS29,BA29,BE29,BI29,BM29) -> 0 | BO29: =RANK(BN29,$BN$4:$BN$446,0) -> 303
A30: SERRE | B30: Mirco | C30: M | D30: PO 1 | E30: AS TAMARII PUNARUU TRIATHLON | F30: J | G30: 4 | H30: =(F30&G30) -> J4 | I30: =VLOOKUP(H30,'Tableau coefficient '!$A$3:$B$1004,2,FALSE) -> 100 | J30: J | K30: 8 | L30: =(J30&K30) -> J8 | M30: =VLOOKUP(L30,'Tableau coefficient '!$A$3:$B$1004,2,FALSE) -> 80 | N30: 0 | O30: 0 | P30: =(N30&O30) -> 00 | Q30: =VLOOKUP(P30,'Tableau coefficient '!$A$3:$B$1004,2,FALSE) -> 0 | R30: J | S30: 5 | T30: =(R30&S30) -> J5 | U30: =VLOOKUP(T30,'Tableau coefficient '!$A$3:$B$1004,2,FALSE) -> 95 | V30: J | W30: 5 | X30: =(V30&W30) -> J5 | Y30: =(VLOOKUP(X30,'Tableau coefficient '!$A$3:$B$1004,2,FALSE))*2 -> 190 | Z30: 0 | AA30: 0 | AB30: =(Z30&AA30) -> 00 | AC30: =(VLOOKUP(AB30,'Tableau coefficient '!$A$3:$B$1004,2,FALSE))*2 -> 0 | AD30: J | AE30: 6 | AF30: =(AD30&AE30) -> J6 | AG30: =VLOOKUP(AF30,'Tableau coefficient '!$A$3:$B$1004,2,FALSE) -> 90 | AH30: 0 | AI30: 0 | AJ30: =(AH30&AI30) -> 00 | AK30: =VLOOKUP(AJ30,'Tableau coefficient '!$A$3:$B$1004,2,FALSE) -> 0 | AL30: 0 | AM30: 0 | AN30: =(AL30&AM30) -> 00 | AO30: =VLOOKUP(AN30,'Tableau coefficient '!$A$3:$B$1004,2,FALSE) -> 0 | AP30: 0 | AQ30: 0 | AR30: =(AP30&AQ30) -> 00 | AS30: =VLOOKUP(AR30,'Tableau coefficient '!$A$3:$B$1004,2,FALSE) -> 0 | AT30: 0 | AU30: 0 | AV30: =(AT30&AU30) -> 00 | AW30: =VLOOKUP(AV30,'Tableau coefficient '!$A$3:$B$1004,2,FALSE) -> 0 | AX30: 0 | AY30: 0 | AZ30: =(AX30&AY30) -> 00 | BA30: =VLOOKUP(AZ30,'Tableau coefficient '!$A$3:$B$1004,2,FALSE) -> 0 | BB30: J | BC30: 7 | BD30: =(BB30&BC30) -> J7 | BE30: =(VLOOKUP(BD30,'Tableau coefficient '!$A$3:$B$1004,2,FALSE))*2 -> 170 | BF30: 0 | BG30: 0 | BH30: =(BF30&BG30) -> 00 | BI30: =VLOOKUP(BH30,'Tableau coefficient '!$A$3:$B$1004,2,FALSE) -> 0 | BJ30: 0 | BK30: 0 | BL30: =(BJ30&BK30) -> 00 | BM30: =VLOOKUP(BL30,'Tableau coefficient '!$A$3:$B$1004,2,FALSE) -> 0 | BN30: =SUM(M30,I30,Q30,U30,Y30,AC30,AG30,AO30,AS30,BA30,BE30,BI30,BM30) -> 725 | BO30: =RANK(BN30,$BN$4:$BN$446,0) -> 69
A31: TEAE | B31: Manua | C31: M | D31: PO 1 | E31: AS TAMARII PUNARUU TRIATHLON | F31: 0 | G31: 0 | H31: =(F31&G31) -> 00 | I31: =VLOOKUP(H31,'Tableau coefficient '!$A$3:$B$1004,2,FALSE) -> 0 | J31: J | K31: 5 | L31: =(J31&K31) -> J5 | M31: =VLOOKUP(L31,'Tableau coefficient '!$A$3:$B$1004,2,FALSE) -> 95 | N31: J | O31: 4 | P31: =(N31&O31) -> J4 | Q31: =VLOOKUP(P31,'Tableau coefficient '!$A$3:$B$1004,2,FALSE) -> 100 | R31: J | S31: 4 | T31: =(R31&S31) -> J4 | U31: =VLOOKUP(T31,'Tableau coefficient '!$A$3:$B$1004,2,FALSE) -> 100 | V31: 0 | W31: 0 | X31: =(V31&W31) -> 00 | Y31: =(VLOOKUP(X31,'Tableau coefficient '!$A$3:$B$1004,2,FALSE))*2 -> 0 | Z31: 0 | AA31: 0 | AB31: =(Z31&AA31) -> 00 | AC31: =(VLOOKUP(AB31,'Tableau coefficient '!$A$3:$B$1004,2,FALSE))*2 -> 0 | AD31: 0 | AE31: 0 | AF31: =(AD31&AE31) -> 00 | AG31: =VLOOKUP(AF31,'Tableau coefficient '!$A$3:$B$1004,2,FALSE) -> 0 | AH31: 0 | AI31: 0 | AJ31: =(AH31&AI31) -> 00 | AK31: =VLOOKUP(AJ31,'Tableau coefficient '!$A$3:$B$1004,2,FALSE) -> 0 | AL31: 0 | AM31: 0 | AN31: =(AL31&AM31) -> 00 | AO31: =VLOOKUP(AN31,'Tableau coefficient '!$A$3:$B$1004,2,FALSE) -> 0 | AP31: 0 | AQ31: 0 | AR31: =(AP31&AQ31) -> 00 | AS31: =VLOOKUP(AR31,'Tableau coefficient '!$A$3:$B$1004,2,FALSE) -> 0 | AT31: 0 | AU31: 0 | AV31: =(AT31&AU31) -> 00 | AW31: =VLOOKUP(AV31,'Tableau coefficient '!$A$3:$B$1004,2,FALSE) -> 0 | AX31: 0 | AY31: 0 | AZ31: =(AX31&AY31) -> 00 | BA31: =VLOOKUP(AZ31,'Tableau coefficient '!$A$3:$B$1004,2,FALSE) -> 0 | BB31: 0 | BC31: 0 | BD31: =(BB31&BC31) -> 00 | BE31: =(VLOOKUP(BD31,'Tableau coefficient '!$A$3:$B$1004,2,FALSE))*2 -> 0 | BF31: 0 | BG31: 0 | BH31: =(BF31&BG31) -> 00 | BI31: =VLOOKUP(BH31,'Tableau coefficient '!$A$3:$B$1004,2,FALSE) -> 0 | BJ31: 0 | BK31: 0 | BL31: =(BJ31&BK31) -> 00 | BM31: =VLOOKUP(BL31,'Tableau coefficient '!$A$3:$B$1004,2,FALSE) -> 0 | BN31: =SUM(M31,I31,Q31,U31,Y31,AC31,AG31,AO31,AS31,BA31,BE31,BI31,BM31) -> 295 | BO31: =RANK(BN31,$BN$4:$BN$446,0) -> 183
A32: TEURU | B32: Kay | C32: M | D32: PO 2 | E32: AS TAMARII PUNARUU TRIATHLON | F32: 0 | G32: 0 | H32: =(F32&G32) -> 00 | I32: =VLOOKUP(H32,'Tableau coefficient '!$A$3:$B$1004,2,FALSE) -> 0 | J32: 0 | K32: 0 | L32: =(J32&K32) -> 00 | M32: =VLOOKUP(L32,'Tableau coefficient '!$A$3:$B$1004,2,FALSE) -> 0 | N32: J | O32: 12 | P32: =(N32&O32) -> J12 | Q32: =VLOOKUP(P32,'Tableau coefficient '!$A$3:$B$1004,2,FALSE) -> 67.5 | R32: J | S32: 14 | T32: =(R32&S32) -> J14 | U32: =VLOOKUP(T32,'Tableau coefficient '!$A$3:$B$1004,2,FALSE) -> 64.5 | V32: J | W32: 18 | X32: =(V32&W32) -> J18 | Y32: =(VLOOKUP(X32,'Tableau coefficient '!$A$3:$B$1004,2,FALSE))*2 -> 125 | Z32: J | AA32: 12 | AB32: =(Z32&AA32) -> J12 | AC32: =(VLOOKUP(AB32,'Tableau coefficient '!$A$3:$B$1004,2,FALSE))*2 -> 135 | AD32: J | AE32: 17 | AF32: =(AD32&AE32) -> J17 | AG32: =VLOOKUP(AF32,'Tableau coefficient '!$A$3:$B$1004,2,FALSE) -> 63 | AH32: 0 | AI32: 0 | AJ32: =(AH32&AI32) -> 00 | AK32: =VLOOKUP(AJ32,'Tableau coefficient '!$A$3:$B$1004,2,FALSE) -> 0 | AL32: 0 | AM32: 0 | AN32: =(AL32&AM32) -> 00 | AO32: =VLOOKUP(AN32,'Tableau coefficient '!$A$3:$B$1004,2,FALSE) -> 0 | AP32: J | AQ32: 9 | AR32: =(AP32&AQ32) -> J9 | AS32: =VLOOKUP(AR32,'Tableau coefficient '!$A$3:$B$1004,2,FALSE) -> 75 | AT32: 0 | AU32: 0 | AV32: =(AT32&AU32) -> 00 | AW32: =VLOOKUP(AV32,'Tableau coefficient '!$A$3:$B$1004,2,FALSE) -> 0 | AX32: J | AY32: 24 | AZ32: =(AX32&AY32) -> J24 | BA32: =VLOOKUP(AZ32,'Tableau coefficient '!$A$3:$B$1004,2,FALSE) -> 59.5 | BB32: J | BC32: 24 | BD32: =(BB32&BC32) -> J24 | BE32: =(VLOOKUP(BD32,'Tableau coefficient '!$A$3:$B$1004,2,FALSE))*2 -> 119 | BF32: 0 | BG32: 0 | BH32: =(BF32&BG32) -> 00 | BI32: =VLOOKUP(BH32,'Tableau coefficient '!$A$3:$B$1004,2,FALSE) -> 0 | BJ32: 0 | BK32: 0 | BL32: =(BJ32&BK32) -> 00 | BM32: =VLOOKUP(BL32,'Tableau coefficient '!$A$3:$B$1004,2,FALSE) -> 0 | BN32: =SUM(M32,I32,Q32,U32,Y32,AC32,AG32,AO32,AS32,BA32,BE32,BI32,BM32) -> 708.5 | BO32: =RANK(BN32,$BN$4:$BN$446,0) -> 74
A33: VAIRAAROA | B33: Vaihauarii | C33: M | D33: PO 2 | E33: FEI PI TRIATHLON | F33: 0 | G33: 0 | H33: =(F33&G33) -> 00 | I33: =VLOOKUP(H33,'Tableau coefficient '!$A$3:$B$1004,2,FALSE) -> 0 | J33: J | K33: 19 | L33: =(J33&K33) -> J19 | M33: =VLOOKUP(L33,'Tableau coefficient '!$A$3:$B$1004,2,FALSE) -> 62 | N33: 0 | O33: 0 | P33: =(N33&O33) -> 00 | Q33: =VLOOKUP(P33,'Tableau coefficient '!$A$3:$B$1004,2,FALSE) -> 0 | R33: 0 | S33: 0 | T33: =(R33&S33) -> 00 | U33: =VLOOKUP(T33,'Tableau coefficient '!$A$3:$B$1004,2,FALSE) -> 0 | V33: 0 | W33: 0 | X33: =(V33&W33) -> 00 | Y33: =(VLOOKUP(X33,'Tableau coefficient '!$A$3:$B$1004,2,FALSE))*2 -> 0 | Z33: 0 | AA33: 0 | AB33: =(Z33&AA33) -> 00 | AC33: =(VLOOKUP(AB33,'Tableau coefficient '!$A$3:$B$1004,2,FALSE))*2 -> 0 | AD33: 0 | AE33: 0 | AF33: =(AD33&AE33) -> 00 | AG33: =VLOOKUP(AF33,'Tableau coefficient '!$A$3:$B$1004,2,FALSE) -> 0 | AH33: 0 | AI33: 0 | AJ33: =(AH33&AI33) -> 00 | AK33: =VLOOKUP(AJ33,'Tableau coefficient '!$A$3:$B$1004,2,FALSE) -> 0 | AL33: 0 | AM33: 0 | AN33: =(AL33&AM33) -> 00 | AO33: =VLOOKUP(AN33,'Tableau coefficient '!$A$3:$B$1004,2,FALSE) -> 0 | AP33: 0 | AQ33: 0 | AR33: =(AP33&AQ33) -> 00 | AS33: =VLOOKUP(AR33,'Tableau coefficient '!$A$3:$B$1004,2,FALSE) -> 0 | AT33: 0 | AU33: 0 | AV33: =(AT33&AU33) -> 00 | AW33: =VLOOKUP(AV33,'Tableau coefficient '!$A$3:$B$1004,2,FALSE) -> 0 | AX33: 0 | AY33: 0 | AZ33: =(AX33&AY33) -> 00 | BA33: =VLOOKUP(AZ33,'Tableau coefficient '!$A$3:$B$1004,2,FALSE) -> 0 | BB33: 0 | BC33: 0 | BD33: =(BB33&BC33) -> 00 | BE33: =(VLOOKUP(BD33,'Tableau coefficient '!$A$3:$B$1004,2,FALSE))*2 -> 0 | BF33: 0 | BG33: 0 | BH33: =(BF33&BG33) -> 00 | BI33: =VLOOKUP(BH33,'Tableau coefficient '!$A$3:$B$1004,2,FALSE) -> 0 | BJ33: 0 | BK33: 0 | BL33: =(BJ33&BK33) -> 00 | BM33: =VLOOKUP(BL33,'Tableau coefficient '!$A$3:$B$1004,2,FALSE) -> 0 | BN33: =SUM(M33,I33,Q33,U33,Y33,AC33,AG33,AO33,AS33,BA33,BE33,BI33,BM33) -> 62 | BO33: =RANK(BN33,$BN$4:$BN$446,0) -> 291
